Workbook

Sheet Read Me
B4: This spreadsheet produced the results found id Dave Tucek's October 2026 presentation at the FFEW meeting in St. George, Utah.
B6: It has been updated to reflect data through September 2026.
B8: The easiest way to update the analysis for October 2026 data is to create a new spreadsheet containing the
B9: data and formating in columns A through G of the Other Med Projected tab. Update the data for October 2026, leaving the
B10: cell for Other Medical professionals empty if a value is not reported.
B12: Estimate the following regression over the 2023/10 to 2026/9 sample period.
C14: Professional = a1*Other +a2*Dentists+a3*Physcians+a4*Eye
B16: Note that this regression has already been estimated in the Other Med Projected tab starting in cell I10615.
B18: Calculate the October 2026 projection for Other Medical Professionals as
C20: Projected Value for Other = (Professional - a2*Dentists - a3*Physcians -a4*Eye)/a1
B22: If no value for Other Medical Professionals was reported for October 2026, use this projected value.

Sheet Other Med Professional
A1: Consumer Price Index for All Urban Consumers (CPI-U)
A2: Original Data Value | G2: Downloaded 10-14-2026 from: | J2: https://data.bls.gov/PDQWeb/cu
A4: Series Id: | B4: CUUR0000SEMC04
A5: Not Seasonally Adjusted
A6: Series Title: | B6: Services by other medical professionals in U.S. city average, all urban consumers, not seasonally adjusted
A7: Area: | B7: U.S. city average
A8: Item: | B8: Services by other medical professionals
A9: Base Period: | B9: DECEMBER 1986=100
A10: Years: | B10: 1986 to 2026
A12: Series ID | B12: Year | C12: Period | D12: Value
A13: CUUR0000SEMC04 | B13: 1986 | C13: M12 | D13: 100
A14: CUUR0000SEMC04 | B14: 1987 | C14: M01 | D14: 100.5
A15: CUUR0000SEMC04 | B15: 1987 | C15: M02 | D15: 100.7
A16: CUUR0000SEMC04 | B16: 1987 | C16: M03 | D16: 101.5
A17: CUUR0000SEMC04 | B17: 1987 | C17: M04 | D17: 101.7
A18: CUUR0000SEMC04 | B18: 1987 | C18: M05 | D18: 101.9
A19: CUUR0000SEMC04 | B19: 1987 | C19: M06 | D19: 102.2
A20: CUUR0000SEMC04 | B20: 1987 | C20: M07 | D20: 102.4
A21: CUUR0000SEMC04 | B21: 1987 | C21: M08 | D21: 102.7
A22: CUUR0000SEMC04 | B22: 1987 | C22: M09 | D22: 103
A23: CUUR0000SEMC04 | B23: 1987 | C23: M10 | D23: 103.5
A24: CUUR0000SEMC04 | B24: 1987 | C24: M11 | D24: 104.1
... A475: CUUR0000SEMC04 | B475: 2025 | C475: M06 | D475: 267.845
A476: CUUR0000SEMC04 | B476: 2025 | C476: M07 | D476: NA
A477: CUUR0000SEMC04 | B477: 2025 | C477: M08 | D477: NA
A478: CUUR0000SEMC04 | B478: 2025 | C478: M09 | D478: NA
A479: CUUR0000SEMC04 | B479: 2025 | C479: M10 | D479: NA
A480: CUUR0000SEMC04 | B480: 2025 | C480: M11 | D480: NA
A481: CUUR0000SEMC04 | B481: 2025 | C481: M12 | D481: NA
A482: CUUR0000SEMC04 | B482: 2026 | C482: M01 | D482: NA
A483: CUUR0000SEMC04 | B483: 2026 | C483: M02 | D483: NA
A484: CUUR0000SEMC04 | B484: 2026 | C484: M03 | D484: NA
A485: CUUR0000SEMC04 | B485: 2026 | C485: M04 | D485: 278.472
A486: CUUR0000SEMC04 | B486: 2026 | C486: M05 | D486: NA
A487: CUUR0000SEMC04 | B487: 2026 | C487: M06 | D487: 278.741
A488: CUUR0000SEMC04 | B488: 2026 | C488: M07 | D488: NA
A489: CUUR0000SEMC04 | B489: 2026 | C489: M08 | D489: 281.459
A490: CUUR0000SEMC04 | B490: 2026 | C490: M09 | D490: NA
A502: CUUR0000SEMC04 | B502: 2018 | C502: S01 | D502: 236.99
A503: CUUR0000SEMC04 | B503: 2019 | C503: S01 | D503: 238.476
...

Sheet Professional Services
A1: Consumer Price Index for All Urban Consumers (CPI-U)
A2: Original Data Value | G2: Downloaded 10-14-2026 from: | J2: https://data.bls.gov/PDQWeb/cu
A4: Series Id: | B4: CUUR0000SEMC
A5: Not Seasonally Adjusted
A6: Series Title: | B6: Professional services in U.S. city average, all urban consumers, not seasonally adjusted
A7: Area: | B7: U.S. city average
A8: Item: | B8: Professional services
A9: Base Period: | B9: 1982-84=100
A10: Years: | B10: 1967 to 2026
A12: Series ID | B12: Year | C12: Period | D12: Value
A13: CUUR0000SEMC | B13: 1967 | C13: M01 | D13: 30.1 | F13: 1 | G13: =VALUE(RIGHT(C13,2))=F13 -> TRUE
A14: CUUR0000SEMC | B14: 1967 | C14: M02 | D14: 30.3 | F14: 2 | G14: =VALUE(RIGHT(C14,2))=F14 -> TRUE
A15: CUUR0000SEMC | B15: 1967 | C15: M03 | D15: 30.5 | F15: 3 | G15: =VALUE(RIGHT(C15,2))=F15 -> TRUE
A16: CUUR0000SEMC | B16: 1967 | C16: M04 | D16: 30.6 | F16: 4 | G16: =VALUE(RIGHT(C16,2))=F16 -> TRUE
A17: CUUR0000SEMC | B17: 1967 | C17: M05 | D17: 30.7 | F17: 5 | G17: =VALUE(RIGHT(C17,2))=F17 -> TRUE
A18: CUUR0000SEMC | B18: 1967 | C18: M06 | D18: 30.8 | F18: 6 | G18: =VALUE(RIGHT(C18,2))=F18 -> TRUE
A19: CUUR0000SEMC | B19: 1967 | C19: M07 | D19: 31 | F19: 7 | G19: =VALUE(RIGHT(C19,2))=F19 -> TRUE
A20: CUUR0000SEMC | B20: 1967 | C20: M08 | D20: 31.1 | F20: 8 | G20: =VALUE(RIGHT(C20,2))=F20 -> TRUE
A21: CUUR0000SEMC | B21: 1967 | C21: M09 | D21: 31.2 | F21: 9 | G21: =VALUE(RIGHT(C21,2))=F21 -> TRUE
A22: CUUR0000SEMC | B22: 1967 | C22: M10 | D22: 31.4 | F22: 10 | G22: =VALUE(RIGHT(C22,2))=F22 -> TRUE
A23: CUUR0000SEMC | B23: 1967 | C23: M11 | D23: 31.5 | F23: 11 | G23: =VALUE(RIGHT(C23,2))=F23 -> TRUE
A24: CUUR0000SEMC | B24: 1967 | C24: M12 | D24: 31.7 | F24: 12 | G24: =VALUE(RIGHT(C24,2))=F24 -> TRUE
... A717: CUUR0000SEMC | B717: 2025 | C717: M09 | D717: 442.367 | F717: 9 | G717: =VALUE(RIGHT(C717,2))=F717 -> TRUE
A718: CUUR0000SEMC | B718: 2025 | C718: M10 | F718: 10 | G718: =VALUE(RIGHT(C718,2))=F718 -> TRUE
A719: CUUR0000SEMC | B719: 2025 | C719: M11 | D719: 443.599 | F719: 11 | G719: =VALUE(RIGHT(C719,2))=F719 -> TRUE
A720: CUUR0000SEMC | B720: 2025 | C720: M12 | D720: 444.798 | F720: 12 | G720: =VALUE(RIGHT(C720,2))=F720 -> TRUE
A721: CUUR0000SEMC | B721: 2026 | C721: M01 | D721: 448.191 | F721: 1 | G721: =VALUE(RIGHT(C721,2))=F721 -> TRUE
A722: CUUR0000SEMC | B722: 2026 | C722: M02 | D722: 450.994 | F722: 2 | G722: =VALUE(RIGHT(C722,2))=F722 -> TRUE
A723: CUUR0000SEMC | B723: 2026 | C723: M03 | D723: 453.288 | F723: 3 | G723: =VALUE(RIGHT(C723,2))=F723 -> TRUE
A724: CUUR0000SEMC | B724: 2026 | C724: M04 | D724: 454.136 | F724: 4 | G724: =VALUE(RIGHT(C724,2))=F724 -> TRUE
A725: CUUR0000SEMC | B725: 2026 | C725: M05 | D725: 456.401 | F725: 5 | G725: =VALUE(RIGHT(C725,2))=F725 -> TRUE
A726: CUUR0000SEMC | B726: 2026 | C726: M06 | D726: 455.871 | F726: 6 | G726: =VALUE(RIGHT(C726,2))=F726 -> TRUE
A727: CUUR0000SEMC | B727: 2026 | C727: M07 | D727: 457.746 | F727: 7 | G727: =VALUE(RIGHT(C727,2))=F727 -> TRUE
A728: CUUR0000SEMC | B728: 2026 | C728: M08 | D728: 456.993 | F728: 8 | G728: =VALUE(RIGHT(C728,2))=F728 -> TRUE
A729: CUUR0000SEMC | B729: 2026 | C729: M09 | D729: 457.48 | F729: 9 | G729: =VALUE(RIGHT(C729,2))=F729 -> TRUE
A774: CUUR0000SEMC | B774: 1984 | C774: S01 | D774: 105.6
A775: CUUR0000SEMC | B775: 1985 | C775: S01 | D775: 111.9
A776: CUUR0000SEMC | B776: 1986 | C776: S01 | D776: 119.1
A777: CUUR0000SEMC | B777: 1987 | C777: S01 | D777: 126.9
A778: CUUR0000SEMC | B778: 1988 | C778: S01 | D778: 135.5
...

Sheet Dental Services
A1: Consumer Price Index for All Urban Consumers (CPI-U)
A2: Original Data Value | G2: Downloaded 10-14-2026 from: | J2: https://data.bls.gov/PDQWeb/cu
A4: Series Id: | B4: CUUR0000SEMC02
A5: Not Seasonally Adjusted
A6: Series Title: | B6: Dental services in U.S. city average, all urban consumers, not seasonally adjusted
A7: Area: | B7: U.S. city average
A8: Item: | B8: Dental services
A9: Base Period: | B9: 1982-84=100
A10: Years: | B10: 1947 to 2026
A12: Series ID | B12: Year | C12: Period | D12: Value
A13: CUUR0000SEMC02 | B13: 1947 | C13: M03 | D13: 18.5
A14: CUUR0000SEMC02 | B14: 1947 | C14: M06 | D14: 18.7
A15: CUUR0000SEMC02 | B15: 1947 | C15: M09 | D15: 19
A16: CUUR0000SEMC02 | B16: 1947 | C16: M11 | D16: 19.1
A17: CUUR0000SEMC02 | B17: 1947 | C17: M12 | D17: 19.1
A18: CUUR0000SEMC02 | B18: 1948 | C18: M03 | D18: 19.3
A19: CUUR0000SEMC02 | B19: 1948 | C19: M06 | D19: 19.5
A20: CUUR0000SEMC02 | B20: 1948 | C20: M09 | D20: 20.1
A21: CUUR0000SEMC02 | B21: 1948 | C21: M12 | D21: 20.3
A22: CUUR0000SEMC02 | B22: 1949 | C22: M03 | D22: 20.4
A23: CUUR0000SEMC02 | B23: 1949 | C23: M06 | D23: 20.5
A24: CUUR0000SEMC02 | B24: 1949 | C24: M09 | D24: 20.6
... A779: CUUR0000SEMC02 | B779: 2025 | C779: M09 | D779: 622.391
A780: CUUR0000SEMC02 | B780: 2025 | C780: M10
A781: CUUR0000SEMC02 | B781: 2025 | C781: M11 | D781: 625.709
A782: CUUR0000SEMC02 | B782: 2025 | C782: M12 | D782: 628.951
A783: CUUR0000SEMC02 | B783: 2026 | C783: M01 | D783: 634.476
A784: CUUR0000SEMC02 | B784: 2026 | C784: M02 | D784: 642.755
A785: CUUR0000SEMC02 | B785: 2026 | C785: M03 | D785: 646.881
A786: CUUR0000SEMC02 | B786: 2026 | C786: M04 | D786: 645.227
A787: CUUR0000SEMC02 | B787: 2026 | C787: M05 | D787: 657.376
A788: CUUR0000SEMC02 | B788: 2026 | C788: M06 | D788: 657.398
A789: CUUR0000SEMC02 | B789: 2026 | C789: M07 | D789: 660.961
A790: CUUR0000SEMC02 | B790: 2026 | C790: M08 | D790: 656.707
A791: CUUR0000SEMC02 | B791: 2026 | C791: M09 | D791: 659.834

Sheet Eye Glasses and Eye Care
A1: Consumer Price Index for All Urban Consumers (CPI-U)
A2: Original Data Value | G2: Downloaded 10-14-2026 from: | J2: https://data.bls.gov/PDQWeb/cu
A4: Series Id: | B4: CUUR0000SEMC03
A5: Not Seasonally Adjusted
A6: Series Title: | B6: Eyeglasses and eye care in U.S. city average, all urban consumers, not seasonally adjusted
A7: Area: | B7: U.S. city average
A8: Item: | B8: Eyeglasses and eye care
A9: Base Period: | B9: DECEMBER 1986=100
A10: Years: | B10: 1986 to 2026
A12: Series ID | B12: Year | C12: Period | D12: Value
A13: CUUR0000SEMC03 | B13: 1986 | C13: M12 | D13: 100
A14: CUUR0000SEMC03 | B14: 1987 | C14: M01 | D14: 100.4
A15: CUUR0000SEMC03 | B15: 1987 | C15: M02 | D15: 101.4
A16: CUUR0000SEMC03 | B16: 1987 | C16: M03 | D16: 102
A17: CUUR0000SEMC03 | B17: 1987 | C17: M04 | D17: 102.9
A18: CUUR0000SEMC03 | B18: 1987 | C18: M05 | D18: 103.1
A19: CUUR0000SEMC03 | B19: 1987 | C19: M06 | D19: 103.6
A20: CUUR0000SEMC03 | B20: 1987 | C20: M07 | D20: 104.1
A21: CUUR0000SEMC03 | B21: 1987 | C21: M08 | D21: 104.3
A22: CUUR0000SEMC03 | B22: 1987 | C22: M09 | D22: 104.5
A23: CUUR0000SEMC03 | B23: 1987 | C23: M10 | D23: 104.9
A24: CUUR0000SEMC03 | B24: 1987 | C24: M11 | D24: 105
... A478: CUUR0000SEMC03 | B478: 2025 | C478: M09 | D478: 217.854
A479: CUUR0000SEMC03 | B479: 2025 | C479: M10
A480: CUUR0000SEMC03 | B480: 2025 | C480: M11 | D480: 220.222
A481: CUUR0000SEMC03 | B481: 2025 | C481: M12 | D481: 219.842
A482: CUUR0000SEMC03 | B482: 2026 | C482: M01 | D482: 217.541
A483: CUUR0000SEMC03 | B483: 2026 | C483: M02 | D483: 217.789
A484: CUUR0000SEMC03 | B484: 2026 | C484: M03 | D484: 217.973
A485: CUUR0000SEMC03 | B485: 2026 | C485: M04 | D485: 218.999
A486: CUUR0000SEMC03 | B486: 2026 | C486: M05 | D486: 218.984
A487: CUUR0000SEMC03 | B487: 2026 | C487: M06 | D487: 219.07
A488: CUUR0000SEMC03 | B488: 2026 | C488: M07 | D488: 219.722
A489: CUUR0000SEMC03 | B489: 2026 | C489: M08 | D489: 220.071
A490: CUUR0000SEMC03 | B490: 2026 | C490: M09 | D490: 220.148

Sheet Physcian Services
A1: Consumer Price Index for All Urban Consumers (CPI-U)
A2: Original Data Value | G2: Downloaded 10-14-2026 from: | J2: https://data.bls.gov/PDQWeb/cu
A4: Series Id: | B4: CUUR0000SEMC01
A5: Not Seasonally Adjusted
A6: Series Title: | B6: Physicians' services in U.S. city average, all urban consumers, not seasonally adjusted
A7: Area: | B7: U.S. city average
A8: Item: | B8: Physicians' services
A9: Base Period: | B9: 1982-84=100
A10: Years: | B10: 1947 to 2026
A12: Series ID | B12: Year | C12: Period | D12: Value
A13: CUUR0000SEMC01 | B13: 1947 | C13: M03 | D13: 14.5
A14: CUUR0000SEMC01 | B14: 1947 | C14: M06 | D14: 14.5
A15: CUUR0000SEMC01 | B15: 1947 | C15: M09 | D15: 14.7
A16: CUUR0000SEMC01 | B16: 1947 | C16: M11 | D16: 14.8
A17: CUUR0000SEMC01 | B17: 1947 | C17: M12 | D17: 14.8
A18: CUUR0000SEMC01 | B18: 1948 | C18: M03 | D18: 14.9
A19: CUUR0000SEMC01 | B19: 1948 | C19: M06 | D19: 15.3
A20: CUUR0000SEMC01 | B20: 1948 | C20: M09 | D20: 15.3
A21: CUUR0000SEMC01 | B21: 1948 | C21: M12 | D21: 15.4
A22: CUUR0000SEMC01 | B22: 1949 | C22: M03 | D22: 15.4
A23: CUUR0000SEMC01 | B23: 1949 | C23: M06 | D23: 15.5
A24: CUUR0000SEMC01 | B24: 1949 | C24: M09 | D24: 15.5
... A779: CUUR0000SEMC01 | B779: 2025 | C779: M09 | D779: 430.246
A780: CUUR0000SEMC01 | B780: 2025 | C780: M10
A781: CUUR0000SEMC01 | B781: 2025 | C781: M11 | D781: 430.623
A782: CUUR0000SEMC01 | B782: 2025 | C782: M12 | D782: 431.766
A783: CUUR0000SEMC01 | B783: 2026 | C783: M01 | D783: 433.225
A784: CUUR0000SEMC01 | B784: 2026 | C784: M02 | D784: 434.43
A785: CUUR0000SEMC01 | B785: 2026 | C785: M03 | D785: 437.338
A786: CUUR0000SEMC01 | B786: 2026 | C786: M04 | D786: 439.842
A787: CUUR0000SEMC01 | B787: 2026 | C787: M05 | D787: 439.715
A788: CUUR0000SEMC01 | B788: 2026 | C788: M06 | D788: 438.626
A789: CUUR0000SEMC01 | B789: 2026 | C789: M07 | D789: 439.443
A790: CUUR0000SEMC01 | B790: 2026 | C790: M08 | D790: 439.389
A791: CUUR0000SEMC01 | B791: 2026 | C791: M09 | D791: 439.448

Sheet Other Med Projected
D4: Other | W4: Other
C5: Professional | D5: Medical | E5: Dental | F5: Eye Glasses and | G5: Physician | T5: Sample | W5: Medical | X5: Dental | Y5: Eye Glasses and | Z5: Physician | AA5: Sum of
A6: Year | B6: Period | C6: Services | D6: Professionals | E6: Services | F6: Eye Care | G6: Services | T6: Period | U6: R Square | V6: NOB | W6: Professionals | X6: Services | Y6: Eye Care | Z6: Services | AA6: Coefficients
A7: ='Other Med Professional'!B13 -> 1986 | B7: ='Other Med Professional'!C13 -> M12 | C7: ='Professional Services'!D252 -> 124 | D7: ='Other Med Professional'!D13 -> 100 | E7: ='Dental Services'!D314 -> 123.2 | F7: ='Eye Glasses and Eye Care'!D13 -> 100 | G7: ='Physcian Services'!D314 -> 125.5 | I7: 1986/12 to 1989/11 | T7: =I7 -> 1986/12 to 1989/11 | U7: =J12 -> 0.99999995 | V7: =J15 -> 36 | W7: =J25 -> 0.060192386 | X7: =J26 -> 0.27767573 | Y7: =J27 -> 0.15855616 | Z7: =J28 -> 0.54072707 | AA7: =SUM(W7:Z7) -> 1.0371513
A8: ='Other Med Professional'!B14 -> 1987 | B8: ='Other Med Professional'!C14 -> M01 | C8: ='Professional Services'!D253 -> 124.8 | D8: ='Other Med Professional'!D14 -> 100.5 | E8: ='Dental Services'!D315 -> 123.9 | F8: ='Eye Glasses and Eye Care'!D14 -> 100.4 | G8: ='Physcian Services'!D315 -> 126.6 | I8: SUMMARY OUTPUT
A9: ='Other Med Professional'!B15 -> 1987 | B9: ='Other Med Professional'!C15 -> M02 | C9: ='Professional Services'!D254 -> 125.8 | D9: ='Other Med Professional'!D15 -> 100.7 | E9: ='Dental Services'!D316 -> 125.3 | F9: ='Eye Glasses and Eye Care'!D15 -> 101.4 | G9: ='Physcian Services'!D316 -> 127.3
A10: ='Other Med Professional'!B16 -> 1987 | B10: ='Other Med Professional'!C16 -> M03 | C10: ='Professional Services'!D255 -> 126.6 | D10: ='Other Med Professional'!D16 -> 101.5 | E10: ='Dental Services'!D317 -> 126.3 | F10: ='Eye Glasses and Eye Care'!D16 -> 102 | G10: ='Physcian Services'!D317 -> 128.1 | I10: Regression Statistics
A11: ='Other Med Professional'!B17 -> 1987 | B11: ='Other Med Professional'!C17 -> M04 | C11: ='Professional Services'!D256 -> 127.5 | D11: ='Other Med Professional'!D17 -> 101.7 | E11: ='Dental Services'!D318 -> 127.4 | F11: ='Eye Glasses and Eye Care'!D17 -> 102.9 | G11: ='Physcian Services'!D318 -> 128.9 | I11: Multiple R | J11: 0.99999997
A12: ='Other Med Professional'!B18 -> 1987 | B12: ='Other Med Professional'!C18 -> M05 | C12: ='Professional Services'!D257 -> 127.9 | D12: ='Other Med Professional'!D18 -> 101.9 | E12: ='Dental Services'!D319 -> 128 | F12: ='Eye Glasses and Eye Care'!D18 -> 103.1 | G12: ='Physcian Services'!D319 -> 129.3 | I12: R Square | J12: 0.99999995
A13: ='Other Med Professional'!B19 -> 1987 | B13: ='Other Med Professional'!C19 -> M06 | C13: ='Professional Services'!D258 -> 128.8 | D13: ='Other Med Professional'!D19 -> 102.2 | E13: ='Dental Services'!D320 -> 128.7 | F13: ='Eye Glasses and Eye Care'!D19 -> 103.6 | G13: ='Physcian Services'!D320 -> 130.4 | I13: Adjusted R Square | J13: 0.96874994
A14: ='Other Med Professional'!B20 -> 1987 | B14: ='Other Med Professional'!C20 -> M07 | C14: ='Professional Services'!D259 -> 129.5 | D14: ='Other Med Professional'!D20 -> 102.4 | E14: ='Dental Services'!D321 -> 129.5 | F14: ='Eye Glasses and Eye Care'!D20 -> 104.1 | G14: ='Physcian Services'!D321 -> 131 | I14: Standard Error | J14: 0.033839555
A15: ='Other Med Professional'!B21 -> 1987 | B15: ='Other Med Professional'!C21 -> M08 | C15: ='Professional Services'!D260 -> 130 | D15: ='Other Med Professional'!D21 -> 102.7 | E15: ='Dental Services'!D322 -> 130.2 | F15: ='Eye Glasses and Eye Care'!D21 -> 104.3 | G15: ='Physcian Services'!D322 -> 131.5 | I15: Observations | J15: 36
A16: ='Other Med Professional'!B22 -> 1987 | B16: ='Other Med Professional'!C22 -> M09 | C16: ='Professional Services'!D261 -> 130.7 | D16: ='Other Med Professional'!D22 -> 103 | E16: ='Dental Services'!D323 -> 130.7 | F16: ='Eye Glasses and Eye Care'!D22 -> 104.5 | G16: ='Physcian Services'!D323 -> 132.5
A17: ='Other Med Professional'!B23 -> 1987 | B17: ='Other Med Professional'!C23 -> M10 | C17: ='Professional Services'!D262 -> 131.2 | D17: ='Other Med Professional'!D23 -> 103.5 | E17: ='Dental Services'!D324 -> 131.3 | F17: ='Eye Glasses and Eye Care'!D23 -> 104.9 | G17: ='Physcian Services'!D324 -> 132.8 | I17: ANOVA
A18: ='Other Med Professional'!B24 -> 1987 | B18: ='Other Med Professional'!C24 -> M11 | C18: ='Professional Services'!D263 -> 131.5 | D18: ='Other Med Professional'!D24 -> 104.1 | E18: ='Dental Services'!D325 -> 131.8 | F18: ='Eye Glasses and Eye Care'!D24 -> 105 | G18: ='Physcian Services'!D325 -> 133.2 | J18: df | K18: SS | L18: MS | M18: F | N18: Significance F
A19: ='Other Med Professional'!B25 -> 1987 | B19: ='Other Med Professional'!C25 -> M12 | C19: ='Professional Services'!D264 -> 131.8 | D19: ='Other Med Professional'!D25 -> 104.5 | E19: ='Dental Services'!D326 -> 132.1 | F19: ='Eye Glasses and Eye Care'!D25 -> 105.3 | G19: ='Physcian Services'!D326 -> 133.4 | I19: Regression | J19: 4 | K19: 676390.97 | L19: 169097.74 | M19: 1.4766873e+08 | N19: 2.3860945e-112
A20: ='Other Med Professional'!B26 -> 1988 | B20: ='Other Med Professional'!C26 -> M01 | C20: ='Professional Services'!D265 -> 133.2 | D20: ='Other Med Professional'!D26 -> 104.7 | E20: ='Dental Services'!D327 -> 133.5 | F20: ='Eye Glasses and Eye Care'!D26 -> 106.3 | G20: ='Physcian Services'!D327 -> 135 | I20: Residual | J20: 32 | K20: 0.036643694 | L20: 0.0011451155
A21: ='Other Med Professional'!B27 -> 1988 | B21: ='Other Med Professional'!C27 -> M02 | C21: ='Professional Services'!D266 -> 134.5 | D21: ='Other Med Professional'!D27 -> 106.1 | E21: ='Dental Services'!D328 -> 134.5 | F21: ='Eye Glasses and Eye Care'!D27 -> 106.7 | G21: ='Physcian Services'!D328 -> 136.6 | I21: Total | J21: 36 | K21: 676391.01
A22: ='Other Med Professional'!B28 -> 1988 | B22: ='Other Med Professional'!C28 -> M03 | C22: ='Professional Services'!D267 -> 135.4 | D22: ='Other Med Professional'!D28 -> 106.5 | E22: ='Dental Services'!D329 -> 135.5 | F22: ='Eye Glasses and Eye Care'!D28 -> 108 | G22: ='Physcian Services'!D329 -> 137.2
A23: ='Other Med Professional'!B29 -> 1988 | B23: ='Other Med Professional'!C29 -> M04 | C23: ='Professional Services'!D268 -> 136 | D23: ='Other Med Professional'!D29 -> 107.8 | E23: ='Dental Services'!D330 -> 136 | F23: ='Eye Glasses and Eye Care'!D29 -> 108.3 | G23: ='Physcian Services'!D330 -> 137.9 | J23: Coefficients | K23: Standard Error | L23: t Stat | M23: P-value | N23: Lower 95% | O23: Upper 95% | P23: Lower 95.0% | Q23: Upper 95.0%
A24: ='Other Med Professional'!B30 -> 1988 | B24: ='Other Med Professional'!C30 -> M05 | C24: ='Professional Services'!D269 -> 136.4 | D24: ='Other Med Professional'!D30 -> 108.2 | E24: ='Dental Services'!D331 -> 136.4 | F24: ='Eye Glasses and Eye Care'!D30 -> 108.4 | G24: ='Physcian Services'!D331 -> 138.5 | I24: Intercept | J24: 0 | K24: #N/A | L24: #N/A | M24: #N/A | N24: #N/A | O24: #N/A | P24: #N/A | Q24: #N/A
A25: ='Other Med Professional'!B31 -> 1988 | B25: ='Other Med Professional'!C31 -> M06 | C25: ='Professional Services'!D270 -> 137.5 | D25: ='Other Med Professional'!D31 -> 108.6 | E25: ='Dental Services'!D332 -> 137.4 | F25: ='Eye Glasses and Eye Care'!D31 -> 108.7 | G25: ='Physcian Services'!D332 -> 139.8 | I25: Other Med | J25: 0.060192386 | K25: 0.013869125 | L25: 4.3400277 | M25: 0.00013355047 | N25: 0.031941903 | O25: 0.088442869 | P25: 0.031941903 | Q25: 0.088442869
A26: ='Other Med Professional'!B32 -> 1988 | B26: ='Other Med Professional'!C32 -> M07 | C26: ='Professional Services'!D271 -> 138.4 | D26: ='Other Med Professional'!D32 -> 108.8 | E26: ='Dental Services'!D333 -> 138 | F26: ='Eye Glasses and Eye Care'!D32 -> 109.4 | G26: ='Physcian Services'!D333 -> 140.9 | I26: Dental | J26: 0.27767573 | K26: 0.017583995 | L26: 15.791391 | M26: 1.1602954e-16 | N26: 0.24185831 | O26: 0.31349316 | P26: 0.24185831 | Q26: 0.31349316
A27: ='Other Med Professional'!B33 -> 1988 | B27: ='Other Med Professional'!C33 -> M08 | C27: ='Professional Services'!D272 -> 138.7 | D27: ='Other Med Professional'!D33 -> 109.1 | E27: ='Dental Services'!D334 -> 138.4 | F27: ='Eye Glasses and Eye Care'!D33 -> 109.6 | G27: ='Physcian Services'!D334 -> 141.2 | I27: Eye Care | J27: 0.15855616 | K27: 0.011678604 | L27: 13.576637 | M27: 7.9292573e-15 | N27: 0.13476762 | O27: 0.1823447 | P27: 0.13476762 | Q27: 0.1823447
A28: ='Other Med Professional'!B34 -> 1988 | B28: ='Other Med Professional'!C34 -> M09 | C28: ='Professional Services'!D273 -> 139.2 | D28: ='Other Med Professional'!D34 -> 109.3 | E28: ='Dental Services'!D335 -> 139.3 | F28: ='Eye Glasses and Eye Care'!D34 -> 109.1 | G28: ='Physcian Services'!D335 -> 141.7 | I28: Physcians | J28: 0.54072707 | K28: 0.016309604 | L28: 33.153905 | M28: 2.3862538e-26 | N28: 0.50750549 | O28: 0.57394864 | P28: 0.50750549 | Q28: 0.57394864
A29: ='Other Med Professional'!B35 -> 1988 | B29: ='Other Med Professional'!C35 -> M10 | C29: ='Professional Services'!D274 -> 139.8 | D29: ='Other Med Professional'!D35 -> 109.9 | E29: ='Dental Services'!D336 -> 139.9 | F29: ='Eye Glasses and Eye Care'!D35 -> 109.6 | G29: ='Physcian Services'!D336 -> 142.3
A30: ='Other Med Professional'!B36 -> 1988 | B30: ='Other Med Professional'!C36 -> M11 | C30: ='Professional Services'!D275 -> 140.4 | D30: ='Other Med Professional'!D36 -> 110.2 | E30: ='Dental Services'!D337 -> 140.6 | F30: ='Eye Glasses and Eye Care'!D36 -> 110.1 | G30: ='Physcian Services'!D337 -> 142.9
A31: ='Other Med Professional'!B37 -> 1988 | B31: ='Other Med Professional'!C37 -> M12 | C31: ='Professional Services'!D276 -> 140.8 | D31: ='Other Med Professional'!D37 -> 110.3 | E31: ='Dental Services'!D338 -> 140.9 | F31: ='Eye Glasses and Eye Care'!D37 -> 110.3 | G31: ='Physcian Services'!D338 -> 143.4 | I31: 1987/1 to 1989/12 | T31: =I31 -> 1987/1 to 1989/12 | U31: =J36 -> 0.99999995 | V31: =J39 -> 36 | W31: =J49 -> 0.055721477 | X31: =J50 -> 0.29209443 | Y31: =J51 -> 0.15475526 | Z31: =J52 -> 0.5329712 | AA31: =SUM(W31:Z31) -> 1.0355424
A32: ='Other Med Professional'!B38 -> 1989 | B32: ='Other Med Professional'!C38 -> M01 | C32: ='Professional Services'!D277 -> 142.2 | D32: ='Other Med Professional'!D38 -> 111 | E32: ='Dental Services'!D339 -> 141.9 | F32: ='Eye Glasses and Eye Care'!D38 -> 110.9 | G32: ='Physcian Services'!D339 -> 145.3 | I32: SUMMARY OUTPUT
A33: ='Other Med Professional'!B39 -> 1989 | B33: ='Other Med Professional'!C39 -> M02 | C33: ='Professional Services'!D278 -> 143.5 | D33: ='Other Med Professional'!D39 -> 111.8 | E33: ='Dental Services'!D340 -> 143 | F33: ='Eye Glasses and Eye Care'!D39 -> 110.8 | G33: ='Physcian Services'!D340 -> 147
A34: ='Other Med Professional'!B40 -> 1989 | B34: ='Other Med Professional'!C40 -> M03 | C34: ='Professional Services'!D279 -> 144.4 | D34: ='Other Med Professional'!D40 -> 112.4 | E34: ='Dental Services'!D341 -> 144 | F34: ='Eye Glasses and Eye Care'!D40 -> 111.3 | G34: ='Physcian Services'!D341 -> 148 | I34: Regression Statistics
A35: ='Other Med Professional'!B41 -> 1989 | B35: ='Other Med Professional'!C41 -> M04 | C35: ='Professional Services'!D280 -> 144.9 | D35: ='Other Med Professional'!D41 -> 113 | E35: ='Dental Services'!D342 -> 144.6 | F35: ='Eye Glasses and Eye Care'!D41 -> 111.3 | G35: ='Physcian Services'!D342 -> 148.4 | I35: Multiple R | J35: 0.99999997
A36: ='Other Med Professional'!B42 -> 1989 | B36: ='Other Med Professional'!C42 -> M05 | C36: ='Professional Services'!D281 -> 145.2 | D36: ='Other Med Professional'!D42 -> 113.3 | E36: ='Dental Services'!D343 -> 145.1 | F36: ='Eye Glasses and Eye Care'!D42 -> 111.5 | G36: ='Physcian Services'!D343 -> 148.7 | I36: R Square | J36: 0.99999995
A37: ='Other Med Professional'!B43 -> 1989 | B37: ='Other Med Professional'!C43 -> M06 | C37: ='Professional Services'!D282 -> 146.1 | D37: ='Other Med Professional'!D43 -> 113.9 | E37: ='Dental Services'!D344 -> 146 | F37: ='Eye Glasses and Eye Care'!D43 -> 112.2 | G37: ='Physcian Services'!D344 -> 149.6 | I37: Adjusted R Square | J37: 0.96874994
A38: ='Other Med Professional'!B44 -> 1989 | B38: ='Other Med Professional'!C44 -> M07 | C38: ='Professional Services'!D283 -> 147 | D38: ='Other Med Professional'!D44 -> 115.1 | E38: ='Dental Services'!D345 -> 146.3 | F38: ='Eye Glasses and Eye Care'!D44 -> 112.7 | G38: ='Physcian Services'!D345 -> 150.8 | I38: Standard Error | J38: 0.032987298
A39: ='Other Med Professional'!B45 -> 1989 | B39: ='Other Med Professional'!C45 -> M08 | C39: ='Professional Services'!D284 -> 147.5 | D39: ='Other Med Professional'!D45 -> 115.3 | E39: ='Dental Services'!D346 -> 146.8 | F39: ='Eye Glasses and Eye Care'!D45 -> 112.9 | G39: ='Physcian Services'!D346 -> 151.4 | I39: Observations | J39: 36
A40: ='Other Med Professional'!B46 -> 1989 | B40: ='Other Med Professional'!C46 -> M09 | C40: ='Professional Services'!D285 -> 148 | D40: ='Other Med Professional'!D46 -> 115.5 | E40: ='Dental Services'!D347 -> 147.7 | F40: ='Eye Glasses and Eye Care'!D46 -> 113.2 | G40: ='Physcian Services'!D347 -> 151.9
A41: ='Other Med Professional'!B47 -> 1989 | B41: ='Other Med Professional'!C47 -> M10 | C41: ='Professional Services'!D286 -> 148.6 | D41: ='Other Med Professional'!D47 -> 115.7 | E41: ='Dental Services'!D348 -> 148.2 | F41: ='Eye Glasses and Eye Care'!D47 -> 113.5 | G41: ='Physcian Services'!D348 -> 152.6 | I41: ANOVA
A42: ='Other Med Professional'!B48 -> 1989 | B42: ='Other Med Professional'!C48 -> M11 | C42: ='Professional Services'!D287 -> 149.3 | D42: ='Other Med Professional'!D48 -> 116.5 | E42: ='Dental Services'!D349 -> 149.1 | F42: ='Eye Glasses and Eye Care'!D48 -> 113.9 | G42: ='Physcian Services'!D349 -> 153.2 | J42: df | K42: SS | L42: MS | M42: F | N42: Significance F
A43: ='Other Med Professional'!B49 -> 1989 | B43: ='Other Med Professional'!C49 -> M12 | C43: ='Professional Services'!D288 -> 149.9 | D43: ='Other Med Professional'!D49 -> 116.6 | E43: ='Dental Services'!D350 -> 149.9 | F43: ='Eye Glasses and Eye Care'!D49 -> 114.1 | G43: ='Physcian Services'!D350 -> 153.7 | I43: Regression | J43: 4 | K43: 683484.99 | L43: 170871.25 | M43: 1.5702742e+08 | N43: 9.2053412e-113
...

Sheet Projections
E4: Other | M4: Other
D5: Professional | E5: Medical | F5: Dental | G5: Eye Glasses and | H5: Physician | J5: Sample | M5: Medical | N5: Dental | O5: Eye Glasses and | P5: Physician | Q5: Sum of | R5: Projected
B6: Year | C6: Period | D6: Services | E6: Professionals | F6: Services | G6: Eye Care | H6: Services | J6: Period | K6: R Square | L6: NOB | M6: Professionals | N6: Services | O6: Eye Care | P6: Services | Q6: Coefficients | R6: Value
B7: ='Other Med Projected'!A7 -> 1986 | C7: ='Other Med Projected'!B7 -> M12 | D7: ='Other Med Projected'!C7 -> 124 | E7: ='Other Med Projected'!D7 -> 100 | F7: ='Other Med Projected'!E7 -> 123.2 | G7: ='Other Med Projected'!F7 -> 100 | H7: ='Other Med Projected'!G7 -> 125.5 | J7: ='Other Med Projected'!T7 -> 1986/12 to 1989/11 | K7: ='Other Med Projected'!U7 -> 0.99999995 | L7: ='Other Med Projected'!V7 -> 36 | M7: ='Other Med Projected'!W7 -> 0.060192386 | N7: ='Other Med Projected'!X7 -> 0.27767573 | O7: ='Other Med Projected'!Y7 -> 0.15855616 | P7: ='Other Med Projected'!Z7 -> 0.54072707 | Q7: =SUM(M7:P7) -> 1.0371513
A8: =B8 -> 1987 | B8: ='Other Med Projected'!A8 -> 1987 | C8: ='Other Med Projected'!B8 -> M01 | D8: ='Other Med Projected'!C8 -> 124.8 | E8: ='Other Med Projected'!D8 -> 100.5 | F8: ='Other Med Projected'!E8 -> 123.9 | G8: ='Other Med Projected'!F8 -> 100.4 | H8: ='Other Med Projected'!G8 -> 126.6 | J8: ='Other Med Projected'!T31 -> 1987/1 to 1989/12 | K8: ='Other Med Projected'!U31 -> 0.99999995 | L8: ='Other Med Projected'!V31 -> 36 | M8: ='Other Med Projected'!W31 -> 0.055721477 | N8: ='Other Med Projected'!X31 -> 0.29209443 | O8: ='Other Med Projected'!Y31 -> 0.15475526 | P8: ='Other Med Projected'!Z31 -> 0.5329712 | Q8: =SUM(M8:P8) -> 1.0355424
B9: ='Other Med Projected'!A9 -> 1987 | C9: ='Other Med Projected'!B9 -> M02 | D9: ='Other Med Projected'!C9 -> 125.8 | E9: ='Other Med Projected'!D9 -> 100.7 | F9: ='Other Med Projected'!E9 -> 125.3 | G9: ='Other Med Projected'!F9 -> 101.4 | H9: ='Other Med Projected'!G9 -> 127.3 | J9: ='Other Med Projected'!T55 -> 1987/2 to 1990/1 | K9: ='Other Med Projected'!U55 -> 0.99999995 | L9: ='Other Med Projected'!V55 -> 36 | M9: ='Other Med Projected'!W55 -> 0.056831324 | N9: ='Other Med Projected'!X55 -> 0.29594675 | O9: ='Other Med Projected'!Y55 -> 0.15265245 | P9: ='Other Med Projected'!Z55 -> 0.52995978 | Q9: =SUM(M9:P9) -> 1.0353903
B10: ='Other Med Projected'!A10 -> 1987 | C10: ='Other Med Projected'!B10 -> M03 | D10: ='Other Med Projected'!C10 -> 126.6 | E10: ='Other Med Projected'!D10 -> 101.5 | F10: ='Other Med Projected'!E10 -> 126.3 | G10: ='Other Med Projected'!F10 -> 102 | H10: ='Other Med Projected'!G10 -> 128.1 | J10: ='Other Med Projected'!T79 -> 1987/3 to 1990/2 | K10: ='Other Med Projected'!U79 -> 0.99999995 | L10: ='Other Med Projected'!V79 -> 36 | M10: ='Other Med Projected'!W79 -> 0.049330904 | N10: ='Other Med Projected'!X79 -> 0.30036535 | O10: ='Other Med Projected'!Y79 -> 0.15483702 | P10: ='Other Med Projected'!Z79 -> 0.5297136 | Q10: =SUM(M10:P10) -> 1.0342469
B11: ='Other Med Projected'!A11 -> 1987 | C11: ='Other Med Projected'!B11 -> M04 | D11: ='Other Med Projected'!C11 -> 127.5 | E11: ='Other Med Projected'!D11 -> 101.7 | F11: ='Other Med Projected'!E11 -> 127.4 | G11: ='Other Med Projected'!F11 -> 102.9 | H11: ='Other Med Projected'!G11 -> 128.9 | J11: ='Other Med Projected'!T103 -> 1987/4 to 1990/3 | K11: ='Other Med Projected'!U103 -> 0.99999995 | L11: ='Other Med Projected'!V103 -> 36 | M11: ='Other Med Projected'!W103 -> 0.047231089 | N11: ='Other Med Projected'!X103 -> 0.29962791 | O11: ='Other Med Projected'!Y103 -> 0.15643655 | P11: ='Other Med Projected'!Z103 -> 0.53081977 | Q11: =SUM(M11:P11) -> 1.0341153
B12: ='Other Med Projected'!A12 -> 1987 | C12: ='Other Med Projected'!B12 -> M05 | D12: ='Other Med Projected'!C12 -> 127.9 | E12: ='Other Med Projected'!D12 -> 101.9 | F12: ='Other Med Projected'!E12 -> 128 | G12: ='Other Med Projected'!F12 -> 103.1 | H12: ='Other Med Projected'!G12 -> 129.3 | J12: ='Other Med Projected'!T127 -> 1987/5 to 1990/4 | K12: ='Other Med Projected'!U127 -> 0.99999995 | L12: ='Other Med Projected'!V127 -> 36 | M12: ='Other Med Projected'!W127 -> 0.044270609 | N12: ='Other Med Projected'!X127 -> 0.29773469 | O12: ='Other Med Projected'!Y127 -> 0.15802941 | P12: ='Other Med Projected'!Z127 -> 0.53373557 | Q12: =SUM(M12:P12) -> 1.0337703
B13: ='Other Med Projected'!A13 -> 1987 | C13: ='Other Med Projected'!B13 -> M06 | D13: ='Other Med Projected'!C13 -> 128.8 | E13: ='Other Med Projected'!D13 -> 102.2 | F13: ='Other Med Projected'!E13 -> 128.7 | G13: ='Other Med Projected'!F13 -> 103.6 | H13: ='Other Med Projected'!G13 -> 130.4 | J13: ='Other Med Projected'!T151 -> 1987/6 to 1990/5 | K13: ='Other Med Projected'!U151 -> 0.99999995 | L13: ='Other Med Projected'!V151 -> 36 | M13: ='Other Med Projected'!W151 -> 0.047854813 | N13: ='Other Med Projected'!X151 -> 0.2971466 | O13: ='Other Med Projected'!Y151 -> 0.15678345 | P13: ='Other Med Projected'!Z151 -> 0.53251666 | Q13: =SUM(M13:P13) -> 1.0343015
B14: ='Other Med Projected'!A14 -> 1987 | C14: ='Other Med Projected'!B14 -> M07 | D14: ='Other Med Projected'!C14 -> 129.5 | E14: ='Other Med Projected'!D14 -> 102.4 | F14: ='Other Med Projected'!E14 -> 129.5 | G14: ='Other Med Projected'!F14 -> 104.1 | H14: ='Other Med Projected'!G14 -> 131 | J14: ='Other Med Projected'!T175 -> 1987/7 to 1990/6 | K14: ='Other Med Projected'!U175 -> 0.99999996 | L14: ='Other Med Projected'!V175 -> 36 | M14: ='Other Med Projected'!W175 -> 0.045945864 | N14: ='Other Med Projected'!X175 -> 0.29561804 | O14: ='Other Med Projected'!Y175 -> 0.15829766 | P14: ='Other Med Projected'!Z175 -> 0.53432786 | Q14: =SUM(M14:P14) -> 1.0341894
B15: ='Other Med Projected'!A15 -> 1987 | C15: ='Other Med Projected'!B15 -> M08 | D15: ='Other Med Projected'!C15 -> 130 | E15: ='Other Med Projected'!D15 -> 102.7 | F15: ='Other Med Projected'!E15 -> 130.2 | G15: ='Other Med Projected'!F15 -> 104.3 | H15: ='Other Med Projected'!G15 -> 131.5 | J15: ='Other Med Projected'!T199 -> 1987/8 to 1990/7 | K15: ='Other Med Projected'!U199 -> 0.99999996 | L15: ='Other Med Projected'!V199 -> 36 | M15: ='Other Med Projected'!W199 -> 0.046619324 | N15: ='Other Med Projected'!X199 -> 0.29694988 | O15: ='Other Med Projected'!Y199 -> 0.15667178 | P15: ='Other Med Projected'!Z199 -> 0.53374232 | Q15: =SUM(M15:P15) -> 1.0339833
B16: ='Other Med Projected'!A16 -> 1987 | C16: ='Other Med Projected'!B16 -> M09 | D16: ='Other Med Projected'!C16 -> 130.7 | E16: ='Other Med Projected'!D16 -> 103 | F16: ='Other Med Projected'!E16 -> 130.7 | G16: ='Other Med Projected'!F16 -> 104.5 | H16: ='Other Med Projected'!G16 -> 132.5 | J16: ='Other Med Projected'!T223 -> 1987/9 to 1990/8 | K16: ='Other Med Projected'!U223 -> 0.99999996 | L16: ='Other Med Projected'!V223 -> 36 | M16: ='Other Med Projected'!W223 -> 0.046061489 | N16: ='Other Med Projected'!X223 -> 0.29515312 | O16: ='Other Med Projected'!Y223 -> 0.15703455 | P16: ='Other Med Projected'!Z223 -> 0.53564926 | Q16: =SUM(M16:P16) -> 1.0338984
B17: ='Other Med Projected'!A17 -> 1987 | C17: ='Other Med Projected'!B17 -> M10 | D17: ='Other Med Projected'!C17 -> 131.2 | E17: ='Other Med Projected'!D17 -> 103.5 | F17: ='Other Med Projected'!E17 -> 131.3 | G17: ='Other Med Projected'!F17 -> 104.9 | H17: ='Other Med Projected'!G17 -> 132.8 | J17: ='Other Med Projected'!T247 -> 1987/10 to 1990/9 | K17: ='Other Med Projected'!U247 -> 0.99999996 | L17: ='Other Med Projected'!V247 -> 36 | M17: ='Other Med Projected'!W247 -> 0.048398317 | N17: ='Other Med Projected'!X247 -> 0.29601121 | O17: ='Other Med Projected'!Y247 -> 0.15578108 | P17: ='Other Med Projected'!Z247 -> 0.53397157 | Q17: =SUM(M17:P17) -> 1.0341622
B18: ='Other Med Projected'!A18 -> 1987 | C18: ='Other Med Projected'!B18 -> M11 | D18: ='Other Med Projected'!C18 -> 131.5 | E18: ='Other Med Projected'!D18 -> 104.1 | F18: ='Other Med Projected'!E18 -> 131.8 | G18: ='Other Med Projected'!F18 -> 105 | H18: ='Other Med Projected'!G18 -> 133.2 | J18: ='Other Med Projected'!T271 -> 1987/11 to 1990/10 | K18: ='Other Med Projected'!U271 -> 0.99999997 | L18: ='Other Med Projected'!V271 -> 36 | M18: ='Other Med Projected'!W271 -> 0.054286123 | N18: ='Other Med Projected'!X271 -> 0.29329579 | O18: ='Other Med Projected'!Y271 -> 0.15250356 | P18: ='Other Med Projected'!Z271 -> 0.53459077 | Q18: =SUM(M18:P18) -> 1.0346762
B19: ='Other Med Projected'!A19 -> 1987 | C19: ='Other Med Projected'!B19 -> M12 | D19: ='Other Med Projected'!C19 -> 131.8 | E19: ='Other Med Projected'!D19 -> 104.5 | F19: ='Other Med Projected'!E19 -> 132.1 | G19: ='Other Med Projected'!F19 -> 105.3 | H19: ='Other Med Projected'!G19 -> 133.4 | J19: ='Other Med Projected'!T295 -> 1987/12 to 1990/11 | K19: ='Other Med Projected'!U295 -> 0.99999997 | L19: ='Other Med Projected'!V295 -> 36 | M19: ='Other Med Projected'!W295 -> 0.052551534 | N19: ='Other Med Projected'!X295 -> 0.29696281 | O19: ='Other Med Projected'!Y295 -> 0.15251545 | P19: ='Other Med Projected'!Z295 -> 0.53233293 | Q19: =SUM(M19:P19) -> 1.0343627
A20: =B20 -> 1988 | B20: ='Other Med Projected'!A20 -> 1988 | C20: ='Other Med Projected'!B20 -> M01 | D20: ='Other Med Projected'!C20 -> 133.2 | E20: ='Other Med Projected'!D20 -> 104.7 | F20: ='Other Med Projected'!E20 -> 133.5 | G20: ='Other Med Projected'!F20 -> 106.3 | H20: ='Other Med Projected'!G20 -> 135 | J20: ='Other Med Projected'!T319 -> 1988/1 to 1990/12 | K20: ='Other Med Projected'!U319 -> 0.99999997 | L20: ='Other Med Projected'!V319 -> 36 | M20: ='Other Med Projected'!W319 -> 0.051735379 | N20: ='Other Med Projected'!X319 -> 0.29742465 | O20: ='Other Med Projected'!Y319 -> 0.15258616 | P20: ='Other Med Projected'!Z319 -> 0.53245077 | Q20: =SUM(M20:P20) -> 1.034197
B21: ='Other Med Projected'!A21 -> 1988 | C21: ='Other Med Projected'!B21 -> M02 | D21: ='Other Med Projected'!C21 -> 134.5 | E21: ='Other Med Projected'!D21 -> 106.1 | F21: ='Other Med Projected'!E21 -> 134.5 | G21: ='Other Med Projected'!F21 -> 106.7 | H21: ='Other Med Projected'!G21 -> 136.6 | J21: ='Other Med Projected'!T343 -> 1988/2 to 1991/1 | K21: ='Other Med Projected'!U343 -> 0.99999997 | L21: ='Other Med Projected'!V343 -> 36 | M21: ='Other Med Projected'!W343 -> 0.052344474 | N21: ='Other Med Projected'!X343 -> 0.29275135 | O21: ='Other Med Projected'!Y343 -> 0.15460555 | P21: ='Other Med Projected'!Z343 -> 0.53502637 | Q21: =SUM(M21:P21) -> 1.0347277
B22: ='Other Med Projected'!A22 -> 1988 | C22: ='Other Med Projected'!B22 -> M03 | D22: ='Other Med Projected'!C22 -> 135.4 | E22: ='Other Med Projected'!D22 -> 106.5 | F22: ='Other Med Projected'!E22 -> 135.5 | G22: ='Other Med Projected'!F22 -> 108 | H22: ='Other Med Projected'!G22 -> 137.2 | J22: ='Other Med Projected'!T367 -> 1988/3 to 1991/2 | K22: ='Other Med Projected'!U367 -> 0.99999997 | L22: ='Other Med Projected'!V367 -> 36 | M22: ='Other Med Projected'!W367 -> 0.051147621 | N22: ='Other Med Projected'!X367 -> 0.29966861 | O22: ='Other Med Projected'!Y367 -> 0.15297206 | P22: ='Other Med Projected'!Z367 -> 0.53042537 | Q22: =SUM(M22:P22) -> 1.0342137
B23: ='Other Med Projected'!A23 -> 1988 | C23: ='Other Med Projected'!B23 -> M04 | D23: ='Other Med Projected'!C23 -> 136 | E23: ='Other Med Projected'!D23 -> 107.8 | F23: ='Other Med Projected'!E23 -> 136 | G23: ='Other Med Projected'!F23 -> 108.3 | H23: ='Other Med Projected'!G23 -> 137.9 | J23: ='Other Med Projected'!T391 -> 1988/4 to 1991/3 | K23: ='Other Med Projected'!U391 -> 0.99999997 | L23: ='Other Med Projected'!V391 -> 36 | M23: ='Other Med Projected'!W391 -> 0.059299886 | N23: ='Other Med Projected'!X391 -> 0.29571149 | O23: ='Other Med Projected'!Y391 -> 0.148207 | P23: ='Other Med Projected'!Z391 -> 0.53164634 | Q23: =SUM(M23:P23) -> 1.0348647
B24: ='Other Med Projected'!A24 -> 1988 | C24: ='Other Med Projected'!B24 -> M05 | D24: ='Other Med Projected'!C24 -> 136.4 | E24: ='Other Med Projected'!D24 -> 108.2 | F24: ='Other Med Projected'!E24 -> 136.4 | G24: ='Other Med Projected'!F24 -> 108.4 | H24: ='Other Med Projected'!G24 -> 138.5 | J24: ='Other Med Projected'!T415 -> 1988/5 to 1991/4 | K24: ='Other Med Projected'!U415 -> 0.99999997 | L24: ='Other Med Projected'!V415 -> 36 | M24: ='Other Med Projected'!W415 -> 0.058984696 | N24: ='Other Med Projected'!X415 -> 0.29459891 | O24: ='Other Med Projected'!Y415 -> 0.14814672 | P24: ='Other Med Projected'!Z415 -> 0.53300785 | Q24: =SUM(M24:P24) -> 1.0347382
B25: ='Other Med Projected'!A25 -> 1988 | C25: ='Other Med Projected'!B25 -> M06 | D25: ='Other Med Projected'!C25 -> 137.5 | E25: ='Other Med Projected'!D25 -> 108.6 | F25: ='Other Med Projected'!E25 -> 137.4 | G25: ='Other Med Projected'!F25 -> 108.7 | H25: ='Other Med Projected'!G25 -> 139.8 | J25: ='Other Med Projected'!T439 -> 1988/6 to 1991/5 | K25: ='Other Med Projected'!U439 -> 0.99999998 | L25: ='Other Med Projected'!V439 -> 36 | M25: ='Other Med Projected'!W439 -> 0.05915691 | N25: ='Other Med Projected'!X439 -> 0.29302939 | O25: ='Other Med Projected'!Y439 -> 0.1495938 | P25: ='Other Med Projected'!Z439 -> 0.53333619 | Q25: =SUM(M25:P25) -> 1.0351163
B26: ='Other Med Projected'!A26 -> 1988 | C26: ='Other Med Projected'!B26 -> M07 | D26: ='Other Med Projected'!C26 -> 138.4 | E26: ='Other Med Projected'!D26 -> 108.8 | F26: ='Other Med Projected'!E26 -> 138 | G26: ='Other Med Projected'!F26 -> 109.4 | H26: ='Other Med Projected'!G26 -> 140.9 | J26: ='Other Med Projected'!T463 -> 1988/7 to 1991/6 | K26: ='Other Med Projected'!U463 -> 0.99999997 | L26: ='Other Med Projected'!V463 -> 36 | M26: ='Other Med Projected'!W463 -> 0.058757734 | N26: ='Other Med Projected'!X463 -> 0.29763184 | O26: ='Other Med Projected'!Y463 -> 0.14876653 | P26: ='Other Med Projected'!Z463 -> 0.5297777 | Q26: =SUM(M26:P26) -> 1.0349338
B27: ='Other Med Projected'!A27 -> 1988 | C27: ='Other Med Projected'!B27 -> M08 | D27: ='Other Med Projected'!C27 -> 138.7 | E27: ='Other Med Projected'!D27 -> 109.1 | F27: ='Other Med Projected'!E27 -> 138.4 | G27: ='Other Med Projected'!F27 -> 109.6 | H27: ='Other Med Projected'!G27 -> 141.2 | J27: ='Other Med Projected'!T487 -> 1988/8 to 1991/7 | K27: ='Other Med Projected'!U487 -> 0.99999997 | L27: ='Other Med Projected'!V487 -> 36 | M27: ='Other Med Projected'!W487 -> 0.060219946 | N27: ='Other Med Projected'!X487 -> 0.29626007 | O27: ='Other Med Projected'!Y487 -> 0.14799067 | P27: ='Other Med Projected'!Z487 -> 0.53057966 | Q27: =SUM(M27:P27) -> 1.0350503
B28: ='Other Med Projected'!A28 -> 1988 | C28: ='Other Med Projected'!B28 -> M09 | D28: ='Other Med Projected'!C28 -> 139.2 | E28: ='Other Med Projected'!D28 -> 109.3 | F28: ='Other Med Projected'!E28 -> 139.3 | G28: ='Other Med Projected'!F28 -> 109.1 | H28: ='Other Med Projected'!G28 -> 141.7 | J28: ='Other Med Projected'!T511 -> 1988/9 to 1991/8 | K28: ='Other Med Projected'!U511 -> 0.99999997 | L28: ='Other Med Projected'!V511 -> 36 | M28: ='Other Med Projected'!W511 -> 0.057968828 | N28: ='Other Med Projected'!X511 -> 0.30196297 | O28: ='Other Med Projected'!Y511 -> 0.14809082 | P28: ='Other Med Projected'!Z511 -> 0.52665968 | Q28: =SUM(M28:P28) -> 1.0346823
B29: ='Other Med Projected'!A29 -> 1988 | C29: ='Other Med Projected'!B29 -> M10 | D29: ='Other Med Projected'!C29 -> 139.8 | E29: ='Other Med Projected'!D29 -> 109.9 | F29: ='Other Med Projected'!E29 -> 139.9 | G29: ='Other Med Projected'!F29 -> 109.6 | H29: ='Other Med Projected'!G29 -> 142.3 | J29: ='Other Med Projected'!T535 -> 1988/10 to 1991/9 | K29: ='Other Med Projected'!U535 -> 0.99999997 | L29: ='Other Med Projected'!V535 -> 36 | M29: ='Other Med Projected'!W535 -> 0.058513489 | N29: ='Other Med Projected'!X535 -> 0.30163708 | O29: ='Other Med Projected'!Y535 -> 0.14738259 | P29: ='Other Med Projected'!Z535 -> 0.52708594 | Q29: =SUM(M29:P29) -> 1.0346191
B30: ='Other Med Projected'!A30 -> 1988 | C30: ='Other Med Projected'!B30 -> M11 | D30: ='Other Med Projected'!C30 -> 140.4 | E30: ='Other Med Projected'!D30 -> 110.2 | F30: ='Other Med Projected'!E30 -> 140.6 | G30: ='Other Med Projected'!F30 -> 110.1 | H30: ='Other Med Projected'!G30 -> 142.9 | J30: ='Other Med Projected'!T559 -> 1988/11 to 1991/10 | K30: ='Other Med Projected'!U559 -> 0.99999997 | L30: ='Other Med Projected'!V559 -> 36 | M30: ='Other Med Projected'!W559 -> 0.05960557 | N30: ='Other Med Projected'!X559 -> 0.30007091 | O30: ='Other Med Projected'!Y559 -> 0.14665526 | P30: ='Other Med Projected'!Z559 -> 0.52831957 | Q30: =SUM(M30:P30) -> 1.0346513
B31: ='Other Med Projected'!A31 -> 1988 | C31: ='Other Med Projected'!B31 -> M12 | D31: ='Other Med Projected'!C31 -> 140.8 | E31: ='Other Med Projected'!D31 -> 110.3 | F31: ='Other Med Projected'!E31 -> 140.9 | G31: ='Other Med Projected'!F31 -> 110.3 | H31: ='Other Med Projected'!G31 -> 143.4 | J31: ='Other Med Projected'!T583 -> 1988/12 to 1991/11 | K31: ='Other Med Projected'!U583 -> 0.99999997 | L31: ='Other Med Projected'!V583 -> 36 | M31: ='Other Med Projected'!W583 -> 0.06146209 | N31: ='Other Med Projected'!X583 -> 0.30277521 | O31: ='Other Med Projected'!Y583 -> 0.14524286 | P31: ='Other Med Projected'!Z583 -> 0.52533371 | Q31: =SUM(M31:P31) -> 1.0348139
A32: =B32 -> 1989 | B32: ='Other Med Projected'!A32 -> 1989 | C32: ='Other Med Projected'!B32 -> M01 | D32: ='Other Med Projected'!C32 -> 142.2 | E32: ='Other Med Projected'!D32 -> 111 | F32: ='Other Med Projected'!E32 -> 141.9 | G32: ='Other Med Projected'!F32 -> 110.9 | H32: ='Other Med Projected'!G32 -> 145.3 | J32: ='Other Med Projected'!T607 -> 1989/1 to 1991/12 | K32: ='Other Med Projected'!U607 -> 0.99999997 | L32: ='Other Med Projected'!V607 -> 36 | M32: ='Other Med Projected'!W607 -> 0.062472058 | N32: ='Other Med Projected'!X607 -> 0.30349739 | O32: ='Other Med Projected'!Y607 -> 0.1441676 | P32: ='Other Med Projected'!Z607 -> 0.5246614 | Q32: =SUM(M32:P32) -> 1.0347984
B33: ='Other Med Projected'!A33 -> 1989 | C33: ='Other Med Projected'!B33 -> M02 | D33: ='Other Med Projected'!C33 -> 143.5 | E33: ='Other Med Projected'!D33 -> 111.8 | F33: ='Other Med Projected'!E33 -> 143 | G33: ='Other Med Projected'!F33 -> 110.8 | H33: ='Other Med Projected'!G33 -> 147 | J33: ='Other Med Projected'!T631 -> 1989/2 to 1992/1 | K33: ='Other Med Projected'!U631 -> 0.99999997 | L33: ='Other Med Projected'!V631 -> 36 | M33: ='Other Med Projected'!W631 -> 0.055710121 | N33: ='Other Med Projected'!X631 -> 0.30685681 | O33: ='Other Med Projected'!Y631 -> 0.14936251 | P33: ='Other Med Projected'!Z631 -> 0.52267109 | Q33: =SUM(M33:P33) -> 1.0346005
B34: ='Other Med Projected'!A34 -> 1989 | C34: ='Other Med Projected'!B34 -> M03 | D34: ='Other Med Projected'!C34 -> 144.4 | E34: ='Other Med Projected'!D34 -> 112.4 | F34: ='Other Med Projected'!E34 -> 144 | G34: ='Other Med Projected'!F34 -> 111.3 | H34: ='Other Med Projected'!G34 -> 148 | J34: ='Other Med Projected'!T655 -> 1989/3 to 1992/2 | K34: ='Other Med Projected'!U655 -> 0.99999997 | L34: ='Other Med Projected'!V655 -> 36 | M34: ='Other Med Projected'!W655 -> 0.059080226 | N34: ='Other Med Projected'!X655 -> 0.30573781 | O34: ='Other Med Projected'!Y655 -> 0.14711901 | P34: ='Other Med Projected'!Z655 -> 0.52286895 | Q34: =SUM(M34:P34) -> 1.034806
B35: ='Other Med Projected'!A35 -> 1989 | C35: ='Other Med Projected'!B35 -> M04 | D35: ='Other Med Projected'!C35 -> 144.9 | E35: ='Other Med Projected'!D35 -> 113 | F35: ='Other Med Projected'!E35 -> 144.6 | G35: ='Other Med Projected'!F35 -> 111.3 | H35: ='Other Med Projected'!G35 -> 148.4 | J35: ='Other Med Projected'!T679 -> 1989/4 to 1992/3 | K35: ='Other Med Projected'!U679 -> 0.99999997 | L35: ='Other Med Projected'!V679 -> 36 | M35: ='Other Med Projected'!W679 -> 0.062416447 | N35: ='Other Med Projected'!X679 -> 0.30601751 | O35: ='Other Med Projected'!Y679 -> 0.14722629 | P35: ='Other Med Projected'!Z679 -> 0.52001635 | Q35: =SUM(M35:P35) -> 1.0356766
B36: ='Other Med Projected'!A36 -> 1989 | C36: ='Other Med Projected'!B36 -> M05 | D36: ='Other Med Projected'!C36 -> 145.2 | E36: ='Other Med Projected'!D36 -> 113.3 | F36: ='Other Med Projected'!E36 -> 145.1 | G36: ='Other Med Projected'!F36 -> 111.5 | H36: ='Other Med Projected'!G36 -> 148.7 | J36: ='Other Med Projected'!T703 -> 1989/5 to 1992/4 | K36: ='Other Med Projected'!U703 -> 0.99999997 | L36: ='Other Med Projected'!V703 -> 36 | M36: ='Other Med Projected'!W703 -> 0.065782999 | N36: ='Other Med Projected'!X703 -> 0.30413799 | O36: ='Other Med Projected'!Y703 -> 0.14378282 | P36: ='Other Med Projected'!Z703 -> 0.52182573 | Q36: =SUM(M36:P36) -> 1.0355295
B37: ='Other Med Projected'!A37 -> 1989 | C37: ='Other Med Projected'!B37 -> M06 | D37: ='Other Med Projected'!C37 -> 146.1 | E37: ='Other Med Projected'!D37 -> 113.9 | F37: ='Other Med Projected'!E37 -> 146 | G37: ='Other Med Projected'!F37 -> 112.2 | H37: ='Other Med Projected'!G37 -> 149.6 | J37: ='Other Med Projected'!T727 -> 1989/6 to 1992/5 | K37: ='Other Med Projected'!U727 -> 0.99999997 | L37: ='Other Med Projected'!V727 -> 36 | M37: ='Other Med Projected'!W727 -> 0.066183467 | N37: ='Other Med Projected'!X727 -> 0.30501355 | O37: ='Other Med Projected'!Y727 -> 0.14496499 | P37: ='Other Med Projected'!Z727 -> 0.51981231 | Q37: =SUM(M37:P37) -> 1.0359743
B38: ='Other Med Projected'!A38 -> 1989 | C38: ='Other Med Projected'!B38 -> M07 | D38: ='Other Med Projected'!C38 -> 147 | E38: ='Other Med Projected'!D38 -> 115.1 | F38: ='Other Med Projected'!E38 -> 146.3 | G38: ='Other Med Projected'!F38 -> 112.7 | H38: ='Other Med Projected'!G38 -> 150.8 | J38: ='Other Med Projected'!T751 -> 1989/7 to 1992/6 | K38: ='Other Med Projected'!U751 -> 0.99999997 | L38: ='Other Med Projected'!V751 -> 36 | M38: ='Other Med Projected'!W751 -> 0.066249487 | N38: ='Other Med Projected'!X751 -> 0.30495817 | O38: ='Other Med Projected'!Y751 -> 0.1448736 | P38: ='Other Med Projected'!Z751 -> 0.51988318 | Q38: =SUM(M38:P38) -> 1.0359644
B39: ='Other Med Projected'!A39 -> 1989 | C39: ='Other Med Projected'!B39 -> M08 | D39: ='Other Med Projected'!C39 -> 147.5 | E39: ='Other Med Projected'!D39 -> 115.3 | F39: ='Other Med Projected'!E39 -> 146.8 | G39: ='Other Med Projected'!F39 -> 112.9 | H39: ='Other Med Projected'!G39 -> 151.4 | J39: ='Other Med Projected'!T775 -> 1989/8 to 1992/7 | K39: ='Other Med Projected'!U775 -> 0.99999997 | L39: ='Other Med Projected'!V775 -> 36 | M39: ='Other Med Projected'!W775 -> 0.070764899 | N39: ='Other Med Projected'!X775 -> 0.30315544 | O39: ='Other Med Projected'!Y775 -> 0.1415999 | P39: ='Other Med Projected'!Z775 -> 0.52063215 | Q39: =SUM(M39:P39) -> 1.0361524
B40: ='Other Med Projected'!A40 -> 1989 | C40: ='Other Med Projected'!B40 -> M09 | D40: ='Other Med Projected'!C40 -> 148 | E40: ='Other Med Projected'!D40 -> 115.5 | F40: ='Other Med Projected'!E40 -> 147.7 | G40: ='Other Med Projected'!F40 -> 113.2 | H40: ='Other Med Projected'!G40 -> 151.9 | J40: ='Other Med Projected'!T799 -> 1989/9 to 1992/8 | K40: ='Other Med Projected'!U799 -> 0.99999997 | L40: ='Other Med Projected'!V799 -> 36 | M40: ='Other Med Projected'!W799 -> 0.069283137 | N40: ='Other Med Projected'!X799 -> 0.30319413 | O40: ='Other Med Projected'!Y799 -> 0.141713 | P40: ='Other Med Projected'!Z799 -> 0.52161077 | Q40: =SUM(M40:P40) -> 1.035801
B41: ='Other Med Projected'!A41 -> 1989 | C41: ='Other Med Projected'!B41 -> M10 | D41: ='Other Med Projected'!C41 -> 148.6 | E41: ='Other Med Projected'!D41 -> 115.7 | F41: ='Other Med Projected'!E41 -> 148.2 | G41: ='Other Med Projected'!F41 -> 113.5 | H41: ='Other Med Projected'!G41 -> 152.6 | J41: ='Other Med Projected'!T823 -> 1989/10 to 1992/9 | K41: ='Other Med Projected'!U823 -> 0.99999997 | L41: ='Other Med Projected'!V823 -> 36 | M41: ='Other Med Projected'!W823 -> 0.078497289 | N41: ='Other Med Projected'!X823 -> 0.30135625 | O41: ='Other Med Projected'!Y823 -> 0.13767574 | P41: ='Other Med Projected'!Z823 -> 0.51947136 | Q41: =SUM(M41:P41) -> 1.0370006
B42: ='Other Med Projected'!A42 -> 1989 | C42: ='Other Med Projected'!B42 -> M11 | D42: ='Other Med Projected'!C42 -> 149.3 | E42: ='Other Med Projected'!D42 -> 116.5 | F42: ='Other Med Projected'!E42 -> 149.1 | G42: ='Other Med Projected'!F42 -> 113.9 | H42: ='Other Med Projected'!G42 -> 153.2 | J42: ='Other Med Projected'!T847 -> 1989/11 to 1992/10 | K42: ='Other Med Projected'!U847 -> 0.99999997 | L42: ='Other Med Projected'!V847 -> 36 | M42: ='Other Med Projected'!W847 -> 0.076955367 | N42: ='Other Med Projected'!X847 -> 0.30286582 | O42: ='Other Med Projected'!Y847 -> 0.14101715 | P42: ='Other Med Projected'!Z847 -> 0.51674287 | Q42: =SUM(M42:P42) -> 1.0375812
B43: ='Other Med Projected'!A43 -> 1989 | C43: ='Other Med Projected'!B43 -> M12 | D43: ='Other Med Projected'!C43 -> 149.9 | E43: ='Other Med Projected'!D43 -> 116.6 | F43: ='Other Med Projected'!E43 -> 149.9 | G43: ='Other Med Projected'!F43 -> 114.1 | H43: ='Other Med Projected'!G43 -> 153.7 | J43: ='Other Med Projected'!T871 -> 1989/12 to 1992/11 | K43: ='Other Med Projected'!U871 -> 0.99999998 | L43: ='Other Med Projected'!V871 -> 36 | M43: ='Other Med Projected'!W871 -> 0.072941633 | N43: ='Other Med Projected'!X871 -> 0.30587323 | O43: ='Other Med Projected'!Y871 -> 0.14604034 | P43: ='Other Med Projected'!Z871 -> 0.51318441 | Q43: =SUM(M43:P43) -> 1.0380396 | R43: =(D43-F43*N7-G43*O7-H43*P7)/M7 -> 117.54642 | S43: =E43 -> 116.6 | T43: =(R43-S43)/S43 -> 0.0081167688
...

Sheet Graphs
F5: *** Other Med Professionals ***
B6: Year | C6: Period | D6: Missing | E6: Actual | F6: Combined | G6: Projected
B7: =Projections!B7 -> 1986 | C7: =Projections!C7 -> M12 | D7: 0 | E7: =IF(D7=0,F7," ") -> 100 | F7: =Projections!E7 -> 100
A8: =B8 -> 1987 | B8: =Projections!B8 -> 1987 | C8: =Projections!C8 -> M01 | D8: 0 | E8: =IF(D8=0,F8," ") -> 100.5 | F8: =Projections!E8 -> 100.5
B9: =Projections!B9 -> 1987 | C9: =Projections!C9 -> M02 | D9: 0 | E9: =IF(D9=0,F9," ") -> 100.7 | F9: =Projections!E9 -> 100.7
B10: =Projections!B10 -> 1987 | C10: =Projections!C10 -> M03 | D10: 0 | E10: =IF(D10=0,F10," ") -> 101.5 | F10: =Projections!E10 -> 101.5
B11: =Projections!B11 -> 1987 | C11: =Projections!C11 -> M04 | D11: 0 | E11: =IF(D11=0,F11," ") -> 101.7 | F11: =Projections!E11 -> 101.7
B12: =Projections!B12 -> 1987 | C12: =Projections!C12 -> M05 | D12: 0 | E12: =IF(D12=0,F12," ") -> 101.9 | F12: =Projections!E12 -> 101.9
B13: =Projections!B13 -> 1987 | C13: =Projections!C13 -> M06 | D13: 0 | E13: =IF(D13=0,F13," ") -> 102.2 | F13: =Projections!E13 -> 102.2
B14: =Projections!B14 -> 1987 | C14: =Projections!C14 -> M07 | D14: 0 | E14: =IF(D14=0,F14," ") -> 102.4 | F14: =Projections!E14 -> 102.4
B15: =Projections!B15 -> 1987 | C15: =Projections!C15 -> M08 | D15: 0 | E15: =IF(D15=0,F15," ") -> 102.7 | F15: =Projections!E15 -> 102.7
B16: =Projections!B16 -> 1987 | C16: =Projections!C16 -> M09 | D16: 0 | E16: =IF(D16=0,F16," ") -> 103 | F16: =Projections!E16 -> 103
B17: =Projections!B17 -> 1987 | C17: =Projections!C17 -> M10 | D17: 0 | E17: =IF(D17=0,F17," ") -> 103.5 | F17: =Projections!E17 -> 103.5
B18: =Projections!B18 -> 1987 | C18: =Projections!C18 -> M11 | D18: 0 | E18: =IF(D18=0,F18," ") -> 104.1 | F18: =Projections!E18 -> 104.1
B19: =Projections!B19 -> 1987 | C19: =Projections!C19 -> M12 | D19: 0 | E19: =IF(D19=0,F19," ") -> 104.5 | F19: =Projections!E19 -> 104.5
A20: =B20 -> 1988 | B20: =Projections!B20 -> 1988 | C20: =Projections!C20 -> M01 | D20: 0 | E20: =IF(D20=0,F20," ") -> 104.7 | F20: =Projections!E20 -> 104.7
B21: =Projections!B21 -> 1988 | C21: =Projections!C21 -> M02 | D21: 0 | E21: =IF(D21=0,F21," ") -> 106.1 | F21: =Projections!E21 -> 106.1
B22: =Projections!B22 -> 1988 | C22: =Projections!C22 -> M03 | D22: 0 | E22: =IF(D22=0,F22," ") -> 106.5 | F22: =Projections!E22 -> 106.5
B23: =Projections!B23 -> 1988 | C23: =Projections!C23 -> M04 | D23: 0 | E23: =IF(D23=0,F23," ") -> 107.8 | F23: =Projections!E23 -> 107.8
B24: =Projections!B24 -> 1988 | C24: =Projections!C24 -> M05 | D24: 0 | E24: =IF(D24=0,F24," ") -> 108.2 | F24: =Projections!E24 -> 108.2
B25: =Projections!B25 -> 1988 | C25: =Projections!C25 -> M06 | D25: 0 | E25: =IF(D25=0,F25," ") -> 108.6 | F25: =Projections!E25 -> 108.6
B26: =Projections!B26 -> 1988 | C26: =Projections!C26 -> M07 | D26: 0 | E26: =IF(D26=0,F26," ") -> 108.8 | F26: =Projections!E26 -> 108.8
B27: =Projections!B27 -> 1988 | C27: =Projections!C27 -> M08 | D27: 0 | E27: =IF(D27=0,F27," ") -> 109.1 | F27: =Projections!E27 -> 109.1
B28: =Projections!B28 -> 1988 | C28: =Projections!C28 -> M09 | D28: 0 | E28: =IF(D28=0,F28," ") -> 109.3 | F28: =Projections!E28 -> 109.3
B29: =Projections!B29 -> 1988 | C29: =Projections!C29 -> M10 | D29: 0 | E29: =IF(D29=0,F29," ") -> 109.9 | F29: =Projections!E29 -> 109.9
B30: =Projections!B30 -> 1988 | C30: =Projections!C30 -> M11 | D30: 0 | E30: =IF(D30=0,F30," ") -> 110.2 | F30: =Projections!E30 -> 110.2
B31: =Projections!B31 -> 1988 | C31: =Projections!C31 -> M12 | D31: 0 | E31: =IF(D31=0,F31," ") -> 110.3 | F31: =Projections!E31 -> 110.3
A32: =B32 -> 1989 | B32: =Projections!B32 -> 1989 | C32: =Projections!C32 -> M01 | D32: 0 | E32: =IF(D32=0,F32," ") -> 111 | F32: =Projections!E32 -> 111
B33: =Projections!B33 -> 1989 | C33: =Projections!C33 -> M02 | D33: 0 | E33: =IF(D33=0,F33," ") -> 111.8 | F33: =Projections!E33 -> 111.8
B34: =Projections!B34 -> 1989 | C34: =Projections!C34 -> M03 | D34: 0 | E34: =IF(D34=0,F34," ") -> 112.4 | F34: =Projections!E34 -> 112.4
B35: =Projections!B35 -> 1989 | C35: =Projections!C35 -> M04 | D35: 0 | E35: =IF(D35=0,F35," ") -> 113 | F35: =Projections!E35 -> 113
B36: =Projections!B36 -> 1989 | C36: =Projections!C36 -> M05 | D36: 0 | E36: =IF(D36=0,F36," ") -> 113.3 | F36: =Projections!E36 -> 113.3
B37: =Projections!B37 -> 1989 | C37: =Projections!C37 -> M06 | D37: 0 | E37: =IF(D37=0,F37," ") -> 113.9 | F37: =Projections!E37 -> 113.9
B38: =Projections!B38 -> 1989 | C38: =Projections!C38 -> M07 | D38: 0 | E38: =IF(D38=0,F38," ") -> 115.1 | F38: =Projections!E38 -> 115.1
B39: =Projections!B39 -> 1989 | C39: =Projections!C39 -> M08 | D39: 0 | E39: =IF(D39=0,F39," ") -> 115.3 | F39: =Projections!E39 -> 115.3
B40: =Projections!B40 -> 1989 | C40: =Projections!C40 -> M09 | D40: 0 | E40: =IF(D40=0,F40," ") -> 115.5 | F40: =Projections!E40 -> 115.5
B41: =Projections!B41 -> 1989 | C41: =Projections!C41 -> M10 | D41: 0 | E41: =IF(D41=0,F41," ") -> 115.7 | F41: =Projections!E41 -> 115.7
B42: =Projections!B42 -> 1989 | C42: =Projections!C42 -> M11 | D42: 0 | E42: =IF(D42=0,F42," ") -> 116.5 | F42: =Projections!E42 -> 116.5
B43: =Projections!B43 -> 1989 | C43: =Projections!C43 -> M12 | D43: 0 | E43: =IF(D43=0,F43," ") -> 116.6 | F43: =Projections!E43 -> 116.6 | G43: =Projections!R43 -> 117.54642 | H43: =IF(D43=0,G43," ") -> 117.54642 | I43: =IF(D43=0,G43-E43," ") -> 0.94641524 | J43: =IF(D43=0,I43/E43," ") -> 0.0081167688 | K43: =IF(D43=0,ABS(J43)," ") -> 0.0081167688
A44: =B44 -> 1990 | B44: =Projections!B44 -> 1990 | C44: =Projections!C44 -> M01 | D44: 0 | E44: =IF(D44=0,F44," ") -> 117 | F44: =Projections!E44 -> 117 | G44: =Projections!R44 -> 117.3698 | H44: =IF(D44=0,G44," ") -> 117.3698 | I44: =IF(D44=0,G44-E44," ") -> 0.36980431 | J44: =IF(D44=0,I44/E44," ") -> 0.0031607206 | K44: =IF(D44=0,ABS(J44)," ") -> 0.0031607206
...
