Workbook

Sheet Read Me
B4: This spreadsheet produced the results found id Dave Tucek's October 2026 presentation at the FFEW meeting in St. George, Utah.
B6: It has been updated to reflect data through September 2026.
B8: The easiest way to update the analysis for October 2026 data is to create a new spreadsheet containing the
B9: data and formating in columns A through G of the Other Med Projected tab. Update the data for October 2026, leaving the
B10: cell for Other Medical professionals empty if a value is not reported.
B12: Estimate the following regression over the 2023/10 to 2026/9 sample period.
C14: Professional = a1*Other +a2*Dentists+a3*Physcians+a4*Eye
B16: Note that this regression has already been estimated in the Other Med Projected tab starting in cell I10615.
B18: Calculate the October 2026 projection for Other Medical Professionals as
C20: Projected Value for Other = (Professional - a2*Dentists - a3*Physcians -a4*Eye)/a1
B22: If no value for Other Medical Professionals was reported for October 2026, use this projected value.

Sheet Other Med Professional
A1: Consumer Price Index for All Urban Consumers (CPI-U)
A2: Original Data Value | G2: Downloaded 10-14-2026 from: | J2: https://data.bls.gov/PDQWeb/cu
A4: Series Id: | B4: CUUR0000SEMC04
A5: Not Seasonally Adjusted
A6: Series Title: | B6: Services by other medical professionals in U.S. city average, all urban consumers, not seasonally adjusted
A7: Area: | B7: U.S. city average
A8: Item: | B8: Services by other medical professionals
A9: Base Period: | B9: DECEMBER 1986=100
A10: Years: | B10: 1986 to 2026
A12: Series ID | B12: Year | C12: Period | D12: Value
A13: CUUR0000SEMC04 | B13: 1986 | C13: M12 | D13: 100
A14: CUUR0000SEMC04 | B14: 1987 | C14: M01 | D14: 100.5
A15: CUUR0000SEMC04 | B15: 1987 | C15: M02 | D15: 100.7
A16: CUUR0000SEMC04 | B16: 1987 | C16: M03 | D16: 101.5
A17: CUUR0000SEMC04 | B17: 1987 | C17: M04 | D17: 101.7
A18: CUUR0000SEMC04 | B18: 1987 | C18: M05 | D18: 101.9
A19: CUUR0000SEMC04 | B19: 1987 | C19: M06 | D19: 102.2
A20: CUUR0000SEMC04 | B20: 1987 | C20: M07 | D20: 102.4
A21: CUUR0000SEMC04 | B21: 1987 | C21: M08 | D21: 102.7
A22: CUUR0000SEMC04 | B22: 1987 | C22: M09 | D22: 103
A23: CUUR0000SEMC04 | B23: 1987 | C23: M10 | D23: 103.5
A24: CUUR0000SEMC04 | B24: 1987 | C24: M11 | D24: 104.1
... A475: CUUR0000SEMC04 | B475: 2025 | C475: M06 | D475: 267.845
A476: CUUR0000SEMC04 | B476: 2025 | C476: M07 | D476: NA
A477: CUUR0000SEMC04 | B477: 2025 | C477: M08 | D477: NA
A478: CUUR0000SEMC04 | B478: 2025 | C478: M09 | D478: NA
A479: CUUR0000SEMC04 | B479: 2025 | C479: M10 | D479: NA
A480: CUUR0000SEMC04 | B480: 2025 | C480: M11 | D480: NA
A481: CUUR0000SEMC04 | B481: 2025 | C481: M12 | D481: NA
A482: CUUR0000SEMC04 | B482: 2026 | C482: M01 | D482: NA
A483: CUUR0000SEMC04 | B483: 2026 | C483: M02 | D483: NA
A484: CUUR0000SEMC04 | B484: 2026 | C484: M03 | D484: NA
A485: CUUR0000SEMC04 | B485: 2026 | C485: M04 | D485: 278.472
A486: CUUR0000SEMC04 | B486: 2026 | C486: M05 | D486: NA
A487: CUUR0000SEMC04 | B487: 2026 | C487: M06 | D487: 278.741
A488: CUUR0000SEMC04 | B488: 2026 | C488: M07 | D488: NA
A489: CUUR0000SEMC04 | B489: 2026 | C489: M08 | D489: 281.459
A490: CUUR0000SEMC04 | B490: 2026 | C490: M09 | D490: NA
A502: CUUR0000SEMC04 | B502: 2018 | C502: S01 | D502: 236.99
A503: CUUR0000SEMC04 | B503: 2019 | C503: S01 | D503: 238.476
A504: CUUR0000SEMC04 | B504: 2020 | C504: S01 | D504: 241.1
A505: CUUR0000SEMC04 | B505: 2021 | C505: S01 | D505: 247.278
A506: CUUR0000SEMC04 | B506: 2022 | C506: S01 | D506: 258.125
A507: CUUR0000SEMC04 | B507: 2023 | C507: S01 | D507: 257.939
A508: CUUR0000SEMC04 | B508: 2024 | C508: S01 | D508: 260.413
A509: CUUR0000SEMC04 | B509: 2025 | C509: S01 | D509: 265.342
A510: CUUR0000SEMC04 | B510: 2018 | C510: S02 | D510: 237.721
A511: CUUR0000SEMC04 | B511: 2019 | C511: S02 | D511: 239.932
A512: CUUR0000SEMC04 | B512: 2020 | C512: S02 | D512: 243.112
A513: CUUR0000SEMC04 | B513: 2021 | C513: S02 | D513: 248.618
... A516: CUUR0000SEMC04 | B516: 2024 | C516: S02 | D516: 262.834

Sheet Professional Services
A1: Consumer Price Index for All Urban Consumers (CPI-U)
A2: Original Data Value | G2: Downloaded 10-14-2026 from: | J2: https://data.bls.gov/PDQWeb/cu
A4: Series Id: | B4: CUUR0000SEMC
A5: Not Seasonally Adjusted
A6: Series Title: | B6: Professional services in U.S. city average, all urban consumers, not seasonally adjusted
A7: Area: | B7: U.S. city average
A8: Item: | B8: Professional services
A9: Base Period: | B9: 1982-84=100
A10: Years: | B10: 1967 to 2026
A12: Series ID | B12: Year | C12: Period | D12: Value
A13: CUUR0000SEMC | B13: 1967 | C13: M01 | D13: 30.1 | F13: 1 | G13: =VALUE(RIGHT(C13,2))=F13 -> TRUE
A14: CUUR0000SEMC | B14: 1967 | C14: M02 | D14: 30.3 | F14: 2 | G14: =VALUE(RIGHT(C14,2))=F14 -> TRUE
A15: CUUR0000SEMC | B15: 1967 | C15: M03 | D15: 30.5 | F15: 3 | G15: =VALUE(RIGHT(C15,2))=F15 -> TRUE
A16: CUUR0000SEMC | B16: 1967 | C16: M04 | D16: 30.6 | F16: 4 | G16: =VALUE(RIGHT(C16,2))=F16 -> TRUE
A17: CUUR0000SEMC | B17: 1967 | C17: M05 | D17: 30.7 | F17: 5 | G17: =VALUE(RIGHT(C17,2))=F17 -> TRUE
A18: CUUR0000SEMC | B18: 1967 | C18: M06 | D18: 30.8 | F18: 6 | G18: =VALUE(RIGHT(C18,2))=F18 -> TRUE
A19: CUUR0000SEMC | B19: 1967 | C19: M07 | D19: 31 | F19: 7 | G19: =VALUE(RIGHT(C19,2))=F19 -> TRUE
A20: CUUR0000SEMC | B20: 1967 | C20: M08 | D20: 31.1 | F20: 8 | G20: =VALUE(RIGHT(C20,2))=F20 -> TRUE
A21: CUUR0000SEMC | B21: 1967 | C21: M09 | D21: 31.2 | F21: 9 | G21: =VALUE(RIGHT(C21,2))=F21 -> TRUE
A22: CUUR0000SEMC | B22: 1967 | C22: M10 | D22: 31.4 | F22: 10 | G22: =VALUE(RIGHT(C22,2))=F22 -> TRUE
A23: CUUR0000SEMC | B23: 1967 | C23: M11 | D23: 31.5 | F23: 11 | G23: =VALUE(RIGHT(C23,2))=F23 -> TRUE
A24: CUUR0000SEMC | B24: 1967 | C24: M12 | D24: 31.7 | F24: 12 | G24: =VALUE(RIGHT(C24,2))=F24 -> TRUE
... A717: CUUR0000SEMC | B717: 2025 | C717: M09 | D717: 442.367 | F717: 9 | G717: =VALUE(RIGHT(C717,2))=F717 -> TRUE
A718: CUUR0000SEMC | B718: 2025 | C718: M10 | F718: 10 | G718: =VALUE(RIGHT(C718,2))=F718 -> TRUE
A719: CUUR0000SEMC | B719: 2025 | C719: M11 | D719: 443.599 | F719: 11 | G719: =VALUE(RIGHT(C719,2))=F719 -> TRUE
A720: CUUR0000SEMC | B720: 2025 | C720: M12 | D720: 444.798 | F720: 12 | G720: =VALUE(RIGHT(C720,2))=F720 -> TRUE
A721: CUUR0000SEMC | B721: 2026 | C721: M01 | D721: 448.191 | F721: 1 | G721: =VALUE(RIGHT(C721,2))=F721 -> TRUE
A722: CUUR0000SEMC | B722: 2026 | C722: M02 | D722: 450.994 | F722: 2 | G722: =VALUE(RIGHT(C722,2))=F722 -> TRUE
A723: CUUR0000SEMC | B723: 2026 | C723: M03 | D723: 453.288 | F723: 3 | G723: =VALUE(RIGHT(C723,2))=F723 -> TRUE
A724: CUUR0000SEMC | B724: 2026 | C724: M04 | D724: 454.136 | F724: 4 | G724: =VALUE(RIGHT(C724,2))=F724 -> TRUE
A725: CUUR0000SEMC | B725: 2026 | C725: M05 | D725: 456.401 | F725: 5 | G725: =VALUE(RIGHT(C725,2))=F725 -> TRUE
A726: CUUR0000SEMC | B726: 2026 | C726: M06 | D726: 455.871 | F726: 6 | G726: =VALUE(RIGHT(C726,2))=F726 -> TRUE
A727: CUUR0000SEMC | B727: 2026 | C727: M07 | D727: 457.746 | F727: 7 | G727: =VALUE(RIGHT(C727,2))=F727 -> TRUE
A728: CUUR0000SEMC | B728: 2026 | C728: M08 | D728: 456.993 | F728: 8 | G728: =VALUE(RIGHT(C728,2))=F728 -> TRUE
A729: CUUR0000SEMC | B729: 2026 | C729: M09 | D729: 457.48 | F729: 9 | G729: =VALUE(RIGHT(C729,2))=F729 -> TRUE
A774: CUUR0000SEMC | B774: 1984 | C774: S01 | D774: 105.6
A775: CUUR0000SEMC | B775: 1985 | C775: S01 | D775: 111.9
A776: CUUR0000SEMC | B776: 1986 | C776: S01 | D776: 119.1
A777: CUUR0000SEMC | B777: 1987 | C777: S01 | D777: 126.9
A778: CUUR0000SEMC | B778: 1988 | C778: S01 | D778: 135.5
A779: CUUR0000SEMC | B779: 1989 | C779: S01 | D779: 144.4
A780: CUUR0000SEMC | B780: 1990 | C780: S01 | D780: 153.6
A781: CUUR0000SEMC | B781: 1991 | C781: S01 | D781: 163.4
A782: CUUR0000SEMC | B782: 1992 | C782: S01 | D782: 173.5
A783: CUUR0000SEMC | B783: 1993 | C783: S01 | D783: 182.8
A784: CUUR0000SEMC | B784: 1994 | C784: S01 | D784: 190.6
A785: CUUR0000SEMC | B785: 1995 | C785: S01 | D785: 199.2
... A857: CUUR0000SEMC | B857: 2025 | C857: S02 | D857: 443.247

Sheet Dental Services
A1: Consumer Price Index for All Urban Consumers (CPI-U)
A2: Original Data Value | G2: Downloaded 10-14-2026 from: | J2: https://data.bls.gov/PDQWeb/cu
A4: Series Id: | B4: CUUR0000SEMC02
A5: Not Seasonally Adjusted
A6: Series Title: | B6: Dental services in U.S. city average, all urban consumers, not seasonally adjusted
A7: Area: | B7: U.S. city average
A8: Item: | B8: Dental services
A9: Base Period: | B9: 1982-84=100
A10: Years: | B10: 1947 to 2026
A12: Series ID | B12: Year | C12: Period | D12: Value
A13: CUUR0000SEMC02 | B13: 1947 | C13: M03 | D13: 18.5
A14: CUUR0000SEMC02 | B14: 1947 | C14: M06 | D14: 18.7
A15: CUUR0000SEMC02 | B15: 1947 | C15: M09 | D15: 19
A16: CUUR0000SEMC02 | B16: 1947 | C16: M11 | D16: 19.1
A17: CUUR0000SEMC02 | B17: 1947 | C17: M12 | D17: 19.1
A18: CUUR0000SEMC02 | B18: 1948 | C18: M03 | D18: 19.3
A19: CUUR0000SEMC02 | B19: 1948 | C19: M06 | D19: 19.5
A20: CUUR0000SEMC02 | B20: 1948 | C20: M09 | D20: 20.1
A21: CUUR0000SEMC02 | B21: 1948 | C21: M12 | D21: 20.3
A22: CUUR0000SEMC02 | B22: 1949 | C22: M03 | D22: 20.4
A23: CUUR0000SEMC02 | B23: 1949 | C23: M06 | D23: 20.5
A24: CUUR0000SEMC02 | B24: 1949 | C24: M09 | D24: 20.6
... A779: CUUR0000SEMC02 | B779: 2025 | C779: M09 | D779: 622.391
A780: CUUR0000SEMC02 | B780: 2025 | C780: M10
A781: CUUR0000SEMC02 | B781: 2025 | C781: M11 | D781: 625.709
A782: CUUR0000SEMC02 | B782: 2025 | C782: M12 | D782: 628.951
A783: CUUR0000SEMC02 | B783: 2026 | C783: M01 | D783: 634.476
A784: CUUR0000SEMC02 | B784: 2026 | C784: M02 | D784: 642.755
A785: CUUR0000SEMC02 | B785: 2026 | C785: M03 | D785: 646.881
A786: CUUR0000SEMC02 | B786: 2026 | C786: M04 | D786: 645.227
A787: CUUR0000SEMC02 | B787: 2026 | C787: M05 | D787: 657.376
A788: CUUR0000SEMC02 | B788: 2026 | C788: M06 | D788: 657.398
A789: CUUR0000SEMC02 | B789: 2026 | C789: M07 | D789: 660.961
A790: CUUR0000SEMC02 | B790: 2026 | C790: M08 | D790: 656.707
A791: CUUR0000SEMC02 | B791: 2026 | C791: M09 | D791: 659.834

Sheet Eye Glasses and Eye Care
A1: Consumer Price Index for All Urban Consumers (CPI-U)
A2: Original Data Value | G2: Downloaded 10-14-2026 from: | J2: https://data.bls.gov/PDQWeb/cu
A4: Series Id: | B4: CUUR0000SEMC03
A5: Not Seasonally Adjusted
A6: Series Title: | B6: Eyeglasses and eye care in U.S. city average, all urban consumers, not seasonally adjusted
A7: Area: | B7: U.S. city average
A8: Item: | B8: Eyeglasses and eye care
A9: Base Period: | B9: DECEMBER 1986=100
A10: Years: | B10: 1986 to 2026
A12: Series ID | B12: Year | C12: Period | D12: Value
A13: CUUR0000SEMC03 | B13: 1986 | C13: M12 | D13: 100
A14: CUUR0000SEMC03 | B14: 1987 | C14: M01 | D14: 100.4
A15: CUUR0000SEMC03 | B15: 1987 | C15: M02 | D15: 101.4
A16: CUUR0000SEMC03 | B16: 1987 | C16: M03 | D16: 102
A17: CUUR0000SEMC03 | B17: 1987 | C17: M04 | D17: 102.9
A18: CUUR0000SEMC03 | B18: 1987 | C18: M05 | D18: 103.1
A19: CUUR0000SEMC03 | B19: 1987 | C19: M06 | D19: 103.6
A20: CUUR0000SEMC03 | B20: 1987 | C20: M07 | D20: 104.1
A21: CUUR0000SEMC03 | B21: 1987 | C21: M08 | D21: 104.3
A22: CUUR0000SEMC03 | B22: 1987 | C22: M09 | D22: 104.5
A23: CUUR0000SEMC03 | B23: 1987 | C23: M10 | D23: 104.9
A24: CUUR0000SEMC03 | B24: 1987 | C24: M11 | D24: 105
... A478: CUUR0000SEMC03 | B478: 2025 | C478: M09 | D478: 217.854
A479: CUUR0000SEMC03 | B479: 2025 | C479: M10
A480: CUUR0000SEMC03 | B480: 2025 | C480: M11 | D480: 220.222
A481: CUUR0000SEMC03 | B481: 2025 | C481: M12 | D481: 219.842
A482: CUUR0000SEMC03 | B482: 2026 | C482: M01 | D482: 217.541
A483: CUUR0000SEMC03 | B483: 2026 | C483: M02 | D483: 217.789
A484: CUUR0000SEMC03 | B484: 2026 | C484: M03 | D484: 217.973
A485: CUUR0000SEMC03 | B485: 2026 | C485: M04 | D485: 218.999
A486: CUUR0000SEMC03 | B486: 2026 | C486: M05 | D486: 218.984
A487: CUUR0000SEMC03 | B487: 2026 | C487: M06 | D487: 219.07
A488: CUUR0000SEMC03 | B488: 2026 | C488: M07 | D488: 219.722
A489: CUUR0000SEMC03 | B489: 2026 | C489: M08 | D489: 220.071
A490: CUUR0000SEMC03 | B490: 2026 | C490: M09 | D490: 220.148

Sheet Physcian Services
A1: Consumer Price Index for All Urban Consumers (CPI-U)
A2: Original Data Value | G2: Downloaded 10-14-2026 from: | J2: https://data.bls.gov/PDQWeb/cu
A4: Series Id: | B4: CUUR0000SEMC01
A5: Not Seasonally Adjusted
A6: Series Title: | B6: Physicians' services in U.S. city average, all urban consumers, not seasonally adjusted
A7: Area: | B7: U.S. city average
A8: Item: | B8: Physicians' services
A9: Base Period: | B9: 1982-84=100
A10: Years: | B10: 1947 to 2026
A12: Series ID | B12: Year | C12: Period | D12: Value
A13: CUUR0000SEMC01 | B13: 1947 | C13: M03 | D13: 14.5
A14: CUUR0000SEMC01 | B14: 1947 | C14: M06 | D14: 14.5
A15: CUUR0000SEMC01 | B15: 1947 | C15: M09 | D15: 14.7
A16: CUUR0000SEMC01 | B16: 1947 | C16: M11 | D16: 14.8
A17: CUUR0000SEMC01 | B17: 1947 | C17: M12 | D17: 14.8
A18: CUUR0000SEMC01 | B18: 1948 | C18: M03 | D18: 14.9
A19: CUUR0000SEMC01 | B19: 1948 | C19: M06 | D19: 15.3
A20: CUUR0000SEMC01 | B20: 1948 | C20: M09 | D20: 15.3
A21: CUUR0000SEMC01 | B21: 1948 | C21: M12 | D21: 15.4
A22: CUUR0000SEMC01 | B22: 1949 | C22: M03 | D22: 15.4
A23: CUUR0000SEMC01 | B23: 1949 | C23: M06 | D23: 15.5
A24: CUUR0000SEMC01 | B24: 1949 | C24: M09 | D24: 15.5
... A779: CUUR0000SEMC01 | B779: 2025 | C779: M09 | D779: 430.246
A780: CUUR0000SEMC01 | B780: 2025 | C780: M10
A781: CUUR0000SEMC01 | B781: 2025 | C781: M11 | D781: 430.623
A782: CUUR0000SEMC01 | B782: 2025 | C782: M12 | D782: 431.766
A783: CUUR0000SEMC01 | B783: 2026 | C783: M01 | D783: 433.225
A784: CUUR0000SEMC01 | B784: 2026 | C784: M02 | D784: 434.43
A785: CUUR0000SEMC01 | B785: 2026 | C785: M03 | D785: 437.338
A786: CUUR0000SEMC01 | B786: 2026 | C786: M04 | D786: 439.842
A787: CUUR0000SEMC01 | B787: 2026 | C787: M05 | D787: 439.715
A788: CUUR0000SEMC01 | B788: 2026 | C788: M06 | D788: 438.626
A789: CUUR0000SEMC01 | B789: 2026 | C789: M07 | D789: 439.443
A790: CUUR0000SEMC01 | B790: 2026 | C790: M08 | D790: 439.389
A791: CUUR0000SEMC01 | B791: 2026 | C791: M09 | D791: 439.448

Sheet Other Med Projected
D4: Other | W4: Other
C5: Professional | D5: Medical | E5: Dental | F5: Eye Glasses and | G5: Physician | T5: Sample | W5: Medical | X5: Dental | Y5: Eye Glasses and | Z5: Physician | AA5: Sum of
A6: Year | B6: Period | C6: Services | D6: Professionals | E6: Services | F6: Eye Care | G6: Services | T6: Period | U6: R Square | V6: NOB | W6: Professionals | X6: Services | Y6: Eye Care | Z6: Services | AA6: Coefficients
A7: ='Other Med Professional'!B13 -> 1986 | B7: ='Other Med Professional'!C13 -> M12 | C7: ='Professional Services'!D252 -> 124 | D7: ='Other Med Professional'!D13 -> 100 | E7: ='Dental Services'!D314 -> 123.2 | F7: ='Eye Glasses and Eye Care'!D13 -> 100 | G7: ='Physcian Services'!D314 -> 125.5 | I7: 1986/12 to 1989/11 | T7: =I7 -> 1986/12 to 1989/11 | U7: =J12 -> 0.99999995 | V7: =J15 -> 36 | W7: =J25 -> 0.060192386 | X7: =J26 -> 0.27767573 | Y7: =J27 -> 0.15855616 | Z7: =J28 -> 0.54072707 | AA7: =SUM(W7:Z7) -> 1.0371513
A8: ='Other Med Professional'!B14 -> 1987 | B8: ='Other Med Professional'!C14 -> M01 | C8: ='Professional Services'!D253 -> 124.8 | D8: ='Other Med Professional'!D14 -> 100.5 | E8: ='Dental Services'!D315 -> 123.9 | F8: ='Eye Glasses and Eye Care'!D14 -> 100.4 | G8: ='Physcian Services'!D315 -> 126.6 | I8: SUMMARY OUTPUT
A9: ='Other Med Professional'!B15 -> 1987 | B9: ='Other Med Professional'!C15 -> M02 | C9: ='Professional Services'!D254 -> 125.8 | D9: ='Other Med Professional'!D15 -> 100.7 | E9: ='Dental Services'!D316 -> 125.3 | F9: ='Eye Glasses and Eye Care'!D15 -> 101.4 | G9: ='Physcian Services'!D316 -> 127.3
A10: ='Other Med Professional'!B16 -> 1987 | B10: ='Other Med Professional'!C16 -> M03 | C10: ='Professional Services'!D255 -> 126.6 | D10: ='Other Med Professional'!D16 -> 101.5 | E10: ='Dental Services'!D317 -> 126.3 | F10: ='Eye Glasses and Eye Care'!D16 -> 102 | G10: ='Physcian Services'!D317 -> 128.1 | I10: Regression Statistics
A11: ='Other Med Professional'!B17 -> 1987 | B11: ='Other Med Professional'!C17 -> M04 | C11: ='Professional Services'!D256 -> 127.5 | D11: ='Other Med Professional'!D17 -> 101.7 | E11: ='Dental Services'!D318 -> 127.4 | F11: ='Eye Glasses and Eye Care'!D17 -> 102.9 | G11: ='Physcian Services'!D318 -> 128.9 | I11: Multiple R | J11: 0.99999997
A12: ='Other Med Professional'!B18 -> 1987 | B12: ='Other Med Professional'!C18 -> M05 | C12: ='Professional Services'!D257 -> 127.9 | D12: ='Other Med Professional'!D18 -> 101.9 | E12: ='Dental Services'!D319 -> 128 | F12: ='Eye Glasses and Eye Care'!D18 -> 103.1 | G12: ='Physcian Services'!D319 -> 129.3 | I12: R Square | J12: 0.99999995
A13: ='Other Med Professional'!B19 -> 1987 | B13: ='Other Med Professional'!C19 -> M06 | C13: ='Professional Services'!D258 -> 128.8 | D13: ='Other Med Professional'!D19 -> 102.2 | E13: ='Dental Services'!D320 -> 128.7 | F13: ='Eye Glasses and Eye Care'!D19 -> 103.6 | G13: ='Physcian Services'!D320 -> 130.4 | I13: Adjusted R Square | J13: 0.96874994
A14: ='Other Med Professional'!B20 -> 1987 | B14: ='Other Med Professional'!C20 -> M07 | C14: ='Professional Services'!D259 -> 129.5 | D14: ='Other Med Professional'!D20 -> 102.4 | E14: ='Dental Services'!D321 -> 129.5 | F14: ='Eye Glasses and Eye Care'!D20 -> 104.1 | G14: ='Physcian Services'!D321 -> 131 | I14: Standard Error | J14: 0.033839555
A15: ='Other Med Professional'!B21 -> 1987 | B15: ='Other Med Professional'!C21 -> M08 | C15: ='Professional Services'!D260 -> 130 | D15: ='Other Med Professional'!D21 -> 102.7 | E15: ='Dental Services'!D322 -> 130.2 | F15: ='Eye Glasses and Eye Care'!D21 -> 104.3 | G15: ='Physcian Services'!D322 -> 131.5 | I15: Observations | J15: 36
A16: ='Other Med Professional'!B22 -> 1987 | B16: ='Other Med Professional'!C22 -> M09 | C16: ='Professional Services'!D261 -> 130.7 | D16: ='Other Med Professional'!D22 -> 103 | E16: ='Dental Services'!D323 -> 130.7 | F16: ='Eye Glasses and Eye Care'!D22 -> 104.5 | G16: ='Physcian Services'!D323 -> 132.5
A17: ='Other Med Professional'!B23 -> 1987 | B17: ='Other Med Professional'!C23 -> M10 | C17: ='Professional Services'!D262 -> 131.2 | D17: ='Other Med Professional'!D23 -> 103.5 | E17: ='Dental Services'!D324 -> 131.3 | F17: ='Eye Glasses and Eye Care'!D23 -> 104.9 | G17: ='Physcian Services'!D324 -> 132.8 | I17: ANOVA
A18: ='Other Med Professional'!B24 -> 1987 | B18: ='Other Med Professional'!C24 -> M11 | C18: ='Professional Services'!D263 -> 131.5 | D18: ='Other Med Professional'!D24 -> 104.1 | E18: ='Dental Services'!D325 -> 131.8 | F18: ='Eye Glasses and Eye Care'!D24 -> 105 | G18: ='Physcian Services'!D325 -> 133.2 | J18: df | K18: SS | L18: MS | M18: F | N18: Significance F
A19: ='Other Med Professional'!B25 -> 1987 | B19: ='Other Med Professional'!C25 -> M12 | C19: ='Professional Services'!D264 -> 131.8 | D19: ='Other Med Professional'!D25 -> 104.5 | E19: ='Dental Services'!D326 -> 132.1 | F19: ='Eye Glasses and Eye Care'!D25 -> 105.3 | G19: ='Physcian Services'!D326 -> 133.4 | I19: Regression | J19: 4 | K19: 676390.97 | L19: 169097.74 | M19: 1.4766873e+08 | N19: 2.3860945e-112
A20: ='Other Med Professional'!B26 -> 1988 | B20: ='Other Med Professional'!C26 -> M01 | C20: ='Professional Services'!D265 -> 133.2 | D20: ='Other Med Professional'!D26 -> 104.7 | E20: ='Dental Services'!D327 -> 133.5 | F20: ='Eye Glasses and Eye Care'!D26 -> 106.3 | G20: ='Physcian Services'!D327 -> 135 | I20: Residual | J20: 32 | K20: 0.036643694 | L20: 0.0011451155
A21: ='Other Med Professional'!B27 -> 1988 | B21: ='Other Med Professional'!C27 -> M02 | C21: ='Professional Services'!D266 -> 134.5 | D21: ='Other Med Professional'!D27 -> 106.1 | E21: ='Dental Services'!D328 -> 134.5 | F21: ='Eye Glasses and Eye Care'!D27 -> 106.7 | G21: ='Physcian Services'!D328 -> 136.6 | I21: Total | J21: 36 | K21: 676391.01
A22: ='Other Med Professional'!B28 -> 1988 | B22: ='Other Med Professional'!C28 -> M03 | C22: ='Professional Services'!D267 -> 135.4 | D22: ='Other Med Professional'!D28 -> 106.5 | E22: ='Dental Services'!D329 -> 135.5 | F22: ='Eye Glasses and Eye Care'!D28 -> 108 | G22: ='Physcian Services'!D329 -> 137.2
A23: ='Other Med Professional'!B29 -> 1988 | B23: ='Other Med Professional'!C29 -> M04 | C23: ='Professional Services'!D268 -> 136 | D23: ='Other Med Professional'!D29 -> 107.8 | E23: ='Dental Services'!D330 -> 136 | F23: ='Eye Glasses and Eye Care'!D29 -> 108.3 | G23: ='Physcian Services'!D330 -> 137.9 | J23: Coefficients | K23: Standard Error | L23: t Stat | M23: P-value | N23: Lower 95% | O23: Upper 95% | P23: Lower 95.0% | Q23: Upper 95.0%
A24: ='Other Med Professional'!B30 -> 1988 | B24: ='Other Med Professional'!C30 -> M05 | C24: ='Professional Services'!D269 -> 136.4 | D24: ='Other Med Professional'!D30 -> 108.2 | E24: ='Dental Services'!D331 -> 136.4 | F24: ='Eye Glasses and Eye Care'!D30 -> 108.4 | G24: ='Physcian Services'!D331 -> 138.5 | I24: Intercept | J24: 0 | K24: #N/A | L24: #N/A | M24: #N/A | N24: #N/A | O24: #N/A | P24: #N/A | Q24: #N/A
A25: ='Other Med Professional'!B31 -> 1988 | B25: ='Other Med Professional'!C31 -> M06 | C25: ='Professional Services'!D270 -> 137.5 | D25: ='Other Med Professional'!D31 -> 108.6 | E25: ='Dental Services'!D332 -> 137.4 | F25: ='Eye Glasses and Eye Care'!D31 -> 108.7 | G25: ='Physcian Services'!D332 -> 139.8 | I25: Other Med | J25: 0.060192386 | K25: 0.013869125 | L25: 4.3400277 | M25: 0.00013355047 | N25: 0.031941903 | O25: 0.088442869 | P25: 0.031941903 | Q25: 0.088442869
A26: ='Other Med Professional'!B32 -> 1988 | B26: ='Other Med Professional'!C32 -> M07 | C26: ='Professional Services'!D271 -> 138.4 | D26: ='Other Med Professional'!D32 -> 108.8 | E26: ='Dental Services'!D333 -> 138 | F26: ='Eye Glasses and Eye Care'!D32 -> 109.4 | G26: ='Physcian Services'!D333 -> 140.9 | I26: Dental | J26: 0.27767573 | K26: 0.017583995 | L26: 15.791391 | M26: 1.1602954e-16 | N26: 0.24185831 | O26: 0.31349316 | P26: 0.24185831 | Q26: 0.31349316
A27: ='Other Med Professional'!B33 -> 1988 | B27: ='Other Med Professional'!C33 -> M08 | C27: ='Professional Services'!D272 -> 138.7 | D27: ='Other Med Professional'!D33 -> 109.1 | E27: ='Dental Services'!D334 -> 138.4 | F27: ='Eye Glasses and Eye Care'!D33 -> 109.6 | G27: ='Physcian Services'!D334 -> 141.2 | I27: Eye Care | J27: 0.15855616 | K27: 0.011678604 | L27: 13.576637 | M27: 7.9292573e-15 | N27: 0.13476762 | O27: 0.1823447 | P27: 0.13476762 | Q27: 0.1823447
A28: ='Other Med Professional'!B34 -> 1988 | B28: ='Other Med Professional'!C34 -> M09 | C28: ='Professional Services'!D273 -> 139.2 | D28: ='Other Med Professional'!D34 -> 109.3 | E28: ='Dental Services'!D335 -> 139.3 | F28: ='Eye Glasses and Eye Care'!D34 -> 109.1 | G28: ='Physcian Services'!D335 -> 141.7 | I28: Physcians | J28: 0.54072707 | K28: 0.016309604 | L28: 33.153905 | M28: 2.3862538e-26 | N28: 0.50750549 | O28: 0.57394864 | P28: 0.50750549 | Q28: 0.57394864
A29: ='Other Med Professional'!B35 -> 1988 | B29: ='Other Med Professional'!C35 -> M10 | C29: ='Professional Services'!D274 -> 139.8 | D29: ='Other Med Professional'!D35 -> 109.9 | E29: ='Dental Services'!D336 -> 139.9 | F29: ='Eye Glasses and Eye Care'!D35 -> 109.6 | G29: ='Physcian Services'!D336 -> 142.3
A30: ='Other Med Professional'!B36 -> 1988 | B30: ='Other Med Professional'!C36 -> M11 | C30: ='Professional Services'!D275 -> 140.4 | D30: ='Other Med Professional'!D36 -> 110.2 | E30: ='Dental Services'!D337 -> 140.6 | F30: ='Eye Glasses and Eye Care'!D36 -> 110.1 | G30: ='Physcian Services'!D337 -> 142.9
A31: ='Other Med Professional'!B37 -> 1988 | B31: ='Other Med Professional'!C37 -> M12 | C31: ='Professional Services'!D276 -> 140.8 | D31: ='Other Med Professional'!D37 -> 110.3 | E31: ='Dental Services'!D338 -> 140.9 | F31: ='Eye Glasses and Eye Care'!D37 -> 110.3 | G31: ='Physcian Services'!D338 -> 143.4 | I31: 1987/1 to 1989/12 | T31: =I31 -> 1987/1 to 1989/12 | U31: =J36 -> 0.99999995 | V31: =J39 -> 36 | W31: =J49 -> 0.055721477 | X31: =J50 -> 0.29209443 | Y31: =J51 -> 0.15475526 | Z31: =J52 -> 0.5329712 | AA31: =SUM(W31:Z31) -> 1.0355424
A32: ='Other Med Professional'!B38 -> 1989 | B32: ='Other Med Professional'!C38 -> M01 | C32: ='Professional Services'!D277 -> 142.2 | D32: ='Other Med Professional'!D38 -> 111 | E32: ='Dental Services'!D339 -> 141.9 | F32: ='Eye Glasses and Eye Care'!D38 -> 110.9 | G32: ='Physcian Services'!D339 -> 145.3 | I32: SUMMARY OUTPUT
A33: ='Other Med Professional'!B39 -> 1989 | B33: ='Other Med Professional'!C39 -> M02 | C33: ='Professional Services'!D278 -> 143.5 | D33: ='Other Med Professional'!D39 -> 111.8 | E33: ='Dental Services'!D340 -> 143 | F33: ='Eye Glasses and Eye Care'!D39 -> 110.8 | G33: ='Physcian Services'!D340 -> 147
A34: ='Other Med Professional'!B40 -> 1989 | B34: ='Other Med Professional'!C40 -> M03 | C34: ='Professional Services'!D279 -> 144.4 | D34: ='Other Med Professional'!D40 -> 112.4 | E34: ='Dental Services'!D341 -> 144 | F34: ='Eye Glasses and Eye Care'!D40 -> 111.3 | G34: ='Physcian Services'!D341 -> 148 | I34: Regression Statistics
A35: ='Other Med Professional'!B41 -> 1989 | B35: ='Other Med Professional'!C41 -> M04 | C35: ='Professional Services'!D280 -> 144.9 | D35: ='Other Med Professional'!D41 -> 113 | E35: ='Dental Services'!D342 -> 144.6 | F35: ='Eye Glasses and Eye Care'!D41 -> 111.3 | G35: ='Physcian Services'!D342 -> 148.4 | I35: Multiple R | J35: 0.99999997
A36: ='Other Med Professional'!B42 -> 1989 | B36: ='Other Med Professional'!C42 -> M05 | C36: ='Professional Services'!D281 -> 145.2 | D36: ='Other Med Professional'!D42 -> 113.3 | E36: ='Dental Services'!D343 -> 145.1 | F36: ='Eye Glasses and Eye Care'!D42 -> 111.5 | G36: ='Physcian Services'!D343 -> 148.7 | I36: R Square | J36: 0.99999995
A37: ='Other Med Professional'!B43 -> 1989 | B37: ='Other Med Professional'!C43 -> M06 | C37: ='Professional Services'!D282 -> 146.1 | D37: ='Other Med Professional'!D43 -> 113.9 | E37: ='Dental Services'!D344 -> 146 | F37: ='Eye Glasses and Eye Care'!D43 -> 112.2 | G37: ='Physcian Services'!D344 -> 149.6 | I37: Adjusted R Square | J37: 0.96874994
A38: ='Other Med Professional'!B44 -> 1989 | B38: ='Other Med Professional'!C44 -> M07 | C38: ='Professional Services'!D283 -> 147 | D38: ='Other Med Professional'!D44 -> 115.1 | E38: ='Dental Services'!D345 -> 146.3 | F38: ='Eye Glasses and Eye Care'!D44 -> 112.7 | G38: ='Physcian Services'!D345 -> 150.8 | I38: Standard Error | J38: 0.032987298
A39: ='Other Med Professional'!B45 -> 1989 | B39: ='Other Med Professional'!C45 -> M08 | C39: ='Professional Services'!D284 -> 147.5 | D39: ='Other Med Professional'!D45 -> 115.3 | E39: ='Dental Services'!D346 -> 146.8 | F39: ='Eye Glasses and Eye Care'!D45 -> 112.9 | G39: ='Physcian Services'!D346 -> 151.4 | I39: Observations | J39: 36
A40: ='Other Med Professional'!B46 -> 1989 | B40: ='Other Med Professional'!C46 -> M09 | C40: ='Professional Services'!D285 -> 148 | D40: ='Other Med Professional'!D46 -> 115.5 | E40: ='Dental Services'!D347 -> 147.7 | F40: ='Eye Glasses and Eye Care'!D46 -> 113.2 | G40: ='Physcian Services'!D347 -> 151.9
A41: ='Other Med Professional'!B47 -> 1989 | B41: ='Other Med Professional'!C47 -> M10 | C41: ='Professional Services'!D286 -> 148.6 | D41: ='Other Med Professional'!D47 -> 115.7 | E41: ='Dental Services'!D348 -> 148.2 | F41: ='Eye Glasses and Eye Care'!D47 -> 113.5 | G41: ='Physcian Services'!D348 -> 152.6 | I41: ANOVA
A42: ='Other Med Professional'!B48 -> 1989 | B42: ='Other Med Professional'!C48 -> M11 | C42: ='Professional Services'!D287 -> 149.3 | D42: ='Other Med Professional'!D48 -> 116.5 | E42: ='Dental Services'!D349 -> 149.1 | F42: ='Eye Glasses and Eye Care'!D48 -> 113.9 | G42: ='Physcian Services'!D349 -> 153.2 | J42: df | K42: SS | L42: MS | M42: F | N42: Significance F
A43: ='Other Med Professional'!B49 -> 1989 | B43: ='Other Med Professional'!C49 -> M12 | C43: ='Professional Services'!D288 -> 149.9 | D43: ='Other Med Professional'!D49 -> 116.6 | E43: ='Dental Services'!D350 -> 149.9 | F43: ='Eye Glasses and Eye Care'!D49 -> 114.1 | G43: ='Physcian Services'!D350 -> 153.7 | I43: Regression | J43: 4 | K43: 683484.99 | L43: 170871.25 | M43: 1.5702742e+08 | N43: 9.2053412e-113
A44: ='Other Med Professional'!B50 -> 1990 | B44: ='Other Med Professional'!C50 -> M01 | C44: ='Professional Services'!D289 -> 151.1 | D44: ='Other Med Professional'!D50 -> 117 | E44: ='Dental Services'!D351 -> 151.4 | F44: ='Eye Glasses and Eye Care'!D50 -> 114.2 | G44: ='Physcian Services'!D351 -> 155.1 | I44: Residual | J44: 32 | K44: 0.034821179 | L44: 0.0010881619
A45: ='Other Med Professional'!B51 -> 1990 | B45: ='Other Med Professional'!C51 -> M02 | C45: ='Professional Services'!D290 -> 152.3 | D45: ='Other Med Professional'!D51 -> 117.7 | E45: ='Dental Services'!D352 -> 152.4 | F45: ='Eye Glasses and Eye Care'!D51 -> 114.9 | G45: ='Physcian Services'!D352 -> 156.6 | I45: Total | J45: 36 | K45: 683485.02
A46: ='Other Med Professional'!B52 -> 1990 | B46: ='Other Med Professional'!C52 -> M03 | C46: ='Professional Services'!D291 -> 153.2 | D46: ='Other Med Professional'!D52 -> 118.6 | E46: ='Dental Services'!D353 -> 153.1 | F46: ='Eye Glasses and Eye Care'!D52 -> 115.3 | G46: ='Physcian Services'!D353 -> 157.7
A47: ='Other Med Professional'!B53 -> 1990 | B47: ='Other Med Professional'!C53 -> M04 | C47: ='Professional Services'!D292 -> 154.1 | D47: ='Other Med Professional'!D53 -> 119.1 | E47: ='Dental Services'!D354 -> 153.5 | F47: ='Eye Glasses and Eye Care'!D53 -> 116.1 | G47: ='Physcian Services'!D354 -> 158.8 | J47: Coefficients | K47: Standard Error | L47: t Stat | M47: P-value | N47: Lower 95% | O47: Upper 95% | P47: Lower 95.0% | Q47: Upper 95.0%
A48: ='Other Med Professional'!B54 -> 1990 | B48: ='Other Med Professional'!C54 -> M05 | C48: ='Professional Services'!D293 -> 155.1 | D48: ='Other Med Professional'!D54 -> 119.5 | E48: ='Dental Services'!D355 -> 154.5 | F48: ='Eye Glasses and Eye Care'!D54 -> 116.5 | G48: ='Physcian Services'!D355 -> 160 | I48: Intercept | J48: 0 | K48: #N/A | L48: #N/A | M48: #N/A | N48: #N/A | O48: #N/A | P48: #N/A | Q48: #N/A
A49: ='Other Med Professional'!B55 -> 1990 | B49: ='Other Med Professional'!C55 -> M06 | C49: ='Professional Services'!D294 -> 155.8 | D49: ='Other Med Professional'!D55 -> 119.7 | E49: ='Dental Services'!D356 -> 155.3 | F49: ='Eye Glasses and Eye Care'!D55 -> 117.3 | G49: ='Physcian Services'!D356 -> 160.6 | I49: Other Med | J49: 0.055721477 | K49: 0.013940713 | L49: 3.9970321 | M49: 0.00035316683 | N49: 0.027325174 | O49: 0.084117779 | P49: 0.027325174 | Q49: 0.084117779
A50: ='Other Med Professional'!B56 -> 1990 | B50: ='Other Med Professional'!C56 -> M07 | C50: ='Professional Services'!D295 -> 157 | D50: ='Other Med Professional'!D56 -> 121 | E50: ='Dental Services'!D357 -> 156.6 | F50: ='Eye Glasses and Eye Care'!D56 -> 117.6 | G50: ='Physcian Services'!D357 -> 161.9 | I50: Dental | J50: 0.29209443 | K50: 0.016563338 | L50: 17.634998 | M50: 4.8280031e-18 | N50: 0.25835602 | O50: 0.32583285 | P50: 0.25835602 | Q50: 0.32583285
A51: ='Other Med Professional'!B57 -> 1990 | B51: ='Other Med Professional'!C57 -> M08 | C51: ='Professional Services'!D296 -> 157.8 | D51: ='Other Med Professional'!D57 -> 121.5 | E51: ='Dental Services'!D358 -> 157.2 | F51: ='Eye Glasses and Eye Care'!D57 -> 118.7 | G51: ='Physcian Services'!D358 -> 162.7 | I51: Eye Care | J51: 0.15475526 | K51: 0.01074339 | L51: 14.404695 | M51: 1.5446033e-15 | N51: 0.13287169 | O51: 0.17663883 | P51: 0.13287169 | Q51: 0.17663883
A52: ='Other Med Professional'!B58 -> 1990 | B52: ='Other Med Professional'!C58 -> M09 | C52: ='Professional Services'!D297 -> 158.2 | D52: ='Other Med Professional'!D58 -> 121.7 | E52: ='Dental Services'!D359 -> 157.6 | F52: ='Eye Glasses and Eye Care'!D58 -> 119.3 | G52: ='Physcian Services'!D359 -> 163.1 | I52: Physcians | J52: 0.5329712 | K52: 0.015201277 | L52: 35.06095 | M52: 4.1753286e-27 | N52: 0.50200722 | O52: 0.56393519 | P52: 0.50200722 | Q52: 0.56393519
A53: ='Other Med Professional'!B59 -> 1990 | B53: ='Other Med Professional'!C59 -> M10 | C53: ='Professional Services'!D298 -> 158.9 | D53: ='Other Med Professional'!D59 -> 121.7 | E53: ='Dental Services'!D360 -> 158.3 | F53: ='Eye Glasses and Eye Care'!D59 -> 119.3 | G53: ='Physcian Services'!D360 -> 164
A54: ='Other Med Professional'!B60 -> 1990 | B54: ='Other Med Professional'!C60 -> M11 | C54: ='Professional Services'!D299 -> 159.6 | D54: ='Other Med Professional'!D60 -> 122.1 | E54: ='Dental Services'!D361 -> 159.6 | F54: ='Eye Glasses and Eye Care'!D60 -> 119.4 | G54: ='Physcian Services'!D361 -> 164.5
A55: ='Other Med Professional'!B61 -> 1990 | B55: ='Other Med Professional'!C61 -> M12 | C55: ='Professional Services'!D300 -> 160 | D55: ='Other Med Professional'!D61 -> 122.5 | E55: ='Dental Services'!D362 -> 159.9 | F55: ='Eye Glasses and Eye Care'!D61 -> 119.2 | G55: ='Physcian Services'!D362 -> 165.1 | I55: 1987/2 to 1990/1 | T55: =I55 -> 1987/2 to 1990/1 | U55: =J60 -> 0.99999995 | V55: =J63 -> 36 | W55: =J73 -> 0.056831324 | X55: =J74 -> 0.29594675 | Y55: =J75 -> 0.15265245 | Z55: =J76 -> 0.52995978 | AA55: =SUM(W55:Z55) -> 1.0353903
A56: ='Other Med Professional'!B62 -> 1991 | B56: ='Other Med Professional'!C62 -> M01 | C56: ='Professional Services'!D301 -> 161.2 | D56: ='Other Med Professional'!D62 -> 122.9 | E56: ='Dental Services'!D363 -> 161.5 | F56: ='Eye Glasses and Eye Care'!D62 -> 119.6 | G56: ='Physcian Services'!D363 -> 166.4 | I56: SUMMARY OUTPUT
A57: ='Other Med Professional'!B63 -> 1991 | B57: ='Other Med Professional'!C63 -> M02 | C57: ='Professional Services'!D302 -> 162.3 | D57: ='Other Med Professional'!D63 -> 124 | E57: ='Dental Services'!D364 -> 162.8 | F57: ='Eye Glasses and Eye Care'!D63 -> 120.3 | G57: ='Physcian Services'!D364 -> 167.3
A58: ='Other Med Professional'!B64 -> 1991 | B58: ='Other Med Professional'!C64 -> M03 | C58: ='Professional Services'!D303 -> 163.3 | D58: ='Other Med Professional'!D64 -> 125.2 | E58: ='Dental Services'!D365 -> 163.8 | F58: ='Eye Glasses and Eye Care'!D64 -> 120.5 | G58: ='Physcian Services'!D365 -> 168.5 | I58: Regression Statistics
A59: ='Other Med Professional'!B65 -> 1991 | B59: ='Other Med Professional'!C65 -> M04 | C59: ='Professional Services'!D304 -> 163.7 | D59: ='Other Med Professional'!D65 -> 125.7 | E59: ='Dental Services'!D366 -> 164.2 | F59: ='Eye Glasses and Eye Care'!D65 -> 121.1 | G59: ='Physcian Services'!D366 -> 168.8 | I59: Multiple R | J59: 0.99999997
A60: ='Other Med Professional'!B66 -> 1991 | B60: ='Other Med Professional'!C66 -> M05 | C60: ='Professional Services'!D305 -> 164.4 | D60: ='Other Med Professional'!D66 -> 126.6 | E60: ='Dental Services'!D367 -> 165.5 | F60: ='Eye Glasses and Eye Care'!D66 -> 121.6 | G60: ='Physcian Services'!D367 -> 169.2 | I60: R Square | J60: 0.99999995
A61: ='Other Med Professional'!B67 -> 1991 | B61: ='Other Med Professional'!C67 -> M06 | C61: ='Professional Services'!D306 -> 165.3 | D61: ='Other Med Professional'!D67 -> 126.7 | E61: ='Dental Services'!D368 -> 166.8 | F61: ='Eye Glasses and Eye Care'!D67 -> 122.2 | G61: ='Physcian Services'!D368 -> 169.9 | I61: Adjusted R Square | J61: 0.96874994
A62: ='Other Med Professional'!B68 -> 1991 | B62: ='Other Med Professional'!C68 -> M07 | C62: ='Professional Services'!D307 -> 166.1 | D62: ='Other Med Professional'!D68 -> 126.8 | E62: ='Dental Services'!D369 -> 168 | F62: ='Eye Glasses and Eye Care'!D68 -> 122.5 | G62: ='Physcian Services'!D369 -> 170.7 | I62: Standard Error | J62: 0.033132136
A63: ='Other Med Professional'!B69 -> 1991 | B63: ='Other Med Professional'!C69 -> M08 | C63: ='Professional Services'!D308 -> 167.1 | D63: ='Other Med Professional'!D69 -> 127.3 | E63: ='Dental Services'!D370 -> 169.5 | F63: ='Eye Glasses and Eye Care'!D69 -> 122.4 | G63: ='Physcian Services'!D370 -> 171.6 | I63: Observations | J63: 36
A64: ='Other Med Professional'!B70 -> 1991 | B64: ='Other Med Professional'!C70 -> M09 | C64: ='Professional Services'!D309 -> 167.9 | D64: ='Other Med Professional'!D70 -> 127.9 | E64: ='Dental Services'!D371 -> 170.6 | F64: ='Eye Glasses and Eye Care'!D70 -> 122.7 | G64: ='Physcian Services'!D371 -> 172.4
A65: ='Other Med Professional'!B71 -> 1991 | B65: ='Other Med Professional'!C71 -> M10 | C65: ='Professional Services'!D310 -> 168.5 | D65: ='Other Med Professional'!D71 -> 128.1 | E65: ='Dental Services'!D372 -> 171.1 | F65: ='Eye Glasses and Eye Care'!D71 -> 123.3 | G65: ='Physcian Services'!D372 -> 173.1 | I65: ANOVA
A66: ='Other Med Professional'!B72 -> 1991 | B66: ='Other Med Professional'!C72 -> M11 | C66: ='Professional Services'!D311 -> 169.1 | D66: ='Other Med Professional'!D72 -> 128.9 | E66: ='Dental Services'!D373 -> 172.3 | F66: ='Eye Glasses and Eye Care'!D72 -> 123.1 | G66: ='Physcian Services'!D373 -> 173.4 | J66: df | K66: SS | L66: MS | M66: F | N66: Significance F
A67: ='Other Med Professional'!B73 -> 1991 | B67: ='Other Med Professional'!C73 -> M12 | C67: ='Professional Services'!D312 -> 169.8 | D67: ='Other Med Professional'!D73 -> 129.2 | E67: ='Dental Services'!D374 -> 173 | F67: ='Eye Glasses and Eye Care'!D73 -> 123.5 | G67: ='Physcian Services'!D374 -> 174.2 | I67: Regression | J67: 4 | K67: 690741.15 | L67: 172685.29 | M67: 1.5731005e+08 | N67: 8.9522984e-113
A68: ='Other Med Professional'!B74 -> 1992 | B68: ='Other Med Professional'!C74 -> M01 | C68: ='Professional Services'!D313 -> 171.1 | D68: ='Other Med Professional'!D74 -> 130 | E68: ='Dental Services'!D375 -> 174.1 | F68: ='Eye Glasses and Eye Care'!D74 -> 125.5 | G68: ='Physcian Services'!D375 -> 175.4 | I68: Residual | J68: 32 | K68: 0.035127629 | L68: 0.0010977384
A69: ='Other Med Professional'!B75 -> 1992 | B69: ='Other Med Professional'!C75 -> M02 | C69: ='Professional Services'!D314 -> 172.5 | D69: ='Other Med Professional'!D75 -> 130.5 | E69: ='Dental Services'!D376 -> 174.7 | F69: ='Eye Glasses and Eye Care'!D75 -> 126.3 | G69: ='Physcian Services'!D376 -> 177.5 | I69: Total | J69: 36 | K69: 690741.19
A70: ='Other Med Professional'!B76 -> 1992 | B70: ='Other Med Professional'!C76 -> M03 | C70: ='Professional Services'!D315 -> 173.4 | D70: ='Other Med Professional'!D76 -> 131 | E70: ='Dental Services'!D377 -> 175.4 | F70: ='Eye Glasses and Eye Care'!D76 -> 126.5 | G70: ='Physcian Services'!D377 -> 178.8
A71: ='Other Med Professional'!B77 -> 1992 | B71: ='Other Med Professional'!C77 -> M04 | C71: ='Professional Services'!D316 -> 174.1 | D71: ='Other Med Professional'!D77 -> 131.4 | E71: ='Dental Services'!D378 -> 176.4 | F71: ='Eye Glasses and Eye Care'!D77 -> 126.6 | G71: ='Physcian Services'!D378 -> 179.4 | J71: Coefficients | K71: Standard Error | L71: t Stat | M71: P-value | N71: Lower 95% | O71: Upper 95% | P71: Lower 95.0% | Q71: Upper 95.0%
A72: ='Other Med Professional'!B78 -> 1992 | B72: ='Other Med Professional'!C78 -> M05 | C72: ='Professional Services'!D317 -> 174.7 | D72: ='Other Med Professional'!D78 -> 131.6 | E72: ='Dental Services'!D379 -> 176.9 | F72: ='Eye Glasses and Eye Care'!D78 -> 126.5 | G72: ='Physcian Services'!D379 -> 180.3 | I72: Intercept | J72: 0 | K72: #N/A | L72: #N/A | M72: #N/A | N72: #N/A | O72: #N/A | P72: #N/A | Q72: #N/A
A73: ='Other Med Professional'!B79 -> 1992 | B73: ='Other Med Professional'!C79 -> M06 | C73: ='Professional Services'!D318 -> 175.4 | D73: ='Other Med Professional'!D79 -> 131.6 | E73: ='Dental Services'!D380 -> 177.6 | F73: ='Eye Glasses and Eye Care'!D79 -> 126.8 | G73: ='Physcian Services'!D380 -> 181.1 | I73: Other Med | J73: 0.056831324 | K73: 0.014952754 | L73: 3.8007261 | M73: 0.00061092651 | N73: 0.02637356 | O73: 0.087289088 | P73: 0.02637356 | Q73: 0.087289088
A74: ='Other Med Professional'!B80 -> 1992 | B74: ='Other Med Professional'!C80 -> M07 | C74: ='Professional Services'!D319 -> 176.3 | D74: ='Other Med Professional'!D80 -> 132 | E74: ='Dental Services'!D381 -> 179.3 | F74: ='Eye Glasses and Eye Care'!D80 -> 127.1 | G74: ='Physcian Services'!D381 -> 181.8 | I74: Dental | J74: 0.29594675 | K74: 0.016317889 | L74: 18.136338 | M74: 2.1310442e-18 | N74: 0.2627083 | O74: 0.3291852 | P74: 0.2627083 | Q74: 0.3291852
A75: ='Other Med Professional'!B81 -> 1992 | B75: ='Other Med Professional'!C81 -> M08 | C75: ='Professional Services'!D320 -> 177.1 | D75: ='Other Med Professional'!D81 -> 131.6 | E75: ='Dental Services'!D382 -> 180.4 | F75: ='Eye Glasses and Eye Care'!D81 -> 126.9 | G75: ='Physcian Services'!D382 -> 182.7 | I75: Eye Care | J75: 0.15265245 | K75: 0.010044372 | L75: 15.197808 | M75: 3.4372053e-16 | N75: 0.13219273 | O75: 0.17311216 | P75: 0.13219273 | Q75: 0.17311216
A76: ='Other Med Professional'!B82 -> 1992 | B76: ='Other Med Professional'!C82 -> M09 | C76: ='Professional Services'!D321 -> 177.7 | D76: ='Other Med Professional'!D82 -> 131.9 | E76: ='Dental Services'!D383 -> 181.4 | F76: ='Eye Glasses and Eye Care'!D82 -> 127.6 | G76: ='Physcian Services'!D383 -> 183.2 | I76: Physcians | J76: 0.52995978 | K76: 0.01437766 | L76: 36.859947 | M76: 8.7420479e-28 | N76: 0.50067344 | O76: 0.55924611 | P76: 0.50067344 | Q76: 0.55924611
A77: ='Other Med Professional'!B83 -> 1992 | B77: ='Other Med Professional'!C83 -> M10 | C77: ='Professional Services'!D322 -> 178.4 | D77: ='Other Med Professional'!D83 -> 132.8 | E77: ='Dental Services'!D384 -> 182 | F77: ='Eye Glasses and Eye Care'!D83 -> 127.6 | G77: ='Physcian Services'!D384 -> 184
A78: ='Other Med Professional'!B84 -> 1992 | B78: ='Other Med Professional'!C84 -> M11 | C78: ='Professional Services'!D323 -> 179.1 | D78: ='Other Med Professional'!D84 -> 133 | E78: ='Dental Services'!D385 -> 182.8 | F78: ='Eye Glasses and Eye Care'!D84 -> 128.2 | G78: ='Physcian Services'!D385 -> 184.6
A79: ='Other Med Professional'!B85 -> 1992 | B79: ='Other Med Professional'!C85 -> M12 | C79: ='Professional Services'!D324 -> 179.4 | D79: ='Other Med Professional'!D85 -> 133.2 | E79: ='Dental Services'!D386 -> 183.1 | F79: ='Eye Glasses and Eye Care'!D85 -> 128.1 | G79: ='Physcian Services'!D386 -> 185.1 | I79: 1987/3 to 1990/2 | T79: =I79 -> 1987/3 to 1990/2 | U79: =J84 -> 0.99999995 | V79: =J87 -> 36 | W79: =J97 -> 0.049330904 | X79: =J98 -> 0.30036535 | Y79: =J99 -> 0.15483702 | Z79: =J100 -> 0.5297136 | AA79: =SUM(W79:Z79) -> 1.0342469
A80: ='Other Med Professional'!B86 -> 1993 | B80: ='Other Med Professional'!C86 -> M01 | C80: ='Professional Services'!D325 -> 180.7 | D80: ='Other Med Professional'!D86 -> 133.8 | E80: ='Dental Services'!D387 -> 183.8 | F80: ='Eye Glasses and Eye Care'!D86 -> 130 | G80: ='Physcian Services'!D387 -> 186.6 | I80: SUMMARY OUTPUT
A81: ='Other Med Professional'!B87 -> 1993 | B81: ='Other Med Professional'!C87 -> M02 | C81: ='Professional Services'!D326 -> 181.7 | D81: ='Other Med Professional'!D87 -> 134.1 | E81: ='Dental Services'!D388 -> 184.9 | F81: ='Eye Glasses and Eye Care'!D87 -> 129.8 | G81: ='Physcian Services'!D388 -> 187.9
A82: ='Other Med Professional'!B88 -> 1993 | B82: ='Other Med Professional'!C88 -> M03 | C82: ='Professional Services'!D327 -> 182.3 | D82: ='Other Med Professional'!D88 -> 134.2 | E82: ='Dental Services'!D389 -> 185.7 | F82: ='Eye Glasses and Eye Care'!D88 -> 129.5 | G82: ='Physcian Services'!D389 -> 188.6 | I82: Regression Statistics
A83: ='Other Med Professional'!B89 -> 1993 | B83: ='Other Med Professional'!C89 -> M04 | C83: ='Professional Services'!D328 -> 183 | D83: ='Other Med Professional'!D89 -> 135.1 | E83: ='Dental Services'!D390 -> 186.8 | F83: ='Eye Glasses and Eye Care'!D89 -> 130 | G83: ='Physcian Services'!D390 -> 189 | I83: Multiple R | J83: 0.99999998
A84: ='Other Med Professional'!B90 -> 1993 | B84: ='Other Med Professional'!C90 -> M05 | C84: ='Professional Services'!D329 -> 184.4 | D84: ='Other Med Professional'!D90 -> 136 | E84: ='Dental Services'!D391 -> 187.9 | F84: ='Eye Glasses and Eye Care'!D90 -> 130.1 | G84: ='Physcian Services'!D391 -> 191 | I84: R Square | J84: 0.99999995
A85: ='Other Med Professional'!B91 -> 1993 | B85: ='Other Med Professional'!C91 -> M06 | C85: ='Professional Services'!D330 -> 184.8 | D85: ='Other Med Professional'!D91 -> 136.2 | E85: ='Dental Services'!D392 -> 188.2 | F85: ='Eye Glasses and Eye Care'!D91 -> 129.9 | G85: ='Physcian Services'!D392 -> 191.6 | I85: Adjusted R Square | J85: 0.96874995
A86: ='Other Med Professional'!B92 -> 1993 | B86: ='Other Med Professional'!C92 -> M07 | C86: ='Professional Services'!D331 -> 185.4 | D86: ='Other Med Professional'!D92 -> 136.5 | E86: ='Dental Services'!D393 -> 188.7 | F86: ='Eye Glasses and Eye Care'!D92 -> 130.7 | G86: ='Physcian Services'!D393 -> 192.2 | I86: Standard Error | J86: 0.031821234
A87: ='Other Med Professional'!B93 -> 1993 | B87: ='Other Med Professional'!C93 -> M08 | C87: ='Professional Services'!D332 -> 185.9 | D87: ='Other Med Professional'!D93 -> 136.4 | E87: ='Dental Services'!D394 -> 189.3 | F87: ='Eye Glasses and Eye Care'!D93 -> 130.6 | G87: ='Physcian Services'!D394 -> 192.8 | I87: Observations | J87: 36
A88: ='Other Med Professional'!B94 -> 1993 | B88: ='Other Med Professional'!C94 -> M09 | C88: ='Professional Services'!D333 -> 186.3 | D88: ='Other Med Professional'!D94 -> 136.6 | E88: ='Dental Services'!D395 -> 189.6 | F88: ='Eye Glasses and Eye Care'!D94 -> 131.1 | G88: ='Physcian Services'!D395 -> 193.2
A89: ='Other Med Professional'!B95 -> 1993 | B89: ='Other Med Professional'!C95 -> M10 | C89: ='Professional Services'!D334 -> 186.8 | D89: ='Other Med Professional'!D95 -> 136.8 | E89: ='Dental Services'!D396 -> 190.4 | F89: ='Eye Glasses and Eye Care'!D95 -> 131 | G89: ='Physcian Services'!D396 -> 193.9 | I89: ANOVA
A90: ='Other Med Professional'!B96 -> 1993 | B90: ='Other Med Professional'!C96 -> M11 | C90: ='Professional Services'!D335 -> 187.1 | D90: ='Other Med Professional'!D96 -> 137.1 | E90: ='Dental Services'!D397 -> 190.8 | F90: ='Eye Glasses and Eye Care'!D96 -> 130.9 | G90: ='Physcian Services'!D397 -> 194.1 | J90: df | K90: SS | L90: MS | M90: F | N90: Significance F
A91: ='Other Med Professional'!B97 -> 1993 | B91: ='Other Med Professional'!C97 -> M12 | C91: ='Professional Services'!D336 -> 187.4 | D91: ='Other Med Professional'!D97 -> 137.5 | E91: ='Dental Services'!D398 -> 191.1 | F91: ='Eye Glasses and Eye Care'!D97 -> 130.7 | G91: ='Physcian Services'!D398 -> 194.5 | I91: Regression | J91: 4 | K91: 698110.81 | L91: 174527.7 | M91: 1.7235756e+08 | N91: 2.1726497e-113
A92: ='Other Med Professional'!B98 -> 1994 | B92: ='Other Med Professional'!C98 -> M01 | C92: ='Professional Services'!D337 -> 188.3 | D92: ='Other Med Professional'!D98 -> 138.1 | E92: ='Dental Services'!D399 -> 192 | F92: ='Eye Glasses and Eye Care'!D98 -> 131.3 | G92: ='Physcian Services'!D399 -> 195.5 | I92: Residual | J92: 32 | K92: 0.032402909 | L92: 0.0010125909
A93: ='Other Med Professional'!B99 -> 1994 | B93: ='Other Med Professional'!C99 -> M02 | C93: ='Professional Services'!D338 -> 189.4 | D93: ='Other Med Professional'!D99 -> 139.3 | E93: ='Dental Services'!D400 -> 192.8 | F93: ='Eye Glasses and Eye Care'!D99 -> 131.8 | G93: ='Physcian Services'!D400 -> 196.9 | I93: Total | J93: 36 | K93: 698110.84
A94: ='Other Med Professional'!B100 -> 1994 | B94: ='Other Med Professional'!C100 -> M03 | C94: ='Professional Services'!D339 -> 190.3 | D94: ='Other Med Professional'!D100 -> 139.9 | E94: ='Dental Services'!D401 -> 194.1 | F94: ='Eye Glasses and Eye Care'!D100 -> 131.8 | G94: ='Physcian Services'!D401 -> 197.7
A95: ='Other Med Professional'!B101 -> 1994 | B95: ='Other Med Professional'!C101 -> M04 | C95: ='Professional Services'!D340 -> 191.4 | D95: ='Other Med Professional'!D101 -> 140.9 | E95: ='Dental Services'!D402 -> 195.6 | F95: ='Eye Glasses and Eye Care'!D101 -> 132.3 | G95: ='Physcian Services'!D402 -> 198.6 | J95: Coefficients | K95: Standard Error | L95: t Stat | M95: P-value | N95: Lower 95% | O95: Upper 95% | P95: Lower 95.0% | Q95: Upper 95.0%
A96: ='Other Med Professional'!B102 -> 1994 | B96: ='Other Med Professional'!C102 -> M05 | C96: ='Professional Services'!D341 -> 191.7 | D96: ='Other Med Professional'!D102 -> 141.3 | E96: ='Dental Services'!D403 -> 195.9 | F96: ='Eye Glasses and Eye Care'!D102 -> 131.9 | G96: ='Physcian Services'!D403 -> 199.1 | I96: Intercept | J96: 0 | K96: #N/A | L96: #N/A | M96: #N/A | N96: #N/A | O96: #N/A | P96: #N/A | Q96: #N/A
A97: ='Other Med Professional'!B103 -> 1994 | B97: ='Other Med Professional'!C103 -> M06 | C97: ='Professional Services'!D342 -> 192.3 | D97: ='Other Med Professional'!D103 -> 141.6 | E97: ='Dental Services'!D404 -> 196.7 | F97: ='Eye Glasses and Eye Care'!D103 -> 131.8 | G97: ='Physcian Services'!D404 -> 199.8 | I97: Other Med | J97: 0.049330904 | K97: 0.015042969 | L97: 3.279333 | M97: 0.0025130678 | N97: 0.018689379 | O97: 0.079972429 | P97: 0.018689379 | Q97: 0.079972429
A98: ='Other Med Professional'!B104 -> 1994 | B98: ='Other Med Professional'!C104 -> M07 | C98: ='Professional Services'!D343 -> 193 | D98: ='Other Med Professional'!D104 -> 141.5 | E98: ='Dental Services'!D405 -> 197.7 | F98: ='Eye Glasses and Eye Care'!D104 -> 132.5 | G98: ='Physcian Services'!D405 -> 200.4 | I98: Dental | J98: 0.30036535 | K98: 0.015740279 | L98: 19.082593 | M98: 4.784903e-19 | N98: 0.26830345 | O98: 0.33242725 | P98: 0.26830345 | Q98: 0.33242725
A99: ='Other Med Professional'!B105 -> 1994 | B99: ='Other Med Professional'!C105 -> M08 | C99: ='Professional Services'!D344 -> 193.5 | D99: ='Other Med Professional'!D105 -> 141.9 | E99: ='Dental Services'!D406 -> 198.3 | F99: ='Eye Glasses and Eye Care'!D105 -> 133.7 | G99: ='Physcian Services'!D406 -> 200.7 | I99: Eye Care | J99: 0.15483702 | K99: 0.0096000063 | L99: 16.128845 | M99: 6.3468486e-17 | N99: 0.13528244 | O99: 0.17439159 | P99: 0.13528244 | Q99: 0.17439159
A100: ='Other Med Professional'!B106 -> 1994 | B100: ='Other Med Professional'!C106 -> M09 | C100: ='Professional Services'!D345 -> 194 | D100: ='Other Med Professional'!D106 -> 142.4 | E100: ='Dental Services'!D407 -> 198.9 | F100: ='Eye Glasses and Eye Care'!D106 -> 134 | G100: ='Physcian Services'!D407 -> 201.1 | I100: Physcians | J100: 0.5297136 | K100: 0.013708899 | L100: 38.640128 | M100: 1.9957915e-28 | N100: 0.50178949 | O100: 0.55763771 | P100: 0.50178949 | Q100: 0.55763771
A101: ='Other Med Professional'!B107 -> 1994 | B101: ='Other Med Professional'!C107 -> M10 | C101: ='Professional Services'!D346 -> 195.1 | D101: ='Other Med Professional'!D107 -> 142.8 | E101: ='Dental Services'!D408 -> 200.6 | F101: ='Eye Glasses and Eye Care'!D107 -> 134.8 | G101: ='Physcian Services'!D408 -> 201.9
A102: ='Other Med Professional'!B108 -> 1994 | B102: ='Other Med Professional'!C108 -> M11 | C102: ='Professional Services'!D347 -> 195.5 | D102: ='Other Med Professional'!D108 -> 142.9 | E102: ='Dental Services'!D409 -> 201.2 | F102: ='Eye Glasses and Eye Care'!D108 -> 135.2 | G102: ='Physcian Services'!D409 -> 202.3
A103: ='Other Med Professional'!B109 -> 1994 | B103: ='Other Med Professional'!C109 -> M12 | C103: ='Professional Services'!D348 -> 196 | D103: ='Other Med Professional'!D109 -> 143 | E103: ='Dental Services'!D410 -> 201.4 | F103: ='Eye Glasses and Eye Care'!D109 -> 135 | G103: ='Physcian Services'!D410 -> 203.1 | I103: 1987/4 to 1990/3 | T103: =I103 -> 1987/4 to 1990/3 | U103: =J108 -> 0.99999995 | V103: =J111 -> 36 | W103: =J121 -> 0.047231089 | X103: =J122 -> 0.29962791 | Y103: =J123 -> 0.15643655 | Z103: =J124 -> 0.53081977 | AA103: =SUM(W103:Z103) -> 1.0341153
...

Sheet Projections
E4: Other | M4: Other
D5: Professional | E5: Medical | F5: Dental | G5: Eye Glasses and | H5: Physician | J5: Sample | M5: Medical | N5: Dental | O5: Eye Glasses and | P5: Physician | Q5: Sum of | R5: Projected
B6: Year | C6: Period | D6: Services | E6: Professionals | F6: Services | G6: Eye Care | H6: Services | J6: Period | K6: R Square | L6: NOB | M6: Professionals | N6: Services | O6: Eye Care | P6: Services | Q6: Coefficients | R6: Value
B7: ='Other Med Projected'!A7 -> 1986 | C7: ='Other Med Projected'!B7 -> M12 | D7: ='Other Med Projected'!C7 -> 124 | E7: ='Other Med Projected'!D7 -> 100 | F7: ='Other Med Projected'!E7 -> 123.2 | G7: ='Other Med Projected'!F7 -> 100 | H7: ='Other Med Projected'!G7 -> 125.5 | J7: ='Other Med Projected'!T7 -> 1986/12 to 1989/11 | K7: ='Other Med Projected'!U7 -> 0.99999995 | L7: ='Other Med Projected'!V7 -> 36 | M7: ='Other Med Projected'!W7 -> 0.060192386 | N7: ='Other Med Projected'!X7 -> 0.27767573 | O7: ='Other Med Projected'!Y7 -> 0.15855616 | P7: ='Other Med Projected'!Z7 -> 0.54072707 | Q7: =SUM(M7:P7) -> 1.0371513
A8: =B8 -> 1987 | B8: ='Other Med Projected'!A8 -> 1987 | C8: ='Other Med Projected'!B8 -> M01 | D8: ='Other Med Projected'!C8 -> 124.8 | E8: ='Other Med Projected'!D8 -> 100.5 | F8: ='Other Med Projected'!E8 -> 123.9 | G8: ='Other Med Projected'!F8 -> 100.4 | H8: ='Other Med Projected'!G8 -> 126.6 | J8: ='Other Med Projected'!T31 -> 1987/1 to 1989/12 | K8: ='Other Med Projected'!U31 -> 0.99999995 | L8: ='Other Med Projected'!V31 -> 36 | M8: ='Other Med Projected'!W31 -> 0.055721477 | N8: ='Other Med Projected'!X31 -> 0.29209443 | O8: ='Other Med Projected'!Y31 -> 0.15475526 | P8: ='Other Med Projected'!Z31 -> 0.5329712 | Q8: =SUM(M8:P8) -> 1.0355424
B9: ='Other Med Projected'!A9 -> 1987 | C9: ='Other Med Projected'!B9 -> M02 | D9: ='Other Med Projected'!C9 -> 125.8 | E9: ='Other Med Projected'!D9 -> 100.7 | F9: ='Other Med Projected'!E9 -> 125.3 | G9: ='Other Med Projected'!F9 -> 101.4 | H9: ='Other Med Projected'!G9 -> 127.3 | J9: ='Other Med Projected'!T55 -> 1987/2 to 1990/1 | K9: ='Other Med Projected'!U55 -> 0.99999995 | L9: ='Other Med Projected'!V55 -> 36 | M9: ='Other Med Projected'!W55 -> 0.056831324 | N9: ='Other Med Projected'!X55 -> 0.29594675 | O9: ='Other Med Projected'!Y55 -> 0.15265245 | P9: ='Other Med Projected'!Z55 -> 0.52995978 | Q9: =SUM(M9:P9) -> 1.0353903
B10: ='Other Med Projected'!A10 -> 1987 | C10: ='Other Med Projected'!B10 -> M03 | D10: ='Other Med Projected'!C10 -> 126.6 | E10: ='Other Med Projected'!D10 -> 101.5 | F10: ='Other Med Projected'!E10 -> 126.3 | G10: ='Other Med Projected'!F10 -> 102 | H10: ='Other Med Projected'!G10 -> 128.1 | J10: ='Other Med Projected'!T79 -> 1987/3 to 1990/2 | K10: ='Other Med Projected'!U79 -> 0.99999995 | L10: ='Other Med Projected'!V79 -> 36 | M10: ='Other Med Projected'!W79 -> 0.049330904 | N10: ='Other Med Projected'!X79 -> 0.30036535 | O10: ='Other Med Projected'!Y79 -> 0.15483702 | P10: ='Other Med Projected'!Z79 -> 0.5297136 | Q10: =SUM(M10:P10) -> 1.0342469
B11: ='Other Med Projected'!A11 -> 1987 | C11: ='Other Med Projected'!B11 -> M04 | D11: ='Other Med Projected'!C11 -> 127.5 | E11: ='Other Med Projected'!D11 -> 101.7 | F11: ='Other Med Projected'!E11 -> 127.4 | G11: ='Other Med Projected'!F11 -> 102.9 | H11: ='Other Med Projected'!G11 -> 128.9 | J11: ='Other Med Projected'!T103 -> 1987/4 to 1990/3 | K11: ='Other Med Projected'!U103 -> 0.99999995 | L11: ='Other Med Projected'!V103 -> 36 | M11: ='Other Med Projected'!W103 -> 0.047231089 | N11: ='Other Med Projected'!X103 -> 0.29962791 | O11: ='Other Med Projected'!Y103 -> 0.15643655 | P11: ='Other Med Projected'!Z103 -> 0.53081977 | Q11: =SUM(M11:P11) -> 1.0341153
B12: ='Other Med Projected'!A12 -> 1987 | C12: ='Other Med Projected'!B12 -> M05 | D12: ='Other Med Projected'!C12 -> 127.9 | E12: ='Other Med Projected'!D12 -> 101.9 | F12: ='Other Med Projected'!E12 -> 128 | G12: ='Other Med Projected'!F12 -> 103.1 | H12: ='Other Med Projected'!G12 -> 129.3 | J12: ='Other Med Projected'!T127 -> 1987/5 to 1990/4 | K12: ='Other Med Projected'!U127 -> 0.99999995 | L12: ='Other Med Projected'!V127 -> 36 | M12: ='Other Med Projected'!W127 -> 0.044270609 | N12: ='Other Med Projected'!X127 -> 0.29773469 | O12: ='Other Med Projected'!Y127 -> 0.15802941 | P12: ='Other Med Projected'!Z127 -> 0.53373557 | Q12: =SUM(M12:P12) -> 1.0337703
B13: ='Other Med Projected'!A13 -> 1987 | C13: ='Other Med Projected'!B13 -> M06 | D13: ='Other Med Projected'!C13 -> 128.8 | E13: ='Other Med Projected'!D13 -> 102.2 | F13: ='Other Med Projected'!E13 -> 128.7 | G13: ='Other Med Projected'!F13 -> 103.6 | H13: ='Other Med Projected'!G13 -> 130.4 | J13: ='Other Med Projected'!T151 -> 1987/6 to 1990/5 | K13: ='Other Med Projected'!U151 -> 0.99999995 | L13: ='Other Med Projected'!V151 -> 36 | M13: ='Other Med Projected'!W151 -> 0.047854813 | N13: ='Other Med Projected'!X151 -> 0.2971466 | O13: ='Other Med Projected'!Y151 -> 0.15678345 | P13: ='Other Med Projected'!Z151 -> 0.53251666 | Q13: =SUM(M13:P13) -> 1.0343015
B14: ='Other Med Projected'!A14 -> 1987 | C14: ='Other Med Projected'!B14 -> M07 | D14: ='Other Med Projected'!C14 -> 129.5 | E14: ='Other Med Projected'!D14 -> 102.4 | F14: ='Other Med Projected'!E14 -> 129.5 | G14: ='Other Med Projected'!F14 -> 104.1 | H14: ='Other Med Projected'!G14 -> 131 | J14: ='Other Med Projected'!T175 -> 1987/7 to 1990/6 | K14: ='Other Med Projected'!U175 -> 0.99999996 | L14: ='Other Med Projected'!V175 -> 36 | M14: ='Other Med Projected'!W175 -> 0.045945864 | N14: ='Other Med Projected'!X175 -> 0.29561804 | O14: ='Other Med Projected'!Y175 -> 0.15829766 | P14: ='Other Med Projected'!Z175 -> 0.53432786 | Q14: =SUM(M14:P14) -> 1.0341894
B15: ='Other Med Projected'!A15 -> 1987 | C15: ='Other Med Projected'!B15 -> M08 | D15: ='Other Med Projected'!C15 -> 130 | E15: ='Other Med Projected'!D15 -> 102.7 | F15: ='Other Med Projected'!E15 -> 130.2 | G15: ='Other Med Projected'!F15 -> 104.3 | H15: ='Other Med Projected'!G15 -> 131.5 | J15: ='Other Med Projected'!T199 -> 1987/8 to 1990/7 | K15: ='Other Med Projected'!U199 -> 0.99999996 | L15: ='Other Med Projected'!V199 -> 36 | M15: ='Other Med Projected'!W199 -> 0.046619324 | N15: ='Other Med Projected'!X199 -> 0.29694988 | O15: ='Other Med Projected'!Y199 -> 0.15667178 | P15: ='Other Med Projected'!Z199 -> 0.53374232 | Q15: =SUM(M15:P15) -> 1.0339833
B16: ='Other Med Projected'!A16 -> 1987 | C16: ='Other Med Projected'!B16 -> M09 | D16: ='Other Med Projected'!C16 -> 130.7 | E16: ='Other Med Projected'!D16 -> 103 | F16: ='Other Med Projected'!E16 -> 130.7 | G16: ='Other Med Projected'!F16 -> 104.5 | H16: ='Other Med Projected'!G16 -> 132.5 | J16: ='Other Med Projected'!T223 -> 1987/9 to 1990/8 | K16: ='Other Med Projected'!U223 -> 0.99999996 | L16: ='Other Med Projected'!V223 -> 36 | M16: ='Other Med Projected'!W223 -> 0.046061489 | N16: ='Other Med Projected'!X223 -> 0.29515312 | O16: ='Other Med Projected'!Y223 -> 0.15703455 | P16: ='Other Med Projected'!Z223 -> 0.53564926 | Q16: =SUM(M16:P16) -> 1.0338984
B17: ='Other Med Projected'!A17 -> 1987 | C17: ='Other Med Projected'!B17 -> M10 | D17: ='Other Med Projected'!C17 -> 131.2 | E17: ='Other Med Projected'!D17 -> 103.5 | F17: ='Other Med Projected'!E17 -> 131.3 | G17: ='Other Med Projected'!F17 -> 104.9 | H17: ='Other Med Projected'!G17 -> 132.8 | J17: ='Other Med Projected'!T247 -> 1987/10 to 1990/9 | K17: ='Other Med Projected'!U247 -> 0.99999996 | L17: ='Other Med Projected'!V247 -> 36 | M17: ='Other Med Projected'!W247 -> 0.048398317 | N17: ='Other Med Projected'!X247 -> 0.29601121 | O17: ='Other Med Projected'!Y247 -> 0.15578108 | P17: ='Other Med Projected'!Z247 -> 0.53397157 | Q17: =SUM(M17:P17) -> 1.0341622
B18: ='Other Med Projected'!A18 -> 1987 | C18: ='Other Med Projected'!B18 -> M11 | D18: ='Other Med Projected'!C18 -> 131.5 | E18: ='Other Med Projected'!D18 -> 104.1 | F18: ='Other Med Projected'!E18 -> 131.8 | G18: ='Other Med Projected'!F18 -> 105 | H18: ='Other Med Projected'!G18 -> 133.2 | J18: ='Other Med Projected'!T271 -> 1987/11 to 1990/10 | K18: ='Other Med Projected'!U271 -> 0.99999997 | L18: ='Other Med Projected'!V271 -> 36 | M18: ='Other Med Projected'!W271 -> 0.054286123 | N18: ='Other Med Projected'!X271 -> 0.29329579 | O18: ='Other Med Projected'!Y271 -> 0.15250356 | P18: ='Other Med Projected'!Z271 -> 0.53459077 | Q18: =SUM(M18:P18) -> 1.0346762
B19: ='Other Med Projected'!A19 -> 1987 | C19: ='Other Med Projected'!B19 -> M12 | D19: ='Other Med Projected'!C19 -> 131.8 | E19: ='Other Med Projected'!D19 -> 104.5 | F19: ='Other Med Projected'!E19 -> 132.1 | G19: ='Other Med Projected'!F19 -> 105.3 | H19: ='Other Med Projected'!G19 -> 133.4 | J19: ='Other Med Projected'!T295 -> 1987/12 to 1990/11 | K19: ='Other Med Projected'!U295 -> 0.99999997 | L19: ='Other Med Projected'!V295 -> 36 | M19: ='Other Med Projected'!W295 -> 0.052551534 | N19: ='Other Med Projected'!X295 -> 0.29696281 | O19: ='Other Med Projected'!Y295 -> 0.15251545 | P19: ='Other Med Projected'!Z295 -> 0.53233293 | Q19: =SUM(M19:P19) -> 1.0343627
A20: =B20 -> 1988 | B20: ='Other Med Projected'!A20 -> 1988 | C20: ='Other Med Projected'!B20 -> M01 | D20: ='Other Med Projected'!C20 -> 133.2 | E20: ='Other Med Projected'!D20 -> 104.7 | F20: ='Other Med Projected'!E20 -> 133.5 | G20: ='Other Med Projected'!F20 -> 106.3 | H20: ='Other Med Projected'!G20 -> 135 | J20: ='Other Med Projected'!T319 -> 1988/1 to 1990/12 | K20: ='Other Med Projected'!U319 -> 0.99999997 | L20: ='Other Med Projected'!V319 -> 36 | M20: ='Other Med Projected'!W319 -> 0.051735379 | N20: ='Other Med Projected'!X319 -> 0.29742465 | O20: ='Other Med Projected'!Y319 -> 0.15258616 | P20: ='Other Med Projected'!Z319 -> 0.53245077 | Q20: =SUM(M20:P20) -> 1.034197
B21: ='Other Med Projected'!A21 -> 1988 | C21: ='Other Med Projected'!B21 -> M02 | D21: ='Other Med Projected'!C21 -> 134.5 | E21: ='Other Med Projected'!D21 -> 106.1 | F21: ='Other Med Projected'!E21 -> 134.5 | G21: ='Other Med Projected'!F21 -> 106.7 | H21: ='Other Med Projected'!G21 -> 136.6 | J21: ='Other Med Projected'!T343 -> 1988/2 to 1991/1 | K21: ='Other Med Projected'!U343 -> 0.99999997 | L21: ='Other Med Projected'!V343 -> 36 | M21: ='Other Med Projected'!W343 -> 0.052344474 | N21: ='Other Med Projected'!X343 -> 0.29275135 | O21: ='Other Med Projected'!Y343 -> 0.15460555 | P21: ='Other Med Projected'!Z343 -> 0.53502637 | Q21: =SUM(M21:P21) -> 1.0347277
B22: ='Other Med Projected'!A22 -> 1988 | C22: ='Other Med Projected'!B22 -> M03 | D22: ='Other Med Projected'!C22 -> 135.4 | E22: ='Other Med Projected'!D22 -> 106.5 | F22: ='Other Med Projected'!E22 -> 135.5 | G22: ='Other Med Projected'!F22 -> 108 | H22: ='Other Med Projected'!G22 -> 137.2 | J22: ='Other Med Projected'!T367 -> 1988/3 to 1991/2 | K22: ='Other Med Projected'!U367 -> 0.99999997 | L22: ='Other Med Projected'!V367 -> 36 | M22: ='Other Med Projected'!W367 -> 0.051147621 | N22: ='Other Med Projected'!X367 -> 0.29966861 | O22: ='Other Med Projected'!Y367 -> 0.15297206 | P22: ='Other Med Projected'!Z367 -> 0.53042537 | Q22: =SUM(M22:P22) -> 1.0342137
B23: ='Other Med Projected'!A23 -> 1988 | C23: ='Other Med Projected'!B23 -> M04 | D23: ='Other Med Projected'!C23 -> 136 | E23: ='Other Med Projected'!D23 -> 107.8 | F23: ='Other Med Projected'!E23 -> 136 | G23: ='Other Med Projected'!F23 -> 108.3 | H23: ='Other Med Projected'!G23 -> 137.9 | J23: ='Other Med Projected'!T391 -> 1988/4 to 1991/3 | K23: ='Other Med Projected'!U391 -> 0.99999997 | L23: ='Other Med Projected'!V391 -> 36 | M23: ='Other Med Projected'!W391 -> 0.059299886 | N23: ='Other Med Projected'!X391 -> 0.29571149 | O23: ='Other Med Projected'!Y391 -> 0.148207 | P23: ='Other Med Projected'!Z391 -> 0.53164634 | Q23: =SUM(M23:P23) -> 1.0348647
B24: ='Other Med Projected'!A24 -> 1988 | C24: ='Other Med Projected'!B24 -> M05 | D24: ='Other Med Projected'!C24 -> 136.4 | E24: ='Other Med Projected'!D24 -> 108.2 | F24: ='Other Med Projected'!E24 -> 136.4 | G24: ='Other Med Projected'!F24 -> 108.4 | H24: ='Other Med Projected'!G24 -> 138.5 | J24: ='Other Med Projected'!T415 -> 1988/5 to 1991/4 | K24: ='Other Med Projected'!U415 -> 0.99999997 | L24: ='Other Med Projected'!V415 -> 36 | M24: ='Other Med Projected'!W415 -> 0.058984696 | N24: ='Other Med Projected'!X415 -> 0.29459891 | O24: ='Other Med Projected'!Y415 -> 0.14814672 | P24: ='Other Med Projected'!Z415 -> 0.53300785 | Q24: =SUM(M24:P24) -> 1.0347382
B25: ='Other Med Projected'!A25 -> 1988 | C25: ='Other Med Projected'!B25 -> M06 | D25: ='Other Med Projected'!C25 -> 137.5 | E25: ='Other Med Projected'!D25 -> 108.6 | F25: ='Other Med Projected'!E25 -> 137.4 | G25: ='Other Med Projected'!F25 -> 108.7 | H25: ='Other Med Projected'!G25 -> 139.8 | J25: ='Other Med Projected'!T439 -> 1988/6 to 1991/5 | K25: ='Other Med Projected'!U439 -> 0.99999998 | L25: ='Other Med Projected'!V439 -> 36 | M25: ='Other Med Projected'!W439 -> 0.05915691 | N25: ='Other Med Projected'!X439 -> 0.29302939 | O25: ='Other Med Projected'!Y439 -> 0.1495938 | P25: ='Other Med Projected'!Z439 -> 0.53333619 | Q25: =SUM(M25:P25) -> 1.0351163
B26: ='Other Med Projected'!A26 -> 1988 | C26: ='Other Med Projected'!B26 -> M07 | D26: ='Other Med Projected'!C26 -> 138.4 | E26: ='Other Med Projected'!D26 -> 108.8 | F26: ='Other Med Projected'!E26 -> 138 | G26: ='Other Med Projected'!F26 -> 109.4 | H26: ='Other Med Projected'!G26 -> 140.9 | J26: ='Other Med Projected'!T463 -> 1988/7 to 1991/6 | K26: ='Other Med Projected'!U463 -> 0.99999997 | L26: ='Other Med Projected'!V463 -> 36 | M26: ='Other Med Projected'!W463 -> 0.058757734 | N26: ='Other Med Projected'!X463 -> 0.29763184 | O26: ='Other Med Projected'!Y463 -> 0.14876653 | P26: ='Other Med Projected'!Z463 -> 0.5297777 | Q26: =SUM(M26:P26) -> 1.0349338
B27: ='Other Med Projected'!A27 -> 1988 | C27: ='Other Med Projected'!B27 -> M08 | D27: ='Other Med Projected'!C27 -> 138.7 | E27: ='Other Med Projected'!D27 -> 109.1 | F27: ='Other Med Projected'!E27 -> 138.4 | G27: ='Other Med Projected'!F27 -> 109.6 | H27: ='Other Med Projected'!G27 -> 141.2 | J27: ='Other Med Projected'!T487 -> 1988/8 to 1991/7 | K27: ='Other Med Projected'!U487 -> 0.99999997 | L27: ='Other Med Projected'!V487 -> 36 | M27: ='Other Med Projected'!W487 -> 0.060219946 | N27: ='Other Med Projected'!X487 -> 0.29626007 | O27: ='Other Med Projected'!Y487 -> 0.14799067 | P27: ='Other Med Projected'!Z487 -> 0.53057966 | Q27: =SUM(M27:P27) -> 1.0350503
B28: ='Other Med Projected'!A28 -> 1988 | C28: ='Other Med Projected'!B28 -> M09 | D28: ='Other Med Projected'!C28 -> 139.2 | E28: ='Other Med Projected'!D28 -> 109.3 | F28: ='Other Med Projected'!E28 -> 139.3 | G28: ='Other Med Projected'!F28 -> 109.1 | H28: ='Other Med Projected'!G28 -> 141.7 | J28: ='Other Med Projected'!T511 -> 1988/9 to 1991/8 | K28: ='Other Med Projected'!U511 -> 0.99999997 | L28: ='Other Med Projected'!V511 -> 36 | M28: ='Other Med Projected'!W511 -> 0.057968828 | N28: ='Other Med Projected'!X511 -> 0.30196297 | O28: ='Other Med Projected'!Y511 -> 0.14809082 | P28: ='Other Med Projected'!Z511 -> 0.52665968 | Q28: =SUM(M28:P28) -> 1.0346823
B29: ='Other Med Projected'!A29 -> 1988 | C29: ='Other Med Projected'!B29 -> M10 | D29: ='Other Med Projected'!C29 -> 139.8 | E29: ='Other Med Projected'!D29 -> 109.9 | F29: ='Other Med Projected'!E29 -> 139.9 | G29: ='Other Med Projected'!F29 -> 109.6 | H29: ='Other Med Projected'!G29 -> 142.3 | J29: ='Other Med Projected'!T535 -> 1988/10 to 1991/9 | K29: ='Other Med Projected'!U535 -> 0.99999997 | L29: ='Other Med Projected'!V535 -> 36 | M29: ='Other Med Projected'!W535 -> 0.058513489 | N29: ='Other Med Projected'!X535 -> 0.30163708 | O29: ='Other Med Projected'!Y535 -> 0.14738259 | P29: ='Other Med Projected'!Z535 -> 0.52708594 | Q29: =SUM(M29:P29) -> 1.0346191
B30: ='Other Med Projected'!A30 -> 1988 | C30: ='Other Med Projected'!B30 -> M11 | D30: ='Other Med Projected'!C30 -> 140.4 | E30: ='Other Med Projected'!D30 -> 110.2 | F30: ='Other Med Projected'!E30 -> 140.6 | G30: ='Other Med Projected'!F30 -> 110.1 | H30: ='Other Med Projected'!G30 -> 142.9 | J30: ='Other Med Projected'!T559 -> 1988/11 to 1991/10 | K30: ='Other Med Projected'!U559 -> 0.99999997 | L30: ='Other Med Projected'!V559 -> 36 | M30: ='Other Med Projected'!W559 -> 0.05960557 | N30: ='Other Med Projected'!X559 -> 0.30007091 | O30: ='Other Med Projected'!Y559 -> 0.14665526 | P30: ='Other Med Projected'!Z559 -> 0.52831957 | Q30: =SUM(M30:P30) -> 1.0346513
B31: ='Other Med Projected'!A31 -> 1988 | C31: ='Other Med Projected'!B31 -> M12 | D31: ='Other Med Projected'!C31 -> 140.8 | E31: ='Other Med Projected'!D31 -> 110.3 | F31: ='Other Med Projected'!E31 -> 140.9 | G31: ='Other Med Projected'!F31 -> 110.3 | H31: ='Other Med Projected'!G31 -> 143.4 | J31: ='Other Med Projected'!T583 -> 1988/12 to 1991/11 | K31: ='Other Med Projected'!U583 -> 0.99999997 | L31: ='Other Med Projected'!V583 -> 36 | M31: ='Other Med Projected'!W583 -> 0.06146209 | N31: ='Other Med Projected'!X583 -> 0.30277521 | O31: ='Other Med Projected'!Y583 -> 0.14524286 | P31: ='Other Med Projected'!Z583 -> 0.52533371 | Q31: =SUM(M31:P31) -> 1.0348139
A32: =B32 -> 1989 | B32: ='Other Med Projected'!A32 -> 1989 | C32: ='Other Med Projected'!B32 -> M01 | D32: ='Other Med Projected'!C32 -> 142.2 | E32: ='Other Med Projected'!D32 -> 111 | F32: ='Other Med Projected'!E32 -> 141.9 | G32: ='Other Med Projected'!F32 -> 110.9 | H32: ='Other Med Projected'!G32 -> 145.3 | J32: ='Other Med Projected'!T607 -> 1989/1 to 1991/12 | K32: ='Other Med Projected'!U607 -> 0.99999997 | L32: ='Other Med Projected'!V607 -> 36 | M32: ='Other Med Projected'!W607 -> 0.062472058 | N32: ='Other Med Projected'!X607 -> 0.30349739 | O32: ='Other Med Projected'!Y607 -> 0.1441676 | P32: ='Other Med Projected'!Z607 -> 0.5246614 | Q32: =SUM(M32:P32) -> 1.0347984
B33: ='Other Med Projected'!A33 -> 1989 | C33: ='Other Med Projected'!B33 -> M02 | D33: ='Other Med Projected'!C33 -> 143.5 | E33: ='Other Med Projected'!D33 -> 111.8 | F33: ='Other Med Projected'!E33 -> 143 | G33: ='Other Med Projected'!F33 -> 110.8 | H33: ='Other Med Projected'!G33 -> 147 | J33: ='Other Med Projected'!T631 -> 1989/2 to 1992/1 | K33: ='Other Med Projected'!U631 -> 0.99999997 | L33: ='Other Med Projected'!V631 -> 36 | M33: ='Other Med Projected'!W631 -> 0.055710121 | N33: ='Other Med Projected'!X631 -> 0.30685681 | O33: ='Other Med Projected'!Y631 -> 0.14936251 | P33: ='Other Med Projected'!Z631 -> 0.52267109 | Q33: =SUM(M33:P33) -> 1.0346005
B34: ='Other Med Projected'!A34 -> 1989 | C34: ='Other Med Projected'!B34 -> M03 | D34: ='Other Med Projected'!C34 -> 144.4 | E34: ='Other Med Projected'!D34 -> 112.4 | F34: ='Other Med Projected'!E34 -> 144 | G34: ='Other Med Projected'!F34 -> 111.3 | H34: ='Other Med Projected'!G34 -> 148 | J34: ='Other Med Projected'!T655 -> 1989/3 to 1992/2 | K34: ='Other Med Projected'!U655 -> 0.99999997 | L34: ='Other Med Projected'!V655 -> 36 | M34: ='Other Med Projected'!W655 -> 0.059080226 | N34: ='Other Med Projected'!X655 -> 0.30573781 | O34: ='Other Med Projected'!Y655 -> 0.14711901 | P34: ='Other Med Projected'!Z655 -> 0.52286895 | Q34: =SUM(M34:P34) -> 1.034806
B35: ='Other Med Projected'!A35 -> 1989 | C35: ='Other Med Projected'!B35 -> M04 | D35: ='Other Med Projected'!C35 -> 144.9 | E35: ='Other Med Projected'!D35 -> 113 | F35: ='Other Med Projected'!E35 -> 144.6 | G35: ='Other Med Projected'!F35 -> 111.3 | H35: ='Other Med Projected'!G35 -> 148.4 | J35: ='Other Med Projected'!T679 -> 1989/4 to 1992/3 | K35: ='Other Med Projected'!U679 -> 0.99999997 | L35: ='Other Med Projected'!V679 -> 36 | M35: ='Other Med Projected'!W679 -> 0.062416447 | N35: ='Other Med Projected'!X679 -> 0.30601751 | O35: ='Other Med Projected'!Y679 -> 0.14722629 | P35: ='Other Med Projected'!Z679 -> 0.52001635 | Q35: =SUM(M35:P35) -> 1.0356766
B36: ='Other Med Projected'!A36 -> 1989 | C36: ='Other Med Projected'!B36 -> M05 | D36: ='Other Med Projected'!C36 -> 145.2 | E36: ='Other Med Projected'!D36 -> 113.3 | F36: ='Other Med Projected'!E36 -> 145.1 | G36: ='Other Med Projected'!F36 -> 111.5 | H36: ='Other Med Projected'!G36 -> 148.7 | J36: ='Other Med Projected'!T703 -> 1989/5 to 1992/4 | K36: ='Other Med Projected'!U703 -> 0.99999997 | L36: ='Other Med Projected'!V703 -> 36 | M36: ='Other Med Projected'!W703 -> 0.065782999 | N36: ='Other Med Projected'!X703 -> 0.30413799 | O36: ='Other Med Projected'!Y703 -> 0.14378282 | P36: ='Other Med Projected'!Z703 -> 0.52182573 | Q36: =SUM(M36:P36) -> 1.0355295
B37: ='Other Med Projected'!A37 -> 1989 | C37: ='Other Med Projected'!B37 -> M06 | D37: ='Other Med Projected'!C37 -> 146.1 | E37: ='Other Med Projected'!D37 -> 113.9 | F37: ='Other Med Projected'!E37 -> 146 | G37: ='Other Med Projected'!F37 -> 112.2 | H37: ='Other Med Projected'!G37 -> 149.6 | J37: ='Other Med Projected'!T727 -> 1989/6 to 1992/5 | K37: ='Other Med Projected'!U727 -> 0.99999997 | L37: ='Other Med Projected'!V727 -> 36 | M37: ='Other Med Projected'!W727 -> 0.066183467 | N37: ='Other Med Projected'!X727 -> 0.30501355 | O37: ='Other Med Projected'!Y727 -> 0.14496499 | P37: ='Other Med Projected'!Z727 -> 0.51981231 | Q37: =SUM(M37:P37) -> 1.0359743
B38: ='Other Med Projected'!A38 -> 1989 | C38: ='Other Med Projected'!B38 -> M07 | D38: ='Other Med Projected'!C38 -> 147 | E38: ='Other Med Projected'!D38 -> 115.1 | F38: ='Other Med Projected'!E38 -> 146.3 | G38: ='Other Med Projected'!F38 -> 112.7 | H38: ='Other Med Projected'!G38 -> 150.8 | J38: ='Other Med Projected'!T751 -> 1989/7 to 1992/6 | K38: ='Other Med Projected'!U751 -> 0.99999997 | L38: ='Other Med Projected'!V751 -> 36 | M38: ='Other Med Projected'!W751 -> 0.066249487 | N38: ='Other Med Projected'!X751 -> 0.30495817 | O38: ='Other Med Projected'!Y751 -> 0.1448736 | P38: ='Other Med Projected'!Z751 -> 0.51988318 | Q38: =SUM(M38:P38) -> 1.0359644
B39: ='Other Med Projected'!A39 -> 1989 | C39: ='Other Med Projected'!B39 -> M08 | D39: ='Other Med Projected'!C39 -> 147.5 | E39: ='Other Med Projected'!D39 -> 115.3 | F39: ='Other Med Projected'!E39 -> 146.8 | G39: ='Other Med Projected'!F39 -> 112.9 | H39: ='Other Med Projected'!G39 -> 151.4 | J39: ='Other Med Projected'!T775 -> 1989/8 to 1992/7 | K39: ='Other Med Projected'!U775 -> 0.99999997 | L39: ='Other Med Projected'!V775 -> 36 | M39: ='Other Med Projected'!W775 -> 0.070764899 | N39: ='Other Med Projected'!X775 -> 0.30315544 | O39: ='Other Med Projected'!Y775 -> 0.1415999 | P39: ='Other Med Projected'!Z775 -> 0.52063215 | Q39: =SUM(M39:P39) -> 1.0361524
B40: ='Other Med Projected'!A40 -> 1989 | C40: ='Other Med Projected'!B40 -> M09 | D40: ='Other Med Projected'!C40 -> 148 | E40: ='Other Med Projected'!D40 -> 115.5 | F40: ='Other Med Projected'!E40 -> 147.7 | G40: ='Other Med Projected'!F40 -> 113.2 | H40: ='Other Med Projected'!G40 -> 151.9 | J40: ='Other Med Projected'!T799 -> 1989/9 to 1992/8 | K40: ='Other Med Projected'!U799 -> 0.99999997 | L40: ='Other Med Projected'!V799 -> 36 | M40: ='Other Med Projected'!W799 -> 0.069283137 | N40: ='Other Med Projected'!X799 -> 0.30319413 | O40: ='Other Med Projected'!Y799 -> 0.141713 | P40: ='Other Med Projected'!Z799 -> 0.52161077 | Q40: =SUM(M40:P40) -> 1.035801
B41: ='Other Med Projected'!A41 -> 1989 | C41: ='Other Med Projected'!B41 -> M10 | D41: ='Other Med Projected'!C41 -> 148.6 | E41: ='Other Med Projected'!D41 -> 115.7 | F41: ='Other Med Projected'!E41 -> 148.2 | G41: ='Other Med Projected'!F41 -> 113.5 | H41: ='Other Med Projected'!G41 -> 152.6 | J41: ='Other Med Projected'!T823 -> 1989/10 to 1992/9 | K41: ='Other Med Projected'!U823 -> 0.99999997 | L41: ='Other Med Projected'!V823 -> 36 | M41: ='Other Med Projected'!W823 -> 0.078497289 | N41: ='Other Med Projected'!X823 -> 0.30135625 | O41: ='Other Med Projected'!Y823 -> 0.13767574 | P41: ='Other Med Projected'!Z823 -> 0.51947136 | Q41: =SUM(M41:P41) -> 1.0370006
B42: ='Other Med Projected'!A42 -> 1989 | C42: ='Other Med Projected'!B42 -> M11 | D42: ='Other Med Projected'!C42 -> 149.3 | E42: ='Other Med Projected'!D42 -> 116.5 | F42: ='Other Med Projected'!E42 -> 149.1 | G42: ='Other Med Projected'!F42 -> 113.9 | H42: ='Other Med Projected'!G42 -> 153.2 | J42: ='Other Med Projected'!T847 -> 1989/11 to 1992/10 | K42: ='Other Med Projected'!U847 -> 0.99999997 | L42: ='Other Med Projected'!V847 -> 36 | M42: ='Other Med Projected'!W847 -> 0.076955367 | N42: ='Other Med Projected'!X847 -> 0.30286582 | O42: ='Other Med Projected'!Y847 -> 0.14101715 | P42: ='Other Med Projected'!Z847 -> 0.51674287 | Q42: =SUM(M42:P42) -> 1.0375812
B43: ='Other Med Projected'!A43 -> 1989 | C43: ='Other Med Projected'!B43 -> M12 | D43: ='Other Med Projected'!C43 -> 149.9 | E43: ='Other Med Projected'!D43 -> 116.6 | F43: ='Other Med Projected'!E43 -> 149.9 | G43: ='Other Med Projected'!F43 -> 114.1 | H43: ='Other Med Projected'!G43 -> 153.7 | J43: ='Other Med Projected'!T871 -> 1989/12 to 1992/11 | K43: ='Other Med Projected'!U871 -> 0.99999998 | L43: ='Other Med Projected'!V871 -> 36 | M43: ='Other Med Projected'!W871 -> 0.072941633 | N43: ='Other Med Projected'!X871 -> 0.30587323 | O43: ='Other Med Projected'!Y871 -> 0.14604034 | P43: ='Other Med Projected'!Z871 -> 0.51318441 | Q43: =SUM(M43:P43) -> 1.0380396 | R43: =(D43-F43*N7-G43*O7-H43*P7)/M7 -> 117.54642 | S43: =E43 -> 116.6 | T43: =(R43-S43)/S43 -> 0.0081167688
A44: =B44 -> 1990 | B44: ='Other Med Projected'!A44 -> 1990 | C44: ='Other Med Projected'!B44 -> M01 | D44: ='Other Med Projected'!C44 -> 151.1 | E44: ='Other Med Projected'!D44 -> 117 | F44: ='Other Med Projected'!E44 -> 151.4 | G44: ='Other Med Projected'!F44 -> 114.2 | H44: ='Other Med Projected'!G44 -> 155.1 | J44: ='Other Med Projected'!T895 -> 1990/1 to 1992/12 | K44: ='Other Med Projected'!U895 -> 0.99999998 | L44: ='Other Med Projected'!V895 -> 36 | M44: ='Other Med Projected'!W895 -> 0.073902485 | N44: ='Other Med Projected'!X895 -> 0.30556186 | O44: ='Other Med Projected'!Y895 -> 0.14549256 | P44: ='Other Med Projected'!Z895 -> 0.51316718 | Q44: =SUM(M44:P44) -> 1.0381241 | R44: =(D44-F44*N8-G44*O8-H44*P8)/M8 -> 117.3698 | S44: =E44 -> 117 | T44: =(R44-S44)/S44 -> 0.0031607206
B45: ='Other Med Projected'!A45 -> 1990 | C45: ='Other Med Projected'!B45 -> M02 | D45: ='Other Med Projected'!C45 -> 152.3 | E45: ='Other Med Projected'!D45 -> 117.7 | F45: ='Other Med Projected'!E45 -> 152.4 | G45: ='Other Med Projected'!F45 -> 114.9 | H45: ='Other Med Projected'!G45 -> 156.6 | J45: ='Other Med Projected'!T919 -> 1990/2 to 1993/1 | K45: ='Other Med Projected'!U919 -> 0.99999998 | L45: ='Other Med Projected'!V919 -> 36 | M45: ='Other Med Projected'!W919 -> 0.075109713 | N45: ='Other Med Projected'!X919 -> 0.30622414 | O45: ='Other Med Projected'!Y919 -> 0.14568603 | P45: ='Other Med Projected'!Z919 -> 0.51148901 | Q45: =SUM(M45:P45) -> 1.0385089 | R45: =(D45-F45*N9-G45*O9-H45*P9)/M9 -> 117.29883 | S45: =E45 -> 117.7 | T45: =(R45-S45)/S45 -> -0.0034083961
B46: ='Other Med Projected'!A46 -> 1990 | C46: ='Other Med Projected'!B46 -> M03 | D46: ='Other Med Projected'!C46 -> 153.2 | E46: ='Other Med Projected'!D46 -> 118.6 | F46: ='Other Med Projected'!E46 -> 153.1 | G46: ='Other Med Projected'!F46 -> 115.3 | H46: ='Other Med Projected'!G46 -> 157.7 | J46: ='Other Med Projected'!T943 -> 1990/3 to 1993/2 | K46: ='Other Med Projected'!U943 -> 0.99999998 | L46: ='Other Med Projected'!V943 -> 36 | M46: ='Other Med Projected'!W943 -> 0.072395762 | N46: ='Other Med Projected'!X943 -> 0.30893055 | O46: ='Other Med Projected'!Y943 -> 0.15056358 | P46: ='Other Med Projected'!Z943 -> 0.50736699 | Q46: =SUM(M46:P46) -> 1.0392569 | R46: =(D46-F46*N10-G46*O10-H46*P10)/M10 -> 118.09073 | S46: =E46 -> 118.6 | T46: =(R46-S46)/S46 -> -0.00429401
B47: ='Other Med Projected'!A47 -> 1990 | C47: ='Other Med Projected'!B47 -> M04 | D47: ='Other Med Projected'!C47 -> 154.1 | E47: ='Other Med Projected'!D47 -> 119.1 | F47: ='Other Med Projected'!E47 -> 153.5 | G47: ='Other Med Projected'!F47 -> 116.1 | H47: ='Other Med Projected'!G47 -> 158.8 | J47: ='Other Med Projected'!T967 -> 1990/4 to 1993/3 | K47: ='Other Med Projected'!U967 -> 0.99999998 | L47: ='Other Med Projected'!V967 -> 36 | M47: ='Other Med Projected'!W967 -> 0.07227823 | N47: ='Other Med Projected'!X967 -> 0.30806156 | O47: ='Other Med Projected'!Y967 -> 0.15049185 | P47: ='Other Med Projected'!Z967 -> 0.50836948 | Q47: =SUM(M47:P47) -> 1.0392011 | R47: =(D47-F47*N11-G47*O11-H47*P11)/M11 -> 119.63843 | S47: =E47 -> 119.1 | T47: =(R47-S47)/S47 -> 0.0045208052
B48: ='Other Med Projected'!A48 -> 1990 | C48: ='Other Med Projected'!B48 -> M05 | D48: ='Other Med Projected'!C48 -> 155.1 | E48: ='Other Med Projected'!D48 -> 119.5 | F48: ='Other Med Projected'!E48 -> 154.5 | G48: ='Other Med Projected'!F48 -> 116.5 | H48: ='Other Med Projected'!G48 -> 160 | J48: ='Other Med Projected'!T991 -> 1990/5 to 1993/4 | K48: ='Other Med Projected'!U991 -> 0.99999998 | L48: ='Other Med Projected'!V991 -> 36 | M48: ='Other Med Projected'!W991 -> 0.072407235 | N48: ='Other Med Projected'!X991 -> 0.30737191 | O48: ='Other Med Projected'!Y991 -> 0.14906773 | P48: ='Other Med Projected'!Z991 -> 0.50996856 | Q48: =SUM(M48:P48) -> 1.0388154 | R48: =(D48-F48*N12-G48*O12-H48*P12)/M12 -> 119.53466 | S48: =E48 -> 119.5 | T48: =(R48-S48)/S48 -> 0.00029007207
B49: ='Other Med Projected'!A49 -> 1990 | C49: ='Other Med Projected'!B49 -> M06 | D49: ='Other Med Projected'!C49 -> 155.8 | E49: ='Other Med Projected'!D49 -> 119.7 | F49: ='Other Med Projected'!E49 -> 155.3 | G49: ='Other Med Projected'!F49 -> 117.3 | H49: ='Other Med Projected'!G49 -> 160.6 | J49: ='Other Med Projected'!T1015 -> 1990/6 to 1993/5 | K49: ='Other Med Projected'!U1015 -> 0.99999998 | L49: ='Other Med Projected'!V1015 -> 36 | M49: ='Other Med Projected'!W1015 -> 0.072397851 | N49: ='Other Med Projected'!X1015 -> 0.30730358 | O49: ='Other Med Projected'!Y1015 -> 0.14909993 | P49: ='Other Med Projected'!Z1015 -> 0.5100201 | Q49: =SUM(M49:P49) -> 1.0388215 | R49: =(D49-F49*N13-G49*O13-H49*P13)/M13 -> 119.95152 | S49: =E49 -> 119.7 | T49: =(R49-S49)/S49 -> 0.0021012461
B50: ='Other Med Projected'!A50 -> 1990 | C50: ='Other Med Projected'!B50 -> M07 | D50: ='Other Med Projected'!C50 -> 157 | E50: ='Other Med Projected'!D50 -> 121 | F50: ='Other Med Projected'!E50 -> 156.6 | G50: ='Other Med Projected'!F50 -> 117.6 | H50: ='Other Med Projected'!G50 -> 161.9 | J50: ='Other Med Projected'!T1039 -> 1990/7 to 1993/6 | K50: ='Other Med Projected'!U1039 -> 0.99999998 | L50: ='Other Med Projected'!V1039 -> 36 | M50: ='Other Med Projected'!W1039 -> 0.074582146 | N50: ='Other Med Projected'!X1039 -> 0.30615681 | O50: ='Other Med Projected'!Y1039 -> 0.14628326 | P50: ='Other Med Projected'!Z1039 -> 0.51153864 | Q50: =SUM(M50:P50) -> 1.0385609 | R50: =(D50-F50*N14-G50*O14-H50*P14)/M14 -> 121.50668 | S50: =E50 -> 121 | T50: =(R50-S50)/S50 -> 0.0041874071
B51: ='Other Med Projected'!A51 -> 1990 | C51: ='Other Med Projected'!B51 -> M08 | D51: ='Other Med Projected'!C51 -> 157.8 | E51: ='Other Med Projected'!D51 -> 121.5 | F51: ='Other Med Projected'!E51 -> 157.2 | G51: ='Other Med Projected'!F51 -> 118.7 | H51: ='Other Med Projected'!G51 -> 162.7 | J51: ='Other Med Projected'!T1063 -> 1990/8 to 1993/7 | K51: ='Other Med Projected'!U1063 -> 0.99999998 | L51: ='Other Med Projected'!V1063 -> 36 | M51: ='Other Med Projected'!W1063 -> 0.074822585 | N51: ='Other Med Projected'!X1063 -> 0.30604155 | O51: ='Other Med Projected'!Y1063 -> 0.14567999 | P51: ='Other Med Projected'!Z1063 -> 0.51190183 | Q51: =SUM(M51:P51) -> 1.038446 | R51: =(D51-F51*N15-G51*O15-H51*P15)/M15 -> 121.895 | S51: =E51 -> 121.5 | T51: =(R51-S51)/S51 -> 0.0032509905
B52: ='Other Med Projected'!A52 -> 1990 | C52: ='Other Med Projected'!B52 -> M09 | D52: ='Other Med Projected'!C52 -> 158.2 | E52: ='Other Med Projected'!D52 -> 121.7 | F52: ='Other Med Projected'!E52 -> 157.6 | G52: ='Other Med Projected'!F52 -> 119.3 | H52: ='Other Med Projected'!G52 -> 163.1 | J52: ='Other Med Projected'!T1087 -> 1990/9 to 1993/8 | K52: ='Other Med Projected'!U1087 -> 0.99999998 | L52: ='Other Med Projected'!V1087 -> 36 | M52: ='Other Med Projected'!W1087 -> 0.076564257 | N52: ='Other Med Projected'!X1087 -> 0.30510921 | O52: ='Other Med Projected'!Y1087 -> 0.14281821 | P52: ='Other Med Projected'!Z1087 -> 0.51356455 | Q52: =SUM(M52:P52) -> 1.0380562 | R52: =(D52-F52*N16-G52*O16-H52*P16)/M16 -> 121.25642 | S52: =E52 -> 121.7 | T52: =(R52-S52)/S52 -> -0.0036448923
B53: ='Other Med Projected'!A53 -> 1990 | C53: ='Other Med Projected'!B53 -> M10 | D53: ='Other Med Projected'!C53 -> 158.9 | E53: ='Other Med Projected'!D53 -> 121.7 | F53: ='Other Med Projected'!E53 -> 158.3 | G53: ='Other Med Projected'!F53 -> 119.3 | H53: ='Other Med Projected'!G53 -> 164 | J53: ='Other Med Projected'!T1111 -> 1990/10 to 1993/9 | K53: ='Other Med Projected'!U1111 -> 0.99999998 | L53: ='Other Med Projected'!V1111 -> 36 | M53: ='Other Med Projected'!W1111 -> 0.076799603 | N53: ='Other Med Projected'!X1111 -> 0.30368409 | O53: ='Other Med Projected'!Y1111 -> 0.14153668 | P53: ='Other Med Projected'!Z1111 -> 0.51570246 | Q53: =SUM(M53:P53) -> 1.0377228 | R53: =(D53-F53*N17-G53*O17-H53*P17)/M17 -> 121.60351 | S53: =E53 -> 121.7 | T53: =(R53-S53)/S53 -> -0.00079288029
B54: ='Other Med Projected'!A54 -> 1990 | C54: ='Other Med Projected'!B54 -> M11 | D54: ='Other Med Projected'!C54 -> 159.6 | E54: ='Other Med Projected'!D54 -> 122.1 | F54: ='Other Med Projected'!E54 -> 159.6 | G54: ='Other Med Projected'!F54 -> 119.4 | H54: ='Other Med Projected'!G54 -> 164.5 | J54: ='Other Med Projected'!T1135 -> 1990/11 to 1993/10 | K54: ='Other Med Projected'!U1135 -> 0.99999998 | L54: ='Other Med Projected'!V1135 -> 36 | M54: ='Other Med Projected'!W1135 -> 0.077022143 | N54: ='Other Med Projected'!X1135 -> 0.30614528 | O54: ='Other Med Projected'!Y1135 -> 0.14251123 | P54: ='Other Med Projected'!Z1135 -> 0.51242397 | Q54: =SUM(M54:P54) -> 1.0381026 | R54: =(D54-F54*N18-G54*O18-H54*P18)/M18 -> 122.33118 | S54: =E54 -> 122.1 | T54: =(R54-S54)/S54 -> 0.0018933746
B55: ='Other Med Projected'!A55 -> 1990 | C55: ='Other Med Projected'!B55 -> M12 | D55: ='Other Med Projected'!C55 -> 160 | E55: ='Other Med Projected'!D55 -> 122.5 | F55: ='Other Med Projected'!E55 -> 159.9 | G55: ='Other Med Projected'!F55 -> 119.2 | H55: ='Other Med Projected'!G55 -> 165.1 | J55: ='Other Med Projected'!T1159 -> 1990/12 to 1993/11 | K55: ='Other Med Projected'!U1159 -> 0.99999998 | L55: ='Other Med Projected'!V1159 -> 36 | M55: ='Other Med Projected'!W1159 -> 0.080236005 | N55: ='Other Med Projected'!X1159 -> 0.30670987 | O55: ='Other Med Projected'!Y1159 -> 0.13900239 | P55: ='Other Med Projected'!Z1159 -> 0.51198584 | Q55: =SUM(M55:P55) -> 1.0379341 | R55: =(D55-F55*N19-G55*O19-H55*P19)/M19 -> 122.69175 | S55: =E55 -> 122.5 | T55: =(R55-S55)/S55 -> 0.0015652796
A56: =B56 -> 1991 | B56: ='Other Med Projected'!A56 -> 1991 | C56: ='Other Med Projected'!B56 -> M01 | D56: ='Other Med Projected'!C56 -> 161.2 | E56: ='Other Med Projected'!D56 -> 122.9 | F56: ='Other Med Projected'!E56 -> 161.5 | G56: ='Other Med Projected'!F56 -> 119.6 | H56: ='Other Med Projected'!G56 -> 166.4 | J56: ='Other Med Projected'!T1183 -> 1991/1 to 1993/12 | K56: ='Other Med Projected'!U1183 -> 0.99999998 | L56: ='Other Med Projected'!V1183 -> 36 | M56: ='Other Med Projected'!W1183 -> 0.082454106 | N56: ='Other Med Projected'!X1183 -> 0.3085537 | O56: ='Other Med Projected'!Y1183 -> 0.13650936 | P56: ='Other Med Projected'!Z1183 -> 0.51029894 | Q56: =SUM(M56:P56) -> 1.0378161 | R56: =(D56-F56*N20-G56*O20-H56*P20)/M20 -> 122.09839 | S56: =E56 -> 122.9 | T56: =(R56-S56)/S56 -> -0.0065224953
B57: ='Other Med Projected'!A57 -> 1991 | C57: ='Other Med Projected'!B57 -> M02 | D57: ='Other Med Projected'!C57 -> 162.3 | E57: ='Other Med Projected'!D57 -> 124 | F57: ='Other Med Projected'!E57 -> 162.8 | G57: ='Other Med Projected'!F57 -> 120.3 | H57: ='Other Med Projected'!G57 -> 167.3 | J57: ='Other Med Projected'!T1207 -> 1991/2 to 1994/1 | K57: ='Other Med Projected'!U1207 -> 0.99999998 | L57: ='Other Med Projected'!V1207 -> 36 | M57: ='Other Med Projected'!W1207 -> 0.080827271 | N57: ='Other Med Projected'!X1207 -> 0.30842338 | O57: ='Other Med Projected'!Y1207 -> 0.13831929 | P57: ='Other Med Projected'!Z1207 -> 0.51034331 | Q57: =SUM(M57:P57) -> 1.0379132 | R57: =(D57-F57*N21-G57*O21-H57*P21)/M21 -> 124.77195 | S57: =E57 -> 124 | T57: =(R57-S57)/S57 -> 0.0062253782
B58: ='Other Med Projected'!A58 -> 1991 | C58: ='Other Med Projected'!B58 -> M03 | D58: ='Other Med Projected'!C58 -> 163.3 | E58: ='Other Med Projected'!D58 -> 125.2 | F58: ='Other Med Projected'!E58 -> 163.8 | G58: ='Other Med Projected'!F58 -> 120.5 | H58: ='Other Med Projected'!G58 -> 168.5 | J58: ='Other Med Projected'!T1231 -> 1991/3 to 1994/2 | K58: ='Other Med Projected'!U1231 -> 0.99999998 | L58: ='Other Med Projected'!V1231 -> 36 | M58: ='Other Med Projected'!W1231 -> 0.079453007 | N58: ='Other Med Projected'!X1231 -> 0.31317346 | O58: ='Other Med Projected'!Y1231 -> 0.13939617 | P58: ='Other Med Projected'!Z1231 -> 0.50590029 | Q58: =SUM(M58:P58) -> 1.0379229 | R58: =(D58-F58*N22-G58*O22-H58*P22)/M22 -> 125.21551 | S58: =E58 -> 125.2 | T58: =(R58-S58)/S58 -> 0.00012384964
B59: ='Other Med Projected'!A59 -> 1991 | C59: ='Other Med Projected'!B59 -> M04 | D59: ='Other Med Projected'!C59 -> 163.7 | E59: ='Other Med Projected'!D59 -> 125.7 | F59: ='Other Med Projected'!E59 -> 164.2 | G59: ='Other Med Projected'!F59 -> 121.1 | H59: ='Other Med Projected'!G59 -> 168.8 | J59: ='Other Med Projected'!T1255 -> 1991/4 to 1994/3 | K59: ='Other Med Projected'!U1255 -> 0.99999998 | L59: ='Other Med Projected'!V1255 -> 36 | M59: ='Other Med Projected'!W1255 -> 0.080103001 | N59: ='Other Med Projected'!X1255 -> 0.31462768 | O59: ='Other Med Projected'!Y1255 -> 0.13843991 | P59: ='Other Med Projected'!Z1255 -> 0.50466176 | Q59: =SUM(M59:P59) -> 1.0378323 | R59: =(D59-F59*N23-G59*O23-H59*P23)/M23 -> 125.70691 | S59: =E59 -> 125.7 | T59: =(R59-S59)/S59 -> 5.4942103e-05
B60: ='Other Med Projected'!A60 -> 1991 | C60: ='Other Med Projected'!B60 -> M05 | D60: ='Other Med Projected'!C60 -> 164.4 | E60: ='Other Med Projected'!D60 -> 126.6 | F60: ='Other Med Projected'!E60 -> 165.5 | G60: ='Other Med Projected'!F60 -> 121.6 | H60: ='Other Med Projected'!G60 -> 169.2 | J60: ='Other Med Projected'!T1279 -> 1991/5 to 1994/4 | K60: ='Other Med Projected'!U1279 -> 0.99999998 | L60: ='Other Med Projected'!V1279 -> 36 | M60: ='Other Med Projected'!W1279 -> 0.082447792 | N60: ='Other Med Projected'!X1279 -> 0.31819737 | O60: ='Other Med Projected'!Y1279 -> 0.13548166 | P60: ='Other Med Projected'!Z1279 -> 0.50150451 | Q60: =SUM(M60:P60) -> 1.0376313 | R60: =(D60-F60*N24-G60*O24-H60*P24)/M24 -> 126.2075 | S60: =E60 -> 126.6 | T60: =(R60-S60)/S60 -> -0.0031002769
B61: ='Other Med Projected'!A61 -> 1991 | C61: ='Other Med Projected'!B61 -> M06 | D61: ='Other Med Projected'!C61 -> 165.3 | E61: ='Other Med Projected'!D61 -> 126.7 | F61: ='Other Med Projected'!E61 -> 166.8 | G61: ='Other Med Projected'!F61 -> 122.2 | H61: ='Other Med Projected'!G61 -> 169.9 | J61: ='Other Med Projected'!T1303 -> 1991/6 to 1994/5 | K61: ='Other Med Projected'!U1303 -> 0.99999998 | L61: ='Other Med Projected'!V1303 -> 36 | M61: ='Other Med Projected'!W1303 -> 0.083951393 | N61: ='Other Med Projected'!X1303 -> 0.3140425 | O61: ='Other Med Projected'!Y1303 -> 0.13527738 | P61: ='Other Med Projected'!Z1303 -> 0.50465778 | Q61: =SUM(M61:P61) -> 1.0379291 | R61: =(D61-F61*N25-G61*O25-H61*P25)/M25 -> 127.26349 | S61: =E61 -> 126.7 | T61: =(R61-S61)/S61 -> 0.0044474513
B62: ='Other Med Projected'!A62 -> 1991 | C62: ='Other Med Projected'!B62 -> M07 | D62: ='Other Med Projected'!C62 -> 166.1 | E62: ='Other Med Projected'!D62 -> 126.8 | F62: ='Other Med Projected'!E62 -> 168 | G62: ='Other Med Projected'!F62 -> 122.5 | H62: ='Other Med Projected'!G62 -> 170.7 | J62: ='Other Med Projected'!T1327 -> 1991/7 to 1994/6 | K62: ='Other Med Projected'!U1327 -> 0.99999998 | L62: ='Other Med Projected'!V1327 -> 36 | M62: ='Other Med Projected'!W1327 -> 0.082143778 | N62: ='Other Med Projected'!X1327 -> 0.31470637 | O62: ='Other Med Projected'!Y1327 -> 0.1366884 | P62: ='Other Med Projected'!Z1327 -> 0.50432811 | Q62: =SUM(M62:P62) -> 1.0378667 | R62: =(D62-F62*N26-G62*O26-H62*P26)/M26 -> 126.63688 | S62: =E62 -> 126.8 | T62: =(R62-S62)/S62 -> -0.001286447
B63: ='Other Med Projected'!A63 -> 1991 | C63: ='Other Med Projected'!B63 -> M08 | D63: ='Other Med Projected'!C63 -> 167.1 | E63: ='Other Med Projected'!D63 -> 127.3 | F63: ='Other Med Projected'!E63 -> 169.5 | G63: ='Other Med Projected'!F63 -> 122.4 | H63: ='Other Med Projected'!G63 -> 171.6 | J63: ='Other Med Projected'!T1351 -> 1991/8 to 1994/7 | K63: ='Other Med Projected'!U1351 -> 0.99999998 | L63: ='Other Med Projected'!V1351 -> 36 | M63: ='Other Med Projected'!W1351 -> 0.082435785 | N63: ='Other Med Projected'!X1351 -> 0.31203848 | O63: ='Other Med Projected'!Y1351 -> 0.13736608 | P63: ='Other Med Projected'!Z1351 -> 0.50628011 | Q63: =SUM(M63:P63) -> 1.0381205 | R63: =(D63-F63*N27-G63*O27-H63*P27)/M27 -> 128.23643 | S63: =E63 -> 127.3 | T63: =(R63-S63)/S63 -> 0.0073560673
B64: ='Other Med Projected'!A64 -> 1991 | C64: ='Other Med Projected'!B64 -> M09 | D64: ='Other Med Projected'!C64 -> 167.9 | E64: ='Other Med Projected'!D64 -> 127.9 | F64: ='Other Med Projected'!E64 -> 170.6 | G64: ='Other Med Projected'!F64 -> 122.7 | H64: ='Other Med Projected'!G64 -> 172.4 | J64: ='Other Med Projected'!T1375 -> 1991/9 to 1994/8 | K64: ='Other Med Projected'!U1375 -> 0.99999998 | L64: ='Other Med Projected'!V1375 -> 36 | M64: ='Other Med Projected'!W1375 -> 0.081405164 | N64: ='Other Med Projected'!X1375 -> 0.30891642 | O64: ='Other Med Projected'!Y1375 -> 0.13863733 | P64: ='Other Med Projected'!Z1375 -> 0.50921188 | Q64: =SUM(M64:P64) -> 1.0381708 | R64: =(D64-F64*N28-G64*O28-H64*P28)/M28 -> 127.96954 | S64: =E64 -> 127.9 | T64: =(R64-S64)/S64 -> 0.0005436711
B65: ='Other Med Projected'!A65 -> 1991 | C65: ='Other Med Projected'!B65 -> M10 | D65: ='Other Med Projected'!C65 -> 168.5 | E65: ='Other Med Projected'!D65 -> 128.1 | F65: ='Other Med Projected'!E65 -> 171.1 | G65: ='Other Med Projected'!F65 -> 123.3 | H65: ='Other Med Projected'!G65 -> 173.1 | J65: ='Other Med Projected'!T1399 -> 1991/10 to 1994/9 | K65: ='Other Med Projected'!U1399 -> 0.99999998 | L65: ='Other Med Projected'!V1399 -> 36 | M65: ='Other Med Projected'!W1399 -> 0.081954542 | N65: ='Other Med Projected'!X1399 -> 0.30778142 | O65: ='Other Med Projected'!Y1399 -> 0.13870698 | P65: ='Other Med Projected'!Z1399 -> 0.50988763 | Q65: =SUM(M65:P65) -> 1.0383306 | R65: =(D65-F65*N29-G65*O29-H65*P29)/M29 -> 127.81747 | S65: =E65 -> 128.1 | T65: =(R65-S65)/S65 -> -0.0022055582
B66: ='Other Med Projected'!A66 -> 1991 | C66: ='Other Med Projected'!B66 -> M11 | D66: ='Other Med Projected'!C66 -> 169.1 | E66: ='Other Med Projected'!D66 -> 128.9 | F66: ='Other Med Projected'!E66 -> 172.3 | G66: ='Other Med Projected'!F66 -> 123.1 | H66: ='Other Med Projected'!G66 -> 173.4 | J66: ='Other Med Projected'!T1423 -> 1991/11 to 1994/10 | K66: ='Other Med Projected'!U1423 -> 0.99999998 | L66: ='Other Med Projected'!V1423 -> 36 | M66: ='Other Med Projected'!W1423 -> 0.082703131 | N66: ='Other Med Projected'!X1423 -> 0.30895262 | O66: ='Other Med Projected'!Y1423 -> 0.13840363 | P66: ='Other Med Projected'!Z1423 -> 0.50841002 | Q66: =SUM(M66:P66) -> 1.0384694 | R66: =(D66-F66*N30-G66*O30-H66*P30)/M30 -> 129.7514 | S66: =E66 -> 128.9 | T66: =(R66-S66)/S66 -> 0.0066051366
B67: ='Other Med Projected'!A67 -> 1991 | C67: ='Other Med Projected'!B67 -> M12 | D67: ='Other Med Projected'!C67 -> 169.8 | E67: ='Other Med Projected'!D67 -> 129.2 | F67: ='Other Med Projected'!E67 -> 173 | G67: ='Other Med Projected'!F67 -> 123.5 | H67: ='Other Med Projected'!G67 -> 174.2 | J67: ='Other Med Projected'!T1447 -> 1991/12 to 1994/11 | K67: ='Other Med Projected'!U1447 -> 0.99999998 | L67: ='Other Med Projected'!V1447 -> 36 | M67: ='Other Med Projected'!W1447 -> 0.082869368 | N67: ='Other Med Projected'!X1447 -> 0.3042703 | O67: ='Other Med Projected'!Y1447 -> 0.13865618 | P67: ='Other Med Projected'!Z1447 -> 0.51272474 | Q67: =SUM(M67:P67) -> 1.0385206 | R67: =(D67-F67*N31-G67*O31-H67*P31)/M31 -> 129.66146 | S67: =E67 -> 129.2 | T67: =(R67-S67)/S67 -> 0.0035717025
A68: =B68 -> 1992 | B68: ='Other Med Projected'!A68 -> 1992 | C68: ='Other Med Projected'!B68 -> M01 | D68: ='Other Med Projected'!C68 -> 171.1 | E68: ='Other Med Projected'!D68 -> 130 | F68: ='Other Med Projected'!E68 -> 174.1 | G68: ='Other Med Projected'!F68 -> 125.5 | H68: ='Other Med Projected'!G68 -> 175.4 | J68: ='Other Med Projected'!T1471 -> 1992/1 to 1994/12 | K68: ='Other Med Projected'!U1471 -> 0.99999998 | L68: ='Other Med Projected'!V1471 -> 36 | M68: ='Other Med Projected'!W1471 -> 0.081111706 | N68: ='Other Med Projected'!X1471 -> 0.30457819 | O68: ='Other Med Projected'!Y1471 -> 0.13926166 | P68: ='Other Med Projected'!Z1471 -> 0.51326472 | Q68: =SUM(M68:P68) -> 1.0382163 | R68: =(D68-F68*N32-G68*O32-H68*P32)/M32 -> 130.33764 | S68: =E68 -> 130 | T68: =(R68-S68)/S68 -> 0.0025972612
B69: ='Other Med Projected'!A69 -> 1992 | C69: ='Other Med Projected'!B69 -> M02 | D69: ='Other Med Projected'!C69 -> 172.5 | E69: ='Other Med Projected'!D69 -> 130.5 | F69: ='Other Med Projected'!E69 -> 174.7 | G69: ='Other Med Projected'!F69 -> 126.3 | H69: ='Other Med Projected'!G69 -> 177.5 | J69: ='Other Med Projected'!T1495 -> 1992/2 to 1995/1 | K69: ='Other Med Projected'!U1495 -> 0.99999998 | L69: ='Other Med Projected'!V1495 -> 36 | M69: ='Other Med Projected'!W1495 -> 0.07811894 | N69: ='Other Med Projected'!X1495 -> 0.30779295 | O69: ='Other Med Projected'!Y1495 -> 0.13990652 | P69: ='Other Med Projected'!Z1495 -> 0.51179736 | Q69: =SUM(M69:P69) -> 1.0376158 | R69: =(D69-F69*N33-G69*O33-H69*P33)/M33 -> 130.20096 | S69: =E69 -> 130.5 | T69: =(R69-S69)/S69 -> -0.0022915056
B70: ='Other Med Projected'!A70 -> 1992 | C70: ='Other Med Projected'!B70 -> M03 | D70: ='Other Med Projected'!C70 -> 173.4 | E70: ='Other Med Projected'!D70 -> 131 | F70: ='Other Med Projected'!E70 -> 175.4 | G70: ='Other Med Projected'!F70 -> 126.5 | H70: ='Other Med Projected'!G70 -> 178.8 | J70: ='Other Med Projected'!T1519 -> 1992/3 to 1995/2 | K70: ='Other Med Projected'!U1519 -> 0.99999998 | L70: ='Other Med Projected'!V1519 -> 36 | M70: ='Other Med Projected'!W1519 -> 0.076968285 | N70: ='Other Med Projected'!X1519 -> 0.30763882 | O70: ='Other Med Projected'!Y1519 -> 0.14012318 | P70: ='Other Med Projected'!Z1519 -> 0.51261872 | Q70: =SUM(M70:P70) -> 1.037349 | R70: =(D70-F70*N34-G70*O34-H70*P34)/M34 -> 129.89229 | S70: =E70 -> 131 | T70: =(R70-S70)/S70 -> -0.0084557828
B71: ='Other Med Projected'!A71 -> 1992 | C71: ='Other Med Projected'!B71 -> M04 | D71: ='Other Med Projected'!C71 -> 174.1 | E71: ='Other Med Projected'!D71 -> 131.4 | F71: ='Other Med Projected'!E71 -> 176.4 | G71: ='Other Med Projected'!F71 -> 126.6 | H71: ='Other Med Projected'!G71 -> 179.4 | J71: ='Other Med Projected'!T1543 -> 1992/4 to 1995/3 | K71: ='Other Med Projected'!U1543 -> 0.99999998 | L71: ='Other Med Projected'!V1543 -> 36 | M71: ='Other Med Projected'!W1543 -> 0.078549294 | N71: ='Other Med Projected'!X1543 -> 0.30708491 | O71: ='Other Med Projected'!Y1543 -> 0.13976182 | P71: ='Other Med Projected'!Z1543 -> 0.51228842 | Q71: =SUM(M71:P71) -> 1.0376844 | R71: =(D71-F71*N35-G71*O35-H71*P35)/M35 -> 131.19507 | S71: =E71 -> 131.4 | T71: =(R71-S71)/S71 -> -0.0015595687
B72: ='Other Med Projected'!A72 -> 1992 | C72: ='Other Med Projected'!B72 -> M05 | D72: ='Other Med Projected'!C72 -> 174.7 | E72: ='Other Med Projected'!D72 -> 131.6 | F72: ='Other Med Projected'!E72 -> 176.9 | G72: ='Other Med Projected'!F72 -> 126.5 | H72: ='Other Med Projected'!G72 -> 180.3 | J72: ='Other Med Projected'!T1567 -> 1992/5 to 1995/4 | K72: ='Other Med Projected'!U1567 -> 0.99999998 | L72: ='Other Med Projected'!V1567 -> 36 | M72: ='Other Med Projected'!W1567 -> 0.077456296 | N72: ='Other Med Projected'!X1567 -> 0.30717819 | O72: ='Other Med Projected'!Y1567 -> 0.14000441 | P72: ='Other Med Projected'!Z1567 -> 0.51280831 | Q72: =SUM(M72:P72) -> 1.0374472 | R72: =(D72-F72*N36-G72*O36-H72*P36)/M36 -> 131.10204 | S72: =E72 -> 131.6 | T72: =(R72-S72)/S72 -> -0.0037838933
B73: ='Other Med Projected'!A73 -> 1992 | C73: ='Other Med Projected'!B73 -> M06 | D73: ='Other Med Projected'!C73 -> 175.4 | E73: ='Other Med Projected'!D73 -> 131.6 | F73: ='Other Med Projected'!E73 -> 177.6 | G73: ='Other Med Projected'!F73 -> 126.8 | H73: ='Other Med Projected'!G73 -> 181.1 | J73: ='Other Med Projected'!T1591 -> 1992/6 to 1995/5 | K73: ='Other Med Projected'!U1591 -> 0.99999998 | L73: ='Other Med Projected'!V1591 -> 36 | M73: ='Other Med Projected'!W1591 -> 0.079025438 | N73: ='Other Med Projected'!X1591 -> 0.30695994 | O73: ='Other Med Projected'!Y1591 -> 0.13979691 | P73: ='Other Med Projected'!Z1591 -> 0.51204664 | Q73: =SUM(M73:P73) -> 1.0378289 | R73: =(D73-F73*N37-G73*O37-H73*P37)/M37 -> 131.6042 | S73: =E73 -> 131.6 | T73: =(R73-S73)/S73 -> 3.1903098e-05
B74: ='Other Med Projected'!A74 -> 1992 | C74: ='Other Med Projected'!B74 -> M07 | D74: ='Other Med Projected'!C74 -> 176.3 | E74: ='Other Med Projected'!D74 -> 132 | F74: ='Other Med Projected'!E74 -> 179.3 | G74: ='Other Med Projected'!F74 -> 127.1 | H74: ='Other Med Projected'!G74 -> 181.8 | J74: ='Other Med Projected'!T1615 -> 1992/7 to 1995/6 | K74: ='Other Med Projected'!U1615 -> 0.99999998 | L74: ='Other Med Projected'!V1615 -> 36 | M74: ='Other Med Projected'!W1615 -> 0.077243296 | N74: ='Other Med Projected'!X1615 -> 0.30800594 | O74: ='Other Med Projected'!Y1615 -> 0.14022876 | P74: ='Other Med Projected'!Z1615 -> 0.51198303 | Q74: =SUM(M74:P74) -> 1.037461 | R74: =(D74-F74*N38-G74*O38-H74*P38)/M38 -> 131.21313 | S74: =E74 -> 132 | T74: =(R74-S74)/S74 -> -0.005961112
B75: ='Other Med Projected'!A75 -> 1992 | C75: ='Other Med Projected'!B75 -> M08 | D75: ='Other Med Projected'!C75 -> 177.1 | E75: ='Other Med Projected'!D75 -> 131.6 | F75: ='Other Med Projected'!E75 -> 180.4 | G75: ='Other Med Projected'!F75 -> 126.9 | H75: ='Other Med Projected'!G75 -> 182.7 | J75: ='Other Med Projected'!T1639 -> 1992/8 to 1995/7 | K75: ='Other Med Projected'!U1639 -> 0.99999998 | L75: ='Other Med Projected'!V1639 -> 36 | M75: ='Other Med Projected'!W1639 -> 0.073046939 | N75: ='Other Med Projected'!X1639 -> 0.30826804 | O75: ='Other Med Projected'!Y1639 -> 0.14248552 | P75: ='Other Med Projected'!Z1639 -> 0.5131833 | Q75: =SUM(M75:P75) -> 1.0369838 | R75: =(D75-F75*N39-G75*O39-H75*P39)/M39 -> 131.73533 | S75: =E75 -> 131.6 | T75: =(R75-S75)/S75 -> 0.0010283439
B76: ='Other Med Projected'!A76 -> 1992 | C76: ='Other Med Projected'!B76 -> M09 | D76: ='Other Med Projected'!C76 -> 177.7 | E76: ='Other Med Projected'!D76 -> 131.9 | F76: ='Other Med Projected'!E76 -> 181.4 | G76: ='Other Med Projected'!F76 -> 127.6 | H76: ='Other Med Projected'!G76 -> 183.2 | J76: ='Other Med Projected'!T1663 -> 1992/9 to 1995/8 | K76: ='Other Med Projected'!U1663 -> 0.99999998 | L76: ='Other Med Projected'!V1663 -> 36 | M76: ='Other Med Projected'!W1663 -> 0.07730023 | N76: ='Other Med Projected'!X1663 -> 0.30679513 | O76: ='Other Med Projected'!Y1663 -> 0.1399842 | P76: ='Other Med Projected'!Z1663 -> 0.51329974 | Q76: =SUM(M76:P76) -> 1.0373793 | R76: =(D76-F76*N40-G76*O40-H76*P40)/M40 -> 130.75204 | S76: =E76 -> 131.9 | T76: =(R76-S76)/S76 -> -0.0087032467
B77: ='Other Med Projected'!A77 -> 1992 | C77: ='Other Med Projected'!B77 -> M10 | D77: ='Other Med Projected'!C77 -> 178.4 | E77: ='Other Med Projected'!D77 -> 132.8 | F77: ='Other Med Projected'!E77 -> 182 | G77: ='Other Med Projected'!F77 -> 127.6 | H77: ='Other Med Projected'!G77 -> 184 | J77: ='Other Med Projected'!T1687 -> 1992/10 to 1995/9 | K77: ='Other Med Projected'!U1687 -> 0.99999998 | L77: ='Other Med Projected'!V1687 -> 36 | M77: ='Other Med Projected'!W1687 -> 0.07364595 | N77: ='Other Med Projected'!X1687 -> 0.31036788 | O77: ='Other Med Projected'!Y1687 -> 0.14293544 | P77: ='Other Med Projected'!Z1687 -> 0.51038693 | Q77: =SUM(M77:P77) -> 1.0373362 | R77: =(D77-F77*N41-G77*O41-H77*P41)/M41 -> 132.52697 | S77: =E77 -> 132.8 | T77: =(R77-S77)/S77 -> -0.0020559541
B78: ='Other Med Projected'!A78 -> 1992 | C78: ='Other Med Projected'!B78 -> M11 | D78: ='Other Med Projected'!C78 -> 179.1 | E78: ='Other Med Projected'!D78 -> 133 | F78: ='Other Med Projected'!E78 -> 182.8 | G78: ='Other Med Projected'!F78 -> 128.2 | H78: ='Other Med Projected'!G78 -> 184.6 | J78: ='Other Med Projected'!T1711 -> 1992/11 to 1995/10 | K78: ='Other Med Projected'!U1711 -> 0.99999998 | L78: ='Other Med Projected'!V1711 -> 36 | M78: ='Other Med Projected'!W1711 -> 0.073631977 | N78: ='Other Med Projected'!X1711 -> 0.31119345 | O78: ='Other Med Projected'!Y1711 -> 0.14335841 | P78: ='Other Med Projected'!Z1711 -> 0.5093017 | Q78: =SUM(M78:P78) -> 1.0374855 | R78: =(D78-F78*N42-G78*O42-H78*P42)/M42 -> 133.41494 | S78: =E78 -> 133 | T78: =(R78-S78)/S78 -> 0.0031198579
B79: ='Other Med Projected'!A79 -> 1992 | C79: ='Other Med Projected'!B79 -> M12 | D79: ='Other Med Projected'!C79 -> 179.4 | E79: ='Other Med Projected'!D79 -> 133.2 | F79: ='Other Med Projected'!E79 -> 183.1 | G79: ='Other Med Projected'!F79 -> 128.1 | H79: ='Other Med Projected'!G79 -> 185.1 | J79: ='Other Med Projected'!T1735 -> 1992/12 to 1995/11 | K79: ='Other Med Projected'!U1735 -> 0.99999998 | L79: ='Other Med Projected'!V1735 -> 36 | M79: ='Other Med Projected'!W1735 -> 0.075877338 | N79: ='Other Med Projected'!X1735 -> 0.30841723 | O79: ='Other Med Projected'!Y1735 -> 0.14157574 | P79: ='Other Med Projected'!Z1735 -> 0.51164315 | Q79: =SUM(M79:P79) -> 1.0375135 | R79: =(D79-F79*N43-G79*O43-H79*P43)/M43 -> 132.93382 | S79: =E79 -> 133.2 | T79: =(R79-S79)/S79 -> -0.0019983295
A80: =B80 -> 1993 | B80: ='Other Med Projected'!A80 -> 1993 | C80: ='Other Med Projected'!B80 -> M01 | D80: ='Other Med Projected'!C80 -> 180.7 | E80: ='Other Med Projected'!D80 -> 133.8 | F80: ='Other Med Projected'!E80 -> 183.8 | G80: ='Other Med Projected'!F80 -> 130 | H80: ='Other Med Projected'!G80 -> 186.6 | J80: ='Other Med Projected'!T1759 -> 1993/1 to 1995/12 | K80: ='Other Med Projected'!U1759 -> 0.99999998 | L80: ='Other Med Projected'!V1759 -> 36 | M80: ='Other Med Projected'!W1759 -> 0.076748183 | N80: ='Other Med Projected'!X1759 -> 0.30954448 | O80: ='Other Med Projected'!Y1759 -> 0.14204473 | P80: ='Other Med Projected'!Z1759 -> 0.50960554 | Q80: =SUM(M80:P80) -> 1.0379429 | R80: =(D80-F80*N44-G80*O44-H80*P44)/M44 -> 133.50974 | S80: =E80 -> 133.8 | T80: =(R80-S80)/S80 -> -0.002169388
B81: ='Other Med Projected'!A81 -> 1993 | C81: ='Other Med Projected'!B81 -> M02 | D81: ='Other Med Projected'!C81 -> 181.7 | E81: ='Other Med Projected'!D81 -> 134.1 | F81: ='Other Med Projected'!E81 -> 184.9 | G81: ='Other Med Projected'!F81 -> 129.8 | H81: ='Other Med Projected'!G81 -> 187.9 | J81: ='Other Med Projected'!T1783 -> 1993/2 to 1996/1 | K81: ='Other Med Projected'!U1783 -> 0.99999998 | L81: ='Other Med Projected'!V1783 -> 36 | M81: ='Other Med Projected'!W1783 -> 0.075344543 | N81: ='Other Med Projected'!X1783 -> 0.30975918 | O81: ='Other Med Projected'!Y1783 -> 0.14326638 | P81: ='Other Med Projected'!Z1783 -> 0.50957143 | Q81: =SUM(M81:P81) -> 1.0379415 | R81: =(D81-F81*N45-G81*O45-H81*P45)/M45 -> 133.94174 | S81: =E81 -> 134.1 | T81: =(R81-S81)/S81 -> -0.0011801896
B82: ='Other Med Projected'!A82 -> 1993 | C82: ='Other Med Projected'!B82 -> M03 | D82: ='Other Med Projected'!C82 -> 182.3 | E82: ='Other Med Projected'!D82 -> 134.2 | F82: ='Other Med Projected'!E82 -> 185.7 | G82: ='Other Med Projected'!F82 -> 129.5 | H82: ='Other Med Projected'!G82 -> 188.6 | J82: ='Other Med Projected'!T1807 -> 1993/3 to 1996/2 | K82: ='Other Med Projected'!U1807 -> 0.99999998 | L82: ='Other Med Projected'!V1807 -> 36 | M82: ='Other Med Projected'!W1807 -> 0.074582677 | N82: ='Other Med Projected'!X1807 -> 0.31023941 | O82: ='Other Med Projected'!Y1807 -> 0.14453685 | P82: ='Other Med Projected'!Z1807 -> 0.50879023 | Q82: =SUM(M82:P82) -> 1.0381492 | R82: =(D82-F82*N46-G82*O46-H82*P46)/M46 -> 134.59625 | S82: =E82 -> 134.2 | T82: =(R82-S82)/S82 -> 0.002952672
B83: ='Other Med Projected'!A83 -> 1993 | C83: ='Other Med Projected'!B83 -> M04 | D83: ='Other Med Projected'!C83 -> 183 | E83: ='Other Med Projected'!D83 -> 135.1 | F83: ='Other Med Projected'!E83 -> 186.8 | G83: ='Other Med Projected'!F83 -> 130 | H83: ='Other Med Projected'!G83 -> 189 | J83: ='Other Med Projected'!T1831 -> 1993/4 to 1996/3 | K83: ='Other Med Projected'!U1831 -> 0.99999998 | L83: ='Other Med Projected'!V1831 -> 36 | M83: ='Other Med Projected'!W1831 -> 0.075235628 | N83: ='Other Med Projected'!X1831 -> 0.31020833 | O83: ='Other Med Projected'!Y1831 -> 0.14456805 | P83: ='Other Med Projected'!Z1831 -> 0.50833853 | Q83: =SUM(M83:P83) -> 1.0383505 | R83: =(D83-F83*N47-G83*O47-H83*P47)/M47 -> 135.70239 | S83: =E83 -> 135.1 | T83: =(R83-S83)/S83 -> 0.0044588324
B84: ='Other Med Projected'!A84 -> 1993 | C84: ='Other Med Projected'!B84 -> M05 | D84: ='Other Med Projected'!C84 -> 184.4 | E84: ='Other Med Projected'!D84 -> 136 | F84: ='Other Med Projected'!E84 -> 187.9 | G84: ='Other Med Projected'!F84 -> 130.1 | H84: ='Other Med Projected'!G84 -> 191 | J84: ='Other Med Projected'!T1855 -> 1993/5 to 1996/4 | K84: ='Other Med Projected'!U1855 -> 0.99999998 | L84: ='Other Med Projected'!V1855 -> 36 | M84: ='Other Med Projected'!W1855 -> 0.075565184 | N84: ='Other Med Projected'!X1855 -> 0.30860503 | O84: ='Other Med Projected'!Y1855 -> 0.14284037 | P84: ='Other Med Projected'!Z1855 -> 0.51083605 | Q84: =SUM(M84:P84) -> 1.0378466 | R84: =(D84-F84*N48-G84*O48-H84*P48)/M48 -> 135.99626 | S84: =E84 -> 136 | T84: =(R84-S84)/S84 -> -2.7517144e-05
B85: ='Other Med Projected'!A85 -> 1993 | C85: ='Other Med Projected'!B85 -> M06 | D85: ='Other Med Projected'!C85 -> 184.8 | E85: ='Other Med Projected'!D85 -> 136.2 | F85: ='Other Med Projected'!E85 -> 188.2 | G85: ='Other Med Projected'!F85 -> 129.9 | H85: ='Other Med Projected'!G85 -> 191.6 | J85: ='Other Med Projected'!T1879 -> 1993/6 to 1996/5 | K85: ='Other Med Projected'!U1879 -> 0.99999998 | L85: ='Other Med Projected'!V1879 -> 36 | M85: ='Other Med Projected'!W1879 -> 0.075333027 | N85: ='Other Med Projected'!X1879 -> 0.30912502 | O85: ='Other Med Projected'!Y1879 -> 0.14363671 | P85: ='Other Med Projected'!Z1879 -> 0.50995969 | Q85: =SUM(M85:P85) -> 1.0380544 | R85: =(D85-F85*N49-G85*O49-H85*P49)/M49 -> 136.43409 | S85: =E85 -> 136.2 | T85: =(R85-S85)/S85 -> 0.0017186975
B86: ='Other Med Projected'!A86 -> 1993 | C86: ='Other Med Projected'!B86 -> M07 | D86: ='Other Med Projected'!C86 -> 185.4 | E86: ='Other Med Projected'!D86 -> 136.5 | F86: ='Other Med Projected'!E86 -> 188.7 | G86: ='Other Med Projected'!F86 -> 130.7 | H86: ='Other Med Projected'!G86 -> 192.2 | J86: ='Other Med Projected'!T1903 -> 1993/7 to 1996/6 | K86: ='Other Med Projected'!U1903 -> 0.99999998 | L86: ='Other Med Projected'!V1903 -> 36 | M86: ='Other Med Projected'!W1903 -> 0.075348452 | N86: ='Other Med Projected'!X1903 -> 0.30954099 | O86: ='Other Med Projected'!Y1903 -> 0.1436719 | P86: ='Other Med Projected'!Z1903 -> 0.50951618 | Q86: =SUM(M86:P86) -> 1.0380775 | R86: =(D86-F86*N50-G86*O50-H86*P50)/M50 -> 136.64479 | S86: =E86 -> 136.5 | T86: =(R86-S86)/S86 -> 0.0010606962
B87: ='Other Med Projected'!A87 -> 1993 | C87: ='Other Med Projected'!B87 -> M08 | D87: ='Other Med Projected'!C87 -> 185.9 | E87: ='Other Med Projected'!D87 -> 136.4 | F87: ='Other Med Projected'!E87 -> 189.3 | G87: ='Other Med Projected'!F87 -> 130.6 | H87: ='Other Med Projected'!G87 -> 192.8 | J87: ='Other Med Projected'!T1927 -> 1993/8 to 1996/7 | K87: ='Other Med Projected'!U1927 -> 0.99999998 | L87: ='Other Med Projected'!V1927 -> 36 | M87: ='Other Med Projected'!W1927 -> 0.075267851 | N87: ='Other Med Projected'!X1927 -> 0.30848846 | O87: ='Other Med Projected'!Y1927 -> 0.14417588 | P87: ='Other Med Projected'!Z1927 -> 0.51027686 | Q87: =SUM(M87:P87) -> 1.0382091 | R87: =(D87-F87*N51-G87*O51-H87*P51)/M51 -> 136.93532 | S87: =E87 -> 136.4 | T87: =(R87-S87)/S87 -> 0.0039246589
B88: ='Other Med Projected'!A88 -> 1993 | C88: ='Other Med Projected'!B88 -> M09 | D88: ='Other Med Projected'!C88 -> 186.3 | E88: ='Other Med Projected'!D88 -> 136.6 | F88: ='Other Med Projected'!E88 -> 189.6 | G88: ='Other Med Projected'!F88 -> 131.1 | H88: ='Other Med Projected'!G88 -> 193.2 | J88: ='Other Med Projected'!T1951 -> 1993/9 to 1996/8 | K88: ='Other Med Projected'!U1951 -> 0.99999998 | L88: ='Other Med Projected'!V1951 -> 36 | M88: ='Other Med Projected'!W1951 -> 0.075882905 | N88: ='Other Med Projected'!X1951 -> 0.30860763 | O88: ='Other Med Projected'!Y1951 -> 0.14284286 | P88: ='Other Med Projected'!Z1951 -> 0.51060699 | Q88: =SUM(M88:P88) -> 1.0379404 | R88: =(D88-F88*N52-G88*O52-H88*P52)/M52 -> 137.23318 | S88: =E88 -> 136.6 | T88: =(R88-S88)/S88 -> 0.0046352763
B89: ='Other Med Projected'!A89 -> 1993 | C89: ='Other Med Projected'!B89 -> M10 | D89: ='Other Med Projected'!C89 -> 186.8 | E89: ='Other Med Projected'!D89 -> 136.8 | F89: ='Other Med Projected'!E89 -> 190.4 | G89: ='Other Med Projected'!F89 -> 131 | H89: ='Other Med Projected'!G89 -> 193.9 | J89: ='Other Med Projected'!T1975 -> 1993/10 to 1996/9 | K89: ='Other Med Projected'!U1975 -> 0.99999998 | L89: ='Other Med Projected'!V1975 -> 36 | M89: ='Other Med Projected'!W1975 -> 0.077791794 | N89: ='Other Med Projected'!X1975 -> 0.31029223 | O89: ='Other Med Projected'!Y1975 -> 0.13936573 | P89: ='Other Med Projected'!Z1975 -> 0.50990002 | Q89: =SUM(M89:P89) -> 1.0373498 | R89: =(D89-F89*N53-G89*O53-H89*P53)/M53 -> 135.97124 | S89: =E89 -> 136.8 | T89: =(R89-S89)/S89 -> -0.006058185
B90: ='Other Med Projected'!A90 -> 1993 | C90: ='Other Med Projected'!B90 -> M11 | D90: ='Other Med Projected'!C90 -> 187.1 | E90: ='Other Med Projected'!D90 -> 137.1 | F90: ='Other Med Projected'!E90 -> 190.8 | G90: ='Other Med Projected'!F90 -> 130.9 | H90: ='Other Med Projected'!G90 -> 194.1 | J90: ='Other Med Projected'!T1999 -> 1993/11 to 1996/10 | K90: ='Other Med Projected'!U1999 -> 0.99999998 | L90: ='Other Med Projected'!V1999 -> 36 | M90: ='Other Med Projected'!W1999 -> 0.076114814 | N90: ='Other Med Projected'!X1999 -> 0.30979386 | O90: ='Other Med Projected'!Y1999 -> 0.14270786 | P90: ='Other Med Projected'!Z1999 -> 0.50936439 | Q90: =SUM(M90:P90) -> 1.0379809 | R90: =(D90-F90*N54-G90*O54-H90*P54)/M54 -> 137.24974 | S90: =E90 -> 137.1 | T90: =(R90-S90)/S90 -> 0.0010921625
B91: ='Other Med Projected'!A91 -> 1993 | C91: ='Other Med Projected'!B91 -> M12 | D91: ='Other Med Projected'!C91 -> 187.4 | E91: ='Other Med Projected'!D91 -> 137.5 | F91: ='Other Med Projected'!E91 -> 191.1 | G91: ='Other Med Projected'!F91 -> 130.7 | H91: ='Other Med Projected'!G91 -> 194.5 | J91: ='Other Med Projected'!T2023 -> 1993/12 to 1996/11 | K91: ='Other Med Projected'!U2023 -> 0.99999998 | L91: ='Other Med Projected'!V2023 -> 36 | M91: ='Other Med Projected'!W2023 -> 0.074955402 | N91: ='Other Med Projected'!X2023 -> 0.30619412 | O91: ='Other Med Projected'!Y2023 -> 0.14345803 | P91: ='Other Med Projected'!Z2023 -> 0.51323458 | Q91: =SUM(M91:P91) -> 1.0378421 | R91: =(D91-F91*N55-G91*O55-H91*P55)/M55 -> 137.58019 | S91: =E91 -> 137.5 | T91: =(R91-S91)/S91 -> 0.00058321538
A92: =B92 -> 1994 | B92: ='Other Med Projected'!A92 -> 1994 | C92: ='Other Med Projected'!B92 -> M01 | D92: ='Other Med Projected'!C92 -> 188.3 | E92: ='Other Med Projected'!D92 -> 138.1 | F92: ='Other Med Projected'!E92 -> 192 | G92: ='Other Med Projected'!F92 -> 131.3 | H92: ='Other Med Projected'!G92 -> 195.5 | J92: ='Other Med Projected'!T2047 -> 1994/1 to 1996/12 | K92: ='Other Med Projected'!U2047 -> 0.99999998 | L92: ='Other Med Projected'!V2047 -> 36 | M92: ='Other Med Projected'!W2047 -> 0.074496353 | N92: ='Other Med Projected'!X2047 -> 0.30444088 | O92: ='Other Med Projected'!Y2047 -> 0.14349468 | P92: ='Other Med Projected'!Z2047 -> 0.51526299 | Q92: =SUM(M92:P92) -> 1.0376949 | R92: =(D92-F92*N56-G92*O56-H92*P56)/M56 -> 137.90177 | S92: =E92 -> 138.1 | T92: =(R92-S92)/S92 -> -0.0014353852
B93: ='Other Med Projected'!A93 -> 1994 | C93: ='Other Med Projected'!B93 -> M02 | D93: ='Other Med Projected'!C93 -> 189.4 | E93: ='Other Med Projected'!D93 -> 139.3 | F93: ='Other Med Projected'!E93 -> 192.8 | G93: ='Other Med Projected'!F93 -> 131.8 | H93: ='Other Med Projected'!G93 -> 196.9 | J93: ='Other Med Projected'!T2071 -> 1994/2 to 1997/1 | K93: ='Other Med Projected'!U2071 -> 0.99999998 | L93: ='Other Med Projected'!V2071 -> 36 | M93: ='Other Med Projected'!W2071 -> 0.075181907 | N93: ='Other Med Projected'!X2071 -> 0.30578238 | O93: ='Other Med Projected'!Y2071 -> 0.14294453 | P93: ='Other Med Projected'!Z2071 -> 0.51382447 | Q93: =SUM(M93:P93) -> 1.0377333 | R93: =(D93-F93*N57-G93*O57-H93*P57)/M57 -> 138.80084 | S93: =E93 -> 139.3 | T93: =(R93-S93)/S93 -> -0.0035833781
B94: ='Other Med Projected'!A94 -> 1994 | C94: ='Other Med Projected'!B94 -> M03 | D94: ='Other Med Projected'!C94 -> 190.3 | E94: ='Other Med Projected'!D94 -> 139.9 | F94: ='Other Med Projected'!E94 -> 194.1 | G94: ='Other Med Projected'!F94 -> 131.8 | H94: ='Other Med Projected'!G94 -> 197.7 | J94: ='Other Med Projected'!T2095 -> 1994/3 to 1997/2 | K94: ='Other Med Projected'!U2095 -> 0.99999998 | L94: ='Other Med Projected'!V2095 -> 36 | M94: ='Other Med Projected'!W2095 -> 0.075508629 | N94: ='Other Med Projected'!X2095 -> 0.30524975 | O94: ='Other Med Projected'!Y2095 -> 0.14290014 | P94: ='Other Med Projected'!Z2095 -> 0.51416421 | Q94: =SUM(M94:P94) -> 1.0378227 | R94: =(D94-F94*N58-G94*O58-H94*P58)/M58 -> 140.0089 | S94: =E94 -> 139.9 | T94: =(R94-S94)/S94 -> 0.00077839045
B95: ='Other Med Projected'!A95 -> 1994 | C95: ='Other Med Projected'!B95 -> M04 | D95: ='Other Med Projected'!C95 -> 191.4 | E95: ='Other Med Projected'!D95 -> 140.9 | F95: ='Other Med Projected'!E95 -> 195.6 | G95: ='Other Med Projected'!F95 -> 132.3 | H95: ='Other Med Projected'!G95 -> 198.6 | J95: ='Other Med Projected'!T2119 -> 1994/4 to 1997/3 | K95: ='Other Med Projected'!U2119 -> 0.99999998 | L95: ='Other Med Projected'!V2119 -> 36 | M95: ='Other Med Projected'!W2119 -> 0.075835846 | N95: ='Other Med Projected'!X2119 -> 0.30542024 | O95: ='Other Med Projected'!Y2119 -> 0.14232053 | P95: ='Other Med Projected'!Z2119 -> 0.51414854 | Q95: =SUM(M95:P95) -> 1.0377252 | R95: =(D95-F95*N59-G95*O59-H95*P59)/M59 -> 141.2856 | S95: =E95 -> 140.9 | T95: =(R95-S95)/S95 -> 0.0027367103
B96: ='Other Med Projected'!A96 -> 1994 | C96: ='Other Med Projected'!B96 -> M05 | D96: ='Other Med Projected'!C96 -> 191.7 | E96: ='Other Med Projected'!D96 -> 141.3 | F96: ='Other Med Projected'!E96 -> 195.9 | G96: ='Other Med Projected'!F96 -> 131.9 | H96: ='Other Med Projected'!G96 -> 199.1 | J96: ='Other Med Projected'!T2143 -> 1994/5 to 1997/4 | K96: ='Other Med Projected'!U2143 -> 0.99999998 | L96: ='Other Med Projected'!V2143 -> 36 | M96: ='Other Med Projected'!W2143 -> 0.075785942 | N96: ='Other Med Projected'!X2143 -> 0.30593159 | O96: ='Other Med Projected'!Y2143 -> 0.14158349 | P96: ='Other Med Projected'!Z2143 -> 0.51415175 | Q96: =SUM(M96:P96) -> 1.0374528 | R96: =(D96-F96*N60-G96*O60-H96*P60)/M60 -> 141.24765 | S96: =E96 -> 141.3 | T96: =(R96-S96)/S96 -> -0.00037051331
B97: ='Other Med Projected'!A97 -> 1994 | C97: ='Other Med Projected'!B97 -> M06 | D97: ='Other Med Projected'!C97 -> 192.3 | E97: ='Other Med Projected'!D97 -> 141.6 | F97: ='Other Med Projected'!E97 -> 196.7 | G97: ='Other Med Projected'!F97 -> 131.8 | H97: ='Other Med Projected'!G97 -> 199.8 | J97: ='Other Med Projected'!T2167 -> 1994/6 to 1997/5 | K97: ='Other Med Projected'!U2167 -> 0.99999998 | L97: ='Other Med Projected'!V2167 -> 36 | M97: ='Other Med Projected'!W2167 -> 0.074671777 | N97: ='Other Med Projected'!X2167 -> 0.30656459 | O97: ='Other Med Projected'!Y2167 -> 0.14315219 | P97: ='Other Med Projected'!Z2167 -> 0.51326131 | Q97: =SUM(M97:P97) -> 1.0376499 | R97: =(D97-F97*N61-G97*O61-H97*P61)/M61 -> 141.36343 | S97: =E97 -> 141.6 | T97: =(R97-S97)/S97 -> -0.0016706846
B98: ='Other Med Projected'!A98 -> 1994 | C98: ='Other Med Projected'!B98 -> M07 | D98: ='Other Med Projected'!C98 -> 193 | E98: ='Other Med Projected'!D98 -> 141.5 | F98: ='Other Med Projected'!E98 -> 197.7 | G98: ='Other Med Projected'!F98 -> 132.5 | H98: ='Other Med Projected'!G98 -> 200.4 | J98: ='Other Med Projected'!T2191 -> 1994/7 to 1997/6 | K98: ='Other Med Projected'!U2191 -> 0.99999998 | L98: ='Other Med Projected'!V2191 -> 36 | M98: ='Other Med Projected'!W2191 -> 0.073792916 | N98: ='Other Med Projected'!X2191 -> 0.3070283 | O98: ='Other Med Projected'!Y2191 -> 0.14448177 | P98: ='Other Med Projected'!Z2191 -> 0.5125344 | Q98: =SUM(M98:P98) -> 1.0378374 | R98: =(D98-F98*N62-G98*O62-H98*P62)/M62 -> 141.26431 | S98: =E98 -> 141.5 | T98: =(R98-S98)/S98 -> -0.001665668
B99: ='Other Med Projected'!A99 -> 1994 | C99: ='Other Med Projected'!B99 -> M08 | D99: ='Other Med Projected'!C99 -> 193.5 | E99: ='Other Med Projected'!D99 -> 141.9 | F99: ='Other Med Projected'!E99 -> 198.3 | G99: ='Other Med Projected'!F99 -> 133.7 | H99: ='Other Med Projected'!G99 -> 200.7 | J99: ='Other Med Projected'!T2215 -> 1994/8 to 1997/7 | K99: ='Other Med Projected'!U2215 -> 0.99999998 | L99: ='Other Med Projected'!V2215 -> 36 | M99: ='Other Med Projected'!W2215 -> 0.07349161 | N99: ='Other Med Projected'!X2215 -> 0.30614017 | O99: ='Other Med Projected'!Y2215 -> 0.14463189 | P99: ='Other Med Projected'!Z2215 -> 0.5135248 | Q99: =SUM(M99:P99) -> 1.0377885 | R99: =(D99-F99*N63-G99*O63-H99*P63)/M63 -> 141.27974 | S99: =E99 -> 141.9 | T99: =(R99-S99)/S99 -> -0.0043711039
B100: ='Other Med Projected'!A100 -> 1994 | C100: ='Other Med Projected'!B100 -> M09 | D100: ='Other Med Projected'!C100 -> 194 | E100: ='Other Med Projected'!D100 -> 142.4 | F100: ='Other Med Projected'!E100 -> 198.9 | G100: ='Other Med Projected'!F100 -> 134 | H100: ='Other Med Projected'!G100 -> 201.1 | J100: ='Other Med Projected'!T2239 -> 1994/9 to 1997/8 | K100: ='Other Med Projected'!U2239 -> 0.99999998 | L100: ='Other Med Projected'!V2239 -> 36 | M100: ='Other Med Projected'!W2239 -> 0.073838172 | N100: ='Other Med Projected'!X2239 -> 0.30443436 | O100: ='Other Med Projected'!Y2239 -> 0.14501054 | P100: ='Other Med Projected'!Z2239 -> 0.51474285 | Q100: =SUM(M100:P100) -> 1.0380259 | R100: =(D100-F100*N64-G100*O64-H100*P64)/M64 -> 142.20979 | S100: =E100 -> 142.4 | T100: =(R100-S100)/S100 -> -0.0013357156
B101: ='Other Med Projected'!A101 -> 1994 | C101: ='Other Med Projected'!B101 -> M10 | D101: ='Other Med Projected'!C101 -> 195.1 | E101: ='Other Med Projected'!D101 -> 142.8 | F101: ='Other Med Projected'!E101 -> 200.6 | G101: ='Other Med Projected'!F101 -> 134.8 | H101: ='Other Med Projected'!G101 -> 201.9 | J101: ='Other Med Projected'!T2263 -> 1994/10 to 1997/9 | K101: ='Other Med Projected'!U2263 -> 0.99999998 | L101: ='Other Med Projected'!V2263 -> 36 | M101: ='Other Med Projected'!W2263 -> 0.074357235 | N101: ='Other Med Projected'!X2263 -> 0.30169099 | O101: ='Other Med Projected'!Y2263 -> 0.14396826 | P101: ='Other Med Projected'!Z2263 -> 0.5177979 | Q101: =SUM(M101:P101) -> 1.0378144 | R101: =(D101-F101*N65-G101*O65-H101*P65)/M65 -> 142.94551 | S101: =E101 -> 142.8 | T101: =(R101-S101)/S101 -> 0.0010189932
B102: ='Other Med Projected'!A102 -> 1994 | C102: ='Other Med Projected'!B102 -> M11 | D102: ='Other Med Projected'!C102 -> 195.5 | E102: ='Other Med Projected'!D102 -> 142.9 | F102: ='Other Med Projected'!E102 -> 201.2 | G102: ='Other Med Projected'!F102 -> 135.2 | H102: ='Other Med Projected'!G102 -> 202.3 | J102: ='Other Med Projected'!T2287 -> 1994/11 to 1997/10 | K102: ='Other Med Projected'!U2287 -> 0.99999998 | L102: ='Other Med Projected'!V2287 -> 36 | M102: ='Other Med Projected'!W2287 -> 0.074131522 | N102: ='Other Med Projected'!X2287 -> 0.3012634 | O102: ='Other Med Projected'!Y2287 -> 0.14334315 | P102: ='Other Med Projected'!Z2287 -> 0.51878301 | Q102: =SUM(M102:P102) -> 1.0375211 | R102: =(D102-F102*N66-G102*O66-H102*P66)/M66 -> 142.37931 | S102: =E102 -> 142.9 | T102: =(R102-S102)/S102 -> -0.0036437568
B103: ='Other Med Projected'!A103 -> 1994 | C103: ='Other Med Projected'!B103 -> M12 | D103: ='Other Med Projected'!C103 -> 196 | E103: ='Other Med Projected'!D103 -> 143 | F103: ='Other Med Projected'!E103 -> 201.4 | G103: ='Other Med Projected'!F103 -> 135 | H103: ='Other Med Projected'!G103 -> 203.1 | J103: ='Other Med Projected'!T2311 -> 1994/12 to 1997/11 | K103: ='Other Med Projected'!U2311 -> 0.99999998 | L103: ='Other Med Projected'!V2311 -> 36 | M103: ='Other Med Projected'!W2311 -> 0.074417383 | N103: ='Other Med Projected'!X2311 -> 0.30206574 | O103: ='Other Med Projected'!Y2311 -> 0.14602815 | P103: ='Other Med Projected'!Z2311 -> 0.51604988 | Q103: =SUM(M103:P103) -> 1.0385611 | R103: =(D103-F103*N67-G103*O67-H103*P67)/M67 -> 143.20108 | S103: =E103 -> 143 | T103: =(R103-S103)/S103 -> 0.0014061334
...

Sheet Graphs
F5: *** Other Med Professionals ***
B6: Year | C6: Period | D6: Missing | E6: Actual | F6: Combined | G6: Projected
B7: =Projections!B7 -> 1986 | C7: =Projections!C7 -> M12 | D7: 0 | E7: =IF(D7=0,F7," ") -> 100 | F7: =Projections!E7 -> 100
A8: =B8 -> 1987 | B8: =Projections!B8 -> 1987 | C8: =Projections!C8 -> M01 | D8: 0 | E8: =IF(D8=0,F8," ") -> 100.5 | F8: =Projections!E8 -> 100.5
B9: =Projections!B9 -> 1987 | C9: =Projections!C9 -> M02 | D9: 0 | E9: =IF(D9=0,F9," ") -> 100.7 | F9: =Projections!E9 -> 100.7
B10: =Projections!B10 -> 1987 | C10: =Projections!C10 -> M03 | D10: 0 | E10: =IF(D10=0,F10," ") -> 101.5 | F10: =Projections!E10 -> 101.5
B11: =Projections!B11 -> 1987 | C11: =Projections!C11 -> M04 | D11: 0 | E11: =IF(D11=0,F11," ") -> 101.7 | F11: =Projections!E11 -> 101.7
B12: =Projections!B12 -> 1987 | C12: =Projections!C12 -> M05 | D12: 0 | E12: =IF(D12=0,F12," ") -> 101.9 | F12: =Projections!E12 -> 101.9
B13: =Projections!B13 -> 1987 | C13: =Projections!C13 -> M06 | D13: 0 | E13: =IF(D13=0,F13," ") -> 102.2 | F13: =Projections!E13 -> 102.2
B14: =Projections!B14 -> 1987 | C14: =Projections!C14 -> M07 | D14: 0 | E14: =IF(D14=0,F14," ") -> 102.4 | F14: =Projections!E14 -> 102.4
B15: =Projections!B15 -> 1987 | C15: =Projections!C15 -> M08 | D15: 0 | E15: =IF(D15=0,F15," ") -> 102.7 | F15: =Projections!E15 -> 102.7
B16: =Projections!B16 -> 1987 | C16: =Projections!C16 -> M09 | D16: 0 | E16: =IF(D16=0,F16," ") -> 103 | F16: =Projections!E16 -> 103
B17: =Projections!B17 -> 1987 | C17: =Projections!C17 -> M10 | D17: 0 | E17: =IF(D17=0,F17," ") -> 103.5 | F17: =Projections!E17 -> 103.5
B18: =Projections!B18 -> 1987 | C18: =Projections!C18 -> M11 | D18: 0 | E18: =IF(D18=0,F18," ") -> 104.1 | F18: =Projections!E18 -> 104.1
B19: =Projections!B19 -> 1987 | C19: =Projections!C19 -> M12 | D19: 0 | E19: =IF(D19=0,F19," ") -> 104.5 | F19: =Projections!E19 -> 104.5
A20: =B20 -> 1988 | B20: =Projections!B20 -> 1988 | C20: =Projections!C20 -> M01 | D20: 0 | E20: =IF(D20=0,F20," ") -> 104.7 | F20: =Projections!E20 -> 104.7
B21: =Projections!B21 -> 1988 | C21: =Projections!C21 -> M02 | D21: 0 | E21: =IF(D21=0,F21," ") -> 106.1 | F21: =Projections!E21 -> 106.1
B22: =Projections!B22 -> 1988 | C22: =Projections!C22 -> M03 | D22: 0 | E22: =IF(D22=0,F22," ") -> 106.5 | F22: =Projections!E22 -> 106.5
B23: =Projections!B23 -> 1988 | C23: =Projections!C23 -> M04 | D23: 0 | E23: =IF(D23=0,F23," ") -> 107.8 | F23: =Projections!E23 -> 107.8
B24: =Projections!B24 -> 1988 | C24: =Projections!C24 -> M05 | D24: 0 | E24: =IF(D24=0,F24," ") -> 108.2 | F24: =Projections!E24 -> 108.2
B25: =Projections!B25 -> 1988 | C25: =Projections!C25 -> M06 | D25: 0 | E25: =IF(D25=0,F25," ") -> 108.6 | F25: =Projections!E25 -> 108.6
B26: =Projections!B26 -> 1988 | C26: =Projections!C26 -> M07 | D26: 0 | E26: =IF(D26=0,F26," ") -> 108.8 | F26: =Projections!E26 -> 108.8
B27: =Projections!B27 -> 1988 | C27: =Projections!C27 -> M08 | D27: 0 | E27: =IF(D27=0,F27," ") -> 109.1 | F27: =Projections!E27 -> 109.1
B28: =Projections!B28 -> 1988 | C28: =Projections!C28 -> M09 | D28: 0 | E28: =IF(D28=0,F28," ") -> 109.3 | F28: =Projections!E28 -> 109.3
B29: =Projections!B29 -> 1988 | C29: =Projections!C29 -> M10 | D29: 0 | E29: =IF(D29=0,F29," ") -> 109.9 | F29: =Projections!E29 -> 109.9
B30: =Projections!B30 -> 1988 | C30: =Projections!C30 -> M11 | D30: 0 | E30: =IF(D30=0,F30," ") -> 110.2 | F30: =Projections!E30 -> 110.2
B31: =Projections!B31 -> 1988 | C31: =Projections!C31 -> M12 | D31: 0 | E31: =IF(D31=0,F31," ") -> 110.3 | F31: =Projections!E31 -> 110.3
A32: =B32 -> 1989 | B32: =Projections!B32 -> 1989 | C32: =Projections!C32 -> M01 | D32: 0 | E32: =IF(D32=0,F32," ") -> 111 | F32: =Projections!E32 -> 111
B33: =Projections!B33 -> 1989 | C33: =Projections!C33 -> M02 | D33: 0 | E33: =IF(D33=0,F33," ") -> 111.8 | F33: =Projections!E33 -> 111.8
B34: =Projections!B34 -> 1989 | C34: =Projections!C34 -> M03 | D34: 0 | E34: =IF(D34=0,F34," ") -> 112.4 | F34: =Projections!E34 -> 112.4
B35: =Projections!B35 -> 1989 | C35: =Projections!C35 -> M04 | D35: 0 | E35: =IF(D35=0,F35," ") -> 113 | F35: =Projections!E35 -> 113
B36: =Projections!B36 -> 1989 | C36: =Projections!C36 -> M05 | D36: 0 | E36: =IF(D36=0,F36," ") -> 113.3 | F36: =Projections!E36 -> 113.3
B37: =Projections!B37 -> 1989 | C37: =Projections!C37 -> M06 | D37: 0 | E37: =IF(D37=0,F37," ") -> 113.9 | F37: =Projections!E37 -> 113.9
B38: =Projections!B38 -> 1989 | C38: =Projections!C38 -> M07 | D38: 0 | E38: =IF(D38=0,F38," ") -> 115.1 | F38: =Projections!E38 -> 115.1
B39: =Projections!B39 -> 1989 | C39: =Projections!C39 -> M08 | D39: 0 | E39: =IF(D39=0,F39," ") -> 115.3 | F39: =Projections!E39 -> 115.3
B40: =Projections!B40 -> 1989 | C40: =Projections!C40 -> M09 | D40: 0 | E40: =IF(D40=0,F40," ") -> 115.5 | F40: =Projections!E40 -> 115.5
B41: =Projections!B41 -> 1989 | C41: =Projections!C41 -> M10 | D41: 0 | E41: =IF(D41=0,F41," ") -> 115.7 | F41: =Projections!E41 -> 115.7
B42: =Projections!B42 -> 1989 | C42: =Projections!C42 -> M11 | D42: 0 | E42: =IF(D42=0,F42," ") -> 116.5 | F42: =Projections!E42 -> 116.5
B43: =Projections!B43 -> 1989 | C43: =Projections!C43 -> M12 | D43: 0 | E43: =IF(D43=0,F43," ") -> 116.6 | F43: =Projections!E43 -> 116.6 | G43: =Projections!R43 -> 117.54642 | H43: =IF(D43=0,G43," ") -> 117.54642 | I43: =IF(D43=0,G43-E43," ") -> 0.94641524 | J43: =IF(D43=0,I43/E43," ") -> 0.0081167688 | K43: =IF(D43=0,ABS(J43)," ") -> 0.0081167688
A44: =B44 -> 1990 | B44: =Projections!B44 -> 1990 | C44: =Projections!C44 -> M01 | D44: 0 | E44: =IF(D44=0,F44," ") -> 117 | F44: =Projections!E44 -> 117 | G44: =Projections!R44 -> 117.3698 | H44: =IF(D44=0,G44," ") -> 117.3698 | I44: =IF(D44=0,G44-E44," ") -> 0.36980431 | J44: =IF(D44=0,I44/E44," ") -> 0.0031607206 | K44: =IF(D44=0,ABS(J44)," ") -> 0.0031607206
B45: =Projections!B45 -> 1990 | C45: =Projections!C45 -> M02 | D45: 0 | E45: =IF(D45=0,F45," ") -> 117.7 | F45: =Projections!E45 -> 117.7 | G45: =Projections!R45 -> 117.29883 | H45: =IF(D45=0,G45," ") -> 117.29883 | I45: =IF(D45=0,G45-E45," ") -> -0.40116823 | J45: =IF(D45=0,I45/E45," ") -> -0.0034083961 | K45: =IF(D45=0,ABS(J45)," ") -> 0.0034083961
B46: =Projections!B46 -> 1990 | C46: =Projections!C46 -> M03 | D46: 0 | E46: =IF(D46=0,F46," ") -> 118.6 | F46: =Projections!E46 -> 118.6 | G46: =Projections!R46 -> 118.09073 | H46: =IF(D46=0,G46," ") -> 118.09073 | I46: =IF(D46=0,G46-E46," ") -> -0.50926958 | J46: =IF(D46=0,I46/E46," ") -> -0.00429401 | K46: =IF(D46=0,ABS(J46)," ") -> 0.00429401
B47: =Projections!B47 -> 1990 | C47: =Projections!C47 -> M04 | D47: 0 | E47: =IF(D47=0,F47," ") -> 119.1 | F47: =Projections!E47 -> 119.1 | G47: =Projections!R47 -> 119.63843 | H47: =IF(D47=0,G47," ") -> 119.63843 | I47: =IF(D47=0,G47-E47," ") -> 0.5384279 | J47: =IF(D47=0,I47/E47," ") -> 0.0045208052 | K47: =IF(D47=0,ABS(J47)," ") -> 0.0045208052
B48: =Projections!B48 -> 1990 | C48: =Projections!C48 -> M05 | D48: 0 | E48: =IF(D48=0,F48," ") -> 119.5 | F48: =Projections!E48 -> 119.5 | G48: =Projections!R48 -> 119.53466 | H48: =IF(D48=0,G48," ") -> 119.53466 | I48: =IF(D48=0,G48-E48," ") -> 0.034663613 | J48: =IF(D48=0,I48/E48," ") -> 0.00029007207 | K48: =IF(D48=0,ABS(J48)," ") -> 0.00029007207
B49: =Projections!B49 -> 1990 | C49: =Projections!C49 -> M06 | D49: 0 | E49: =IF(D49=0,F49," ") -> 119.7 | F49: =Projections!E49 -> 119.7 | G49: =Projections!R49 -> 119.95152 | H49: =IF(D49=0,G49," ") -> 119.95152 | I49: =IF(D49=0,G49-E49," ") -> 0.25151916 | J49: =IF(D49=0,I49/E49," ") -> 0.0021012461 | K49: =IF(D49=0,ABS(J49)," ") -> 0.0021012461
B50: =Projections!B50 -> 1990 | C50: =Projections!C50 -> M07 | D50: 0 | E50: =IF(D50=0,F50," ") -> 121 | F50: =Projections!E50 -> 121 | G50: =Projections!R50 -> 121.50668 | H50: =IF(D50=0,G50," ") -> 121.50668 | I50: =IF(D50=0,G50-E50," ") -> 0.50667626 | J50: =IF(D50=0,I50/E50," ") -> 0.0041874071 | K50: =IF(D50=0,ABS(J50)," ") -> 0.0041874071
B51: =Projections!B51 -> 1990 | C51: =Projections!C51 -> M08 | D51: 0 | E51: =IF(D51=0,F51," ") -> 121.5 | F51: =Projections!E51 -> 121.5 | G51: =Projections!R51 -> 121.895 | H51: =IF(D51=0,G51," ") -> 121.895 | I51: =IF(D51=0,G51-E51," ") -> 0.39499534 | J51: =IF(D51=0,I51/E51," ") -> 0.0032509905 | K51: =IF(D51=0,ABS(J51)," ") -> 0.0032509905
B52: =Projections!B52 -> 1990 | C52: =Projections!C52 -> M09 | D52: 0 | E52: =IF(D52=0,F52," ") -> 121.7 | F52: =Projections!E52 -> 121.7 | G52: =Projections!R52 -> 121.25642 | H52: =IF(D52=0,G52," ") -> 121.25642 | I52: =IF(D52=0,G52-E52," ") -> -0.44358339 | J52: =IF(D52=0,I52/E52," ") -> -0.0036448923 | K52: =IF(D52=0,ABS(J52)," ") -> 0.0036448923
B53: =Projections!B53 -> 1990 | C53: =Projections!C53 -> M10 | D53: 0 | E53: =IF(D53=0,F53," ") -> 121.7 | F53: =Projections!E53 -> 121.7 | G53: =Projections!R53 -> 121.60351 | H53: =IF(D53=0,G53," ") -> 121.60351 | I53: =IF(D53=0,G53-E53," ") -> -0.096493532 | J53: =IF(D53=0,I53/E53," ") -> -0.00079288029 | K53: =IF(D53=0,ABS(J53)," ") -> 0.00079288029
B54: =Projections!B54 -> 1990 | C54: =Projections!C54 -> M11 | D54: 0 | E54: =IF(D54=0,F54," ") -> 122.1 | F54: =Projections!E54 -> 122.1 | G54: =Projections!R54 -> 122.33118 | H54: =IF(D54=0,G54," ") -> 122.33118 | I54: =IF(D54=0,G54-E54," ") -> 0.23118103 | J54: =IF(D54=0,I54/E54," ") -> 0.0018933746 | K54: =IF(D54=0,ABS(J54)," ") -> 0.0018933746
B55: =Projections!B55 -> 1990 | C55: =Projections!C55 -> M12 | D55: 0 | E55: =IF(D55=0,F55," ") -> 122.5 | F55: =Projections!E55 -> 122.5 | G55: =Projections!R55 -> 122.69175 | H55: =IF(D55=0,G55," ") -> 122.69175 | I55: =IF(D55=0,G55-E55," ") -> 0.19174676 | J55: =IF(D55=0,I55/E55," ") -> 0.0015652796 | K55: =IF(D55=0,ABS(J55)," ") -> 0.0015652796
A56: =B56 -> 1991 | B56: =Projections!B56 -> 1991 | C56: =Projections!C56 -> M01 | D56: 0 | E56: =IF(D56=0,F56," ") -> 122.9 | F56: =Projections!E56 -> 122.9 | G56: =Projections!R56 -> 122.09839 | H56: =IF(D56=0,G56," ") -> 122.09839 | I56: =IF(D56=0,G56-E56," ") -> -0.80161467 | J56: =IF(D56=0,I56/E56," ") -> -0.0065224953 | K56: =IF(D56=0,ABS(J56)," ") -> 0.0065224953
B57: =Projections!B57 -> 1991 | C57: =Projections!C57 -> M02 | D57: 0 | E57: =IF(D57=0,F57," ") -> 124 | F57: =Projections!E57 -> 124 | G57: =Projections!R57 -> 124.77195 | H57: =IF(D57=0,G57," ") -> 124.77195 | I57: =IF(D57=0,G57-E57," ") -> 0.7719469 | J57: =IF(D57=0,I57/E57," ") -> 0.0062253782 | K57: =IF(D57=0,ABS(J57)," ") -> 0.0062253782
B58: =Projections!B58 -> 1991 | C58: =Projections!C58 -> M03 | D58: 0 | E58: =IF(D58=0,F58," ") -> 125.2 | F58: =Projections!E58 -> 125.2 | G58: =Projections!R58 -> 125.21551 | H58: =IF(D58=0,G58," ") -> 125.21551 | I58: =IF(D58=0,G58-E58," ") -> 0.015505975 | J58: =IF(D58=0,I58/E58," ") -> 0.00012384964 | K58: =IF(D58=0,ABS(J58)," ") -> 0.00012384964
B59: =Projections!B59 -> 1991 | C59: =Projections!C59 -> M04 | D59: 0 | E59: =IF(D59=0,F59," ") -> 125.7 | F59: =Projections!E59 -> 125.7 | G59: =Projections!R59 -> 125.70691 | H59: =IF(D59=0,G59," ") -> 125.70691 | I59: =IF(D59=0,G59-E59," ") -> 0.0069062223 | J59: =IF(D59=0,I59/E59," ") -> 5.4942103e-05 | K59: =IF(D59=0,ABS(J59)," ") -> 5.4942103e-05
B60: =Projections!B60 -> 1991 | C60: =Projections!C60 -> M05 | D60: 0 | E60: =IF(D60=0,F60," ") -> 126.6 | F60: =Projections!E60 -> 126.6 | G60: =Projections!R60 -> 126.2075 | H60: =IF(D60=0,G60," ") -> 126.2075 | I60: =IF(D60=0,G60-E60," ") -> -0.39249505 | J60: =IF(D60=0,I60/E60," ") -> -0.0031002769 | K60: =IF(D60=0,ABS(J60)," ") -> 0.0031002769
B61: =Projections!B61 -> 1991 | C61: =Projections!C61 -> M06 | D61: 0 | E61: =IF(D61=0,F61," ") -> 126.7 | F61: =Projections!E61 -> 126.7 | G61: =Projections!R61 -> 127.26349 | H61: =IF(D61=0,G61," ") -> 127.26349 | I61: =IF(D61=0,G61-E61," ") -> 0.56349208 | J61: =IF(D61=0,I61/E61," ") -> 0.0044474513 | K61: =IF(D61=0,ABS(J61)," ") -> 0.0044474513
B62: =Projections!B62 -> 1991 | C62: =Projections!C62 -> M07 | D62: 0 | E62: =IF(D62=0,F62," ") -> 126.8 | F62: =Projections!E62 -> 126.8 | G62: =Projections!R62 -> 126.63688 | H62: =IF(D62=0,G62," ") -> 126.63688 | I62: =IF(D62=0,G62-E62," ") -> -0.16312148 | J62: =IF(D62=0,I62/E62," ") -> -0.001286447 | K62: =IF(D62=0,ABS(J62)," ") -> 0.001286447
B63: =Projections!B63 -> 1991 | C63: =Projections!C63 -> M08 | D63: 0 | E63: =IF(D63=0,F63," ") -> 127.3 | F63: =Projections!E63 -> 127.3 | G63: =Projections!R63 -> 128.23643 | H63: =IF(D63=0,G63," ") -> 128.23643 | I63: =IF(D63=0,G63-E63," ") -> 0.93642737 | J63: =IF(D63=0,I63/E63," ") -> 0.0073560673 | K63: =IF(D63=0,ABS(J63)," ") -> 0.0073560673
B64: =Projections!B64 -> 1991 | C64: =Projections!C64 -> M09 | D64: 0 | E64: =IF(D64=0,F64," ") -> 127.9 | F64: =Projections!E64 -> 127.9 | G64: =Projections!R64 -> 127.96954 | H64: =IF(D64=0,G64," ") -> 127.96954 | I64: =IF(D64=0,G64-E64," ") -> 0.069535534 | J64: =IF(D64=0,I64/E64," ") -> 0.0005436711 | K64: =IF(D64=0,ABS(J64)," ") -> 0.0005436711
B65: =Projections!B65 -> 1991 | C65: =Projections!C65 -> M10 | D65: 0 | E65: =IF(D65=0,F65," ") -> 128.1 | F65: =Projections!E65 -> 128.1 | G65: =Projections!R65 -> 127.81747 | H65: =IF(D65=0,G65," ") -> 127.81747 | I65: =IF(D65=0,G65-E65," ") -> -0.28253201 | J65: =IF(D65=0,I65/E65," ") -> -0.0022055582 | K65: =IF(D65=0,ABS(J65)," ") -> 0.0022055582
B66: =Projections!B66 -> 1991 | C66: =Projections!C66 -> M11 | D66: 0 | E66: =IF(D66=0,F66," ") -> 128.9 | F66: =Projections!E66 -> 128.9 | G66: =Projections!R66 -> 129.7514 | H66: =IF(D66=0,G66," ") -> 129.7514 | I66: =IF(D66=0,G66-E66," ") -> 0.85140211 | J66: =IF(D66=0,I66/E66," ") -> 0.0066051366 | K66: =IF(D66=0,ABS(J66)," ") -> 0.0066051366
B67: =Projections!B67 -> 1991 | C67: =Projections!C67 -> M12 | D67: 0 | E67: =IF(D67=0,F67," ") -> 129.2 | F67: =Projections!E67 -> 129.2 | G67: =Projections!R67 -> 129.66146 | H67: =IF(D67=0,G67," ") -> 129.66146 | I67: =IF(D67=0,G67-E67," ") -> 0.46146396 | J67: =IF(D67=0,I67/E67," ") -> 0.0035717025 | K67: =IF(D67=0,ABS(J67)," ") -> 0.0035717025
A68: =B68 -> 1992 | B68: =Projections!B68 -> 1992 | C68: =Projections!C68 -> M01 | D68: 0 | E68: =IF(D68=0,F68," ") -> 130 | F68: =Projections!E68 -> 130 | G68: =Projections!R68 -> 130.33764 | H68: =IF(D68=0,G68," ") -> 130.33764 | I68: =IF(D68=0,G68-E68," ") -> 0.33764396 | J68: =IF(D68=0,I68/E68," ") -> 0.0025972612 | K68: =IF(D68=0,ABS(J68)," ") -> 0.0025972612
B69: =Projections!B69 -> 1992 | C69: =Projections!C69 -> M02 | D69: 0 | E69: =IF(D69=0,F69," ") -> 130.5 | F69: =Projections!E69 -> 130.5 | G69: =Projections!R69 -> 130.20096 | H69: =IF(D69=0,G69," ") -> 130.20096 | I69: =IF(D69=0,G69-E69," ") -> -0.29904148 | J69: =IF(D69=0,I69/E69," ") -> -0.0022915056 | K69: =IF(D69=0,ABS(J69)," ") -> 0.0022915056
B70: =Projections!B70 -> 1992 | C70: =Projections!C70 -> M03 | D70: 0 | E70: =IF(D70=0,F70," ") -> 131 | F70: =Projections!E70 -> 131 | G70: =Projections!R70 -> 129.89229 | H70: =IF(D70=0,G70," ") -> 129.89229 | I70: =IF(D70=0,G70-E70," ") -> -1.1077075 | J70: =IF(D70=0,I70/E70," ") -> -0.0084557828 | K70: =IF(D70=0,ABS(J70)," ") -> 0.0084557828
B71: =Projections!B71 -> 1992 | C71: =Projections!C71 -> M04 | D71: 0 | E71: =IF(D71=0,F71," ") -> 131.4 | F71: =Projections!E71 -> 131.4 | G71: =Projections!R71 -> 131.19507 | H71: =IF(D71=0,G71," ") -> 131.19507 | I71: =IF(D71=0,G71-E71," ") -> -0.20492733 | J71: =IF(D71=0,I71/E71," ") -> -0.0015595687 | K71: =IF(D71=0,ABS(J71)," ") -> 0.0015595687
B72: =Projections!B72 -> 1992 | C72: =Projections!C72 -> M05 | D72: 0 | E72: =IF(D72=0,F72," ") -> 131.6 | F72: =Projections!E72 -> 131.6 | G72: =Projections!R72 -> 131.10204 | H72: =IF(D72=0,G72," ") -> 131.10204 | I72: =IF(D72=0,G72-E72," ") -> -0.49796035 | J72: =IF(D72=0,I72/E72," ") -> -0.0037838933 | K72: =IF(D72=0,ABS(J72)," ") -> 0.0037838933
B73: =Projections!B73 -> 1992 | C73: =Projections!C73 -> M06 | D73: 0 | E73: =IF(D73=0,F73," ") -> 131.6 | F73: =Projections!E73 -> 131.6 | G73: =Projections!R73 -> 131.6042 | H73: =IF(D73=0,G73," ") -> 131.6042 | I73: =IF(D73=0,G73-E73," ") -> 0.0041984477 | J73: =IF(D73=0,I73/E73," ") -> 3.1903098e-05 | K73: =IF(D73=0,ABS(J73)," ") -> 3.1903098e-05
B74: =Projections!B74 -> 1992 | C74: =Projections!C74 -> M07 | D74: 0 | E74: =IF(D74=0,F74," ") -> 132 | F74: =Projections!E74 -> 132 | G74: =Projections!R74 -> 131.21313 | H74: =IF(D74=0,G74," ") -> 131.21313 | I74: =IF(D74=0,G74-E74," ") -> -0.78686678 | J74: =IF(D74=0,I74/E74," ") -> -0.005961112 | K74: =IF(D74=0,ABS(J74)," ") -> 0.005961112
B75: =Projections!B75 -> 1992 | C75: =Projections!C75 -> M08 | D75: 0 | E75: =IF(D75=0,F75," ") -> 131.6 | F75: =Projections!E75 -> 131.6 | G75: =Projections!R75 -> 131.73533 | H75: =IF(D75=0,G75," ") -> 131.73533 | I75: =IF(D75=0,G75-E75," ") -> 0.13533006 | J75: =IF(D75=0,I75/E75," ") -> 0.0010283439 | K75: =IF(D75=0,ABS(J75)," ") -> 0.0010283439
B76: =Projections!B76 -> 1992 | C76: =Projections!C76 -> M09 | D76: 0 | E76: =IF(D76=0,F76," ") -> 131.9 | F76: =Projections!E76 -> 131.9 | G76: =Projections!R76 -> 130.75204 | H76: =IF(D76=0,G76," ") -> 130.75204 | I76: =IF(D76=0,G76-E76," ") -> -1.1479582 | J76: =IF(D76=0,I76/E76," ") -> -0.0087032467 | K76: =IF(D76=0,ABS(J76)," ") -> 0.0087032467
B77: =Projections!B77 -> 1992 | C77: =Projections!C77 -> M10 | D77: 0 | E77: =IF(D77=0,F77," ") -> 132.8 | F77: =Projections!E77 -> 132.8 | G77: =Projections!R77 -> 132.52697 | H77: =IF(D77=0,G77," ") -> 132.52697 | I77: =IF(D77=0,G77-E77," ") -> -0.2730307 | J77: =IF(D77=0,I77/E77," ") -> -0.0020559541 | K77: =IF(D77=0,ABS(J77)," ") -> 0.0020559541
B78: =Projections!B78 -> 1992 | C78: =Projections!C78 -> M11 | D78: 0 | E78: =IF(D78=0,F78," ") -> 133 | F78: =Projections!E78 -> 133 | G78: =Projections!R78 -> 133.41494 | H78: =IF(D78=0,G78," ") -> 133.41494 | I78: =IF(D78=0,G78-E78," ") -> 0.41494111 | J78: =IF(D78=0,I78/E78," ") -> 0.0031198579 | K78: =IF(D78=0,ABS(J78)," ") -> 0.0031198579
B79: =Projections!B79 -> 1992 | C79: =Projections!C79 -> M12 | D79: 0 | E79: =IF(D79=0,F79," ") -> 133.2 | F79: =Projections!E79 -> 133.2 | G79: =Projections!R79 -> 132.93382 | H79: =IF(D79=0,G79," ") -> 132.93382 | I79: =IF(D79=0,G79-E79," ") -> -0.26617749 | J79: =IF(D79=0,I79/E79," ") -> -0.0019983295 | K79: =IF(D79=0,ABS(J79)," ") -> 0.0019983295
A80: =B80 -> 1993 | B80: =Projections!B80 -> 1993 | C80: =Projections!C80 -> M01 | D80: 0 | E80: =IF(D80=0,F80," ") -> 133.8 | F80: =Projections!E80 -> 133.8 | G80: =Projections!R80 -> 133.50974 | H80: =IF(D80=0,G80," ") -> 133.50974 | I80: =IF(D80=0,G80-E80," ") -> -0.29026411 | J80: =IF(D80=0,I80/E80," ") -> -0.002169388 | K80: =IF(D80=0,ABS(J80)," ") -> 0.002169388
B81: =Projections!B81 -> 1993 | C81: =Projections!C81 -> M02 | D81: 0 | E81: =IF(D81=0,F81," ") -> 134.1 | F81: =Projections!E81 -> 134.1 | G81: =Projections!R81 -> 133.94174 | H81: =IF(D81=0,G81," ") -> 133.94174 | I81: =IF(D81=0,G81-E81," ") -> -0.15826343 | J81: =IF(D81=0,I81/E81," ") -> -0.0011801896 | K81: =IF(D81=0,ABS(J81)," ") -> 0.0011801896
B82: =Projections!B82 -> 1993 | C82: =Projections!C82 -> M03 | D82: 0 | E82: =IF(D82=0,F82," ") -> 134.2 | F82: =Projections!E82 -> 134.2 | G82: =Projections!R82 -> 134.59625 | H82: =IF(D82=0,G82," ") -> 134.59625 | I82: =IF(D82=0,G82-E82," ") -> 0.39624858 | J82: =IF(D82=0,I82/E82," ") -> 0.002952672 | K82: =IF(D82=0,ABS(J82)," ") -> 0.002952672
B83: =Projections!B83 -> 1993 | C83: =Projections!C83 -> M04 | D83: 0 | E83: =IF(D83=0,F83," ") -> 135.1 | F83: =Projections!E83 -> 135.1 | G83: =Projections!R83 -> 135.70239 | H83: =IF(D83=0,G83," ") -> 135.70239 | I83: =IF(D83=0,G83-E83," ") -> 0.60238826 | J83: =IF(D83=0,I83/E83," ") -> 0.0044588324 | K83: =IF(D83=0,ABS(J83)," ") -> 0.0044588324
B84: =Projections!B84 -> 1993 | C84: =Projections!C84 -> M05 | D84: 0 | E84: =IF(D84=0,F84," ") -> 136 | F84: =Projections!E84 -> 136 | G84: =Projections!R84 -> 135.99626 | H84: =IF(D84=0,G84," ") -> 135.99626 | I84: =IF(D84=0,G84-E84," ") -> -0.0037423316 | J84: =IF(D84=0,I84/E84," ") -> -2.7517144e-05 | K84: =IF(D84=0,ABS(J84)," ") -> 2.7517144e-05
B85: =Projections!B85 -> 1993 | C85: =Projections!C85 -> M06 | D85: 0 | E85: =IF(D85=0,F85," ") -> 136.2 | F85: =Projections!E85 -> 136.2 | G85: =Projections!R85 -> 136.43409 | H85: =IF(D85=0,G85," ") -> 136.43409 | I85: =IF(D85=0,G85-E85," ") -> 0.2340866 | J85: =IF(D85=0,I85/E85," ") -> 0.0017186975 | K85: =IF(D85=0,ABS(J85)," ") -> 0.0017186975
B86: =Projections!B86 -> 1993 | C86: =Projections!C86 -> M07 | D86: 0 | E86: =IF(D86=0,F86," ") -> 136.5 | F86: =Projections!E86 -> 136.5 | G86: =Projections!R86 -> 136.64479 | H86: =IF(D86=0,G86," ") -> 136.64479 | I86: =IF(D86=0,G86-E86," ") -> 0.14478503 | J86: =IF(D86=0,I86/E86," ") -> 0.0010606962 | K86: =IF(D86=0,ABS(J86)," ") -> 0.0010606962
B87: =Projections!B87 -> 1993 | C87: =Projections!C87 -> M08 | D87: 0 | E87: =IF(D87=0,F87," ") -> 136.4 | F87: =Projections!E87 -> 136.4 | G87: =Projections!R87 -> 136.93532 | H87: =IF(D87=0,G87," ") -> 136.93532 | I87: =IF(D87=0,G87-E87," ") -> 0.53532348 | J87: =IF(D87=0,I87/E87," ") -> 0.0039246589 | K87: =IF(D87=0,ABS(J87)," ") -> 0.0039246589
B88: =Projections!B88 -> 1993 | C88: =Projections!C88 -> M09 | D88: 0 | E88: =IF(D88=0,F88," ") -> 136.6 | F88: =Projections!E88 -> 136.6 | G88: =Projections!R88 -> 137.23318 | H88: =IF(D88=0,G88," ") -> 137.23318 | I88: =IF(D88=0,G88-E88," ") -> 0.63317875 | J88: =IF(D88=0,I88/E88," ") -> 0.0046352763 | K88: =IF(D88=0,ABS(J88)," ") -> 0.0046352763
B89: =Projections!B89 -> 1993 | C89: =Projections!C89 -> M10 | D89: 0 | E89: =IF(D89=0,F89," ") -> 136.8 | F89: =Projections!E89 -> 136.8 | G89: =Projections!R89 -> 135.97124 | H89: =IF(D89=0,G89," ") -> 135.97124 | I89: =IF(D89=0,G89-E89," ") -> -0.82875971 | J89: =IF(D89=0,I89/E89," ") -> -0.006058185 | K89: =IF(D89=0,ABS(J89)," ") -> 0.006058185
B90: =Projections!B90 -> 1993 | C90: =Projections!C90 -> M11 | D90: 0 | E90: =IF(D90=0,F90," ") -> 137.1 | F90: =Projections!E90 -> 137.1 | G90: =Projections!R90 -> 137.24974 | H90: =IF(D90=0,G90," ") -> 137.24974 | I90: =IF(D90=0,G90-E90," ") -> 0.14973548 | J90: =IF(D90=0,I90/E90," ") -> 0.0010921625 | K90: =IF(D90=0,ABS(J90)," ") -> 0.0010921625
B91: =Projections!B91 -> 1993 | C91: =Projections!C91 -> M12 | D91: 0 | E91: =IF(D91=0,F91," ") -> 137.5 | F91: =Projections!E91 -> 137.5 | G91: =Projections!R91 -> 137.58019 | H91: =IF(D91=0,G91," ") -> 137.58019 | I91: =IF(D91=0,G91-E91," ") -> 0.080192115 | J91: =IF(D91=0,I91/E91," ") -> 0.00058321538 | K91: =IF(D91=0,ABS(J91)," ") -> 0.00058321538
A92: =B92 -> 1994 | B92: =Projections!B92 -> 1994 | C92: =Projections!C92 -> M01 | D92: 0 | E92: =IF(D92=0,F92," ") -> 138.1 | F92: =Projections!E92 -> 138.1 | G92: =Projections!R92 -> 137.90177 | H92: =IF(D92=0,G92," ") -> 137.90177 | I92: =IF(D92=0,G92-E92," ") -> -0.19822669 | J92: =IF(D92=0,I92/E92," ") -> -0.0014353852 | K92: =IF(D92=0,ABS(J92)," ") -> 0.0014353852
B93: =Projections!B93 -> 1994 | C93: =Projections!C93 -> M02 | D93: 0 | E93: =IF(D93=0,F93," ") -> 139.3 | F93: =Projections!E93 -> 139.3 | G93: =Projections!R93 -> 138.80084 | H93: =IF(D93=0,G93," ") -> 138.80084 | I93: =IF(D93=0,G93-E93," ") -> -0.49916457 | J93: =IF(D93=0,I93/E93," ") -> -0.0035833781 | K93: =IF(D93=0,ABS(J93)," ") -> 0.0035833781
B94: =Projections!B94 -> 1994 | C94: =Projections!C94 -> M03 | D94: 0 | E94: =IF(D94=0,F94," ") -> 139.9 | F94: =Projections!E94 -> 139.9 | G94: =Projections!R94 -> 140.0089 | H94: =IF(D94=0,G94," ") -> 140.0089 | I94: =IF(D94=0,G94-E94," ") -> 0.10889682 | J94: =IF(D94=0,I94/E94," ") -> 0.00077839045 | K94: =IF(D94=0,ABS(J94)," ") -> 0.00077839045
B95: =Projections!B95 -> 1994 | C95: =Projections!C95 -> M04 | D95: 0 | E95: =IF(D95=0,F95," ") -> 140.9 | F95: =Projections!E95 -> 140.9 | G95: =Projections!R95 -> 141.2856 | H95: =IF(D95=0,G95," ") -> 141.2856 | I95: =IF(D95=0,G95-E95," ") -> 0.38560249 | J95: =IF(D95=0,I95/E95," ") -> 0.0027367103 | K95: =IF(D95=0,ABS(J95)," ") -> 0.0027367103
B96: =Projections!B96 -> 1994 | C96: =Projections!C96 -> M05 | D96: 0 | E96: =IF(D96=0,F96," ") -> 141.3 | F96: =Projections!E96 -> 141.3 | G96: =Projections!R96 -> 141.24765 | H96: =IF(D96=0,G96," ") -> 141.24765 | I96: =IF(D96=0,G96-E96," ") -> -0.05235353 | J96: =IF(D96=0,I96/E96," ") -> -0.00037051331 | K96: =IF(D96=0,ABS(J96)," ") -> 0.00037051331
B97: =Projections!B97 -> 1994 | C97: =Projections!C97 -> M06 | D97: 0 | E97: =IF(D97=0,F97," ") -> 141.6 | F97: =Projections!E97 -> 141.6 | G97: =Projections!R97 -> 141.36343 | H97: =IF(D97=0,G97," ") -> 141.36343 | I97: =IF(D97=0,G97-E97," ") -> -0.23656894 | J97: =IF(D97=0,I97/E97," ") -> -0.0016706846 | K97: =IF(D97=0,ABS(J97)," ") -> 0.0016706846
B98: =Projections!B98 -> 1994 | C98: =Projections!C98 -> M07 | D98: 0 | E98: =IF(D98=0,F98," ") -> 141.5 | F98: =Projections!E98 -> 141.5 | G98: =Projections!R98 -> 141.26431 | H98: =IF(D98=0,G98," ") -> 141.26431 | I98: =IF(D98=0,G98-E98," ") -> -0.23569202 | J98: =IF(D98=0,I98/E98," ") -> -0.001665668 | K98: =IF(D98=0,ABS(J98)," ") -> 0.001665668
B99: =Projections!B99 -> 1994 | C99: =Projections!C99 -> M08 | D99: 0 | E99: =IF(D99=0,F99," ") -> 141.9 | F99: =Projections!E99 -> 141.9 | G99: =Projections!R99 -> 141.27974 | H99: =IF(D99=0,G99," ") -> 141.27974 | I99: =IF(D99=0,G99-E99," ") -> -0.62025965 | J99: =IF(D99=0,I99/E99," ") -> -0.0043711039 | K99: =IF(D99=0,ABS(J99)," ") -> 0.0043711039
B100: =Projections!B100 -> 1994 | C100: =Projections!C100 -> M09 | D100: 0 | E100: =IF(D100=0,F100," ") -> 142.4 | F100: =Projections!E100 -> 142.4 | G100: =Projections!R100 -> 142.20979 | H100: =IF(D100=0,G100," ") -> 142.20979 | I100: =IF(D100=0,G100-E100," ") -> -0.1902059 | J100: =IF(D100=0,I100/E100," ") -> -0.0013357156 | K100: =IF(D100=0,ABS(J100)," ") -> 0.0013357156
B101: =Projections!B101 -> 1994 | C101: =Projections!C101 -> M10 | D101: 0 | E101: =IF(D101=0,F101," ") -> 142.8 | F101: =Projections!E101 -> 142.8 | G101: =Projections!R101 -> 142.94551 | H101: =IF(D101=0,G101," ") -> 142.94551 | I101: =IF(D101=0,G101-E101," ") -> 0.14551223 | J101: =IF(D101=0,I101/E101," ") -> 0.0010189932 | K101: =IF(D101=0,ABS(J101)," ") -> 0.0010189932
B102: =Projections!B102 -> 1994 | C102: =Projections!C102 -> M11 | D102: 0 | E102: =IF(D102=0,F102," ") -> 142.9 | F102: =Projections!E102 -> 142.9 | G102: =Projections!R102 -> 142.37931 | H102: =IF(D102=0,G102," ") -> 142.37931 | I102: =IF(D102=0,G102-E102," ") -> -0.52069285 | J102: =IF(D102=0,I102/E102," ") -> -0.0036437568 | K102: =IF(D102=0,ABS(J102)," ") -> 0.0036437568
B103: =Projections!B103 -> 1994 | C103: =Projections!C103 -> M12 | D103: 0 | E103: =IF(D103=0,F103," ") -> 143 | F103: =Projections!E103 -> 143 | G103: =Projections!R103 -> 143.20108 | H103: =IF(D103=0,G103," ") -> 143.20108 | I103: =IF(D103=0,G103-E103," ") -> 0.20107707 | J103: =IF(D103=0,I103/E103," ") -> 0.0014061334 | K103: =IF(D103=0,ABS(J103)," ") -> 0.0014061334
A104: =B104 -> 1995 | B104: =Projections!B104 -> 1995 | C104: =Projections!C104 -> M01 | D104: 0 | E104: =IF(D104=0,F104," ") -> 143.6 | F104: =Projections!E104 -> 143.6 | G104: =Projections!R104 -> 144.28615 | H104: =IF(D104=0,G104," ") -> 144.28615 | I104: =IF(D104=0,G104-E104," ") -> 0.68614859 | J104: =IF(D104=0,I104/E104," ") -> 0.0047781935 | K104: =IF(D104=0,ABS(J104)," ") -> 0.0047781935
...
